BEGIN:VCALENDAR
VERSION:2.0
PRODID:-//木の室内創造あそび場「感性の森」 - ECPv6.13.2.1//NONSGML v1.0//EN
CALSCALE:GREGORIAN
METHOD:PUBLISH
X-WR-CALNAME:木の室内創造あそび場「感性の森」
X-ORIGINAL-URL:https://kanseinomori.com/calendar
X-WR-CALDESC:木の室内創造あそび場「感性の森」 のイベント
REFRESH-INTERVAL;VALUE=DURATION:PT1H
X-Robots-Tag:noindex
X-PUBLISHED-TTL:PT1H
BEGIN:VTIMEZONE
TZID:Asia/Tokyo
BEGIN:STANDARD
TZOFFSETFROM:+0900
TZOFFSETTO:+0900
TZNAME:JST
DTSTART:20200101T000000
END:STANDARD
END:VTIMEZONE
BEGIN:VEVENT
DTSTART;VALUE=DATE:20260401
DTEND;VALUE=DATE:20260501
DTSTAMP:20260421T222104
CREATED:20260401T010713Z
LAST-MODIFIED:20260401T054648Z
UID:5432-1775001600-1777593599@kanseinomori.com
SUMMARY:4月 えほんの読み聞かせ・親子ふれあい遊びのお知らせ
DESCRIPTION:  \n感性の森の絵本コーナーにて、赤ちゃんヨガ・ベビーマッサージサロン カラフル講師：おおはし かすみ先生をお招きして、絵本の読み聞かせ・親子でできるふれあい遊びのイベントを開催いたします！ \n開催内容が変更・延期・中止になる場合がございますので予めご了承ください。 \n皆様のご来店お待ちしております！
URL:https://kanseinomori.com/calendar/event/3%e6%9c%88-%e7%b5%b5%e6%9c%ac%e3%81%ae%e8%aa%ad%e3%81%bf%e8%81%9e%e3%81%8b%e3%81%9b%e3%83%bb%e8%a6%aa%e5%ad%90%e3%81%b5%e3%82%8c%e3%81%82%e3%81%84%e9%81%8a%e3%81%b3/
END:VEVENT
BEGIN:VEVENT
DTSTART;VALUE=DATE:20260401
DTEND;VALUE=DATE:20260406
DTSTAMP:20260421T222104
CREATED:20260323T042326Z
LAST-MODIFIED:20260323T042326Z
UID:5462-1775001600-1775433599@kanseinomori.com
SUMMARY:イースターイベントのお知らせ★
DESCRIPTION:開催内容が変更・延期・中止になる場合がございますので予めご了承ください。 \n皆様のご来店お待ちしております！ \n 
URL:https://kanseinomori.com/calendar/event/%e3%82%a4%e3%83%bc%e3%82%b9%e3%82%bf%e3%83%bc%e3%82%a4%e3%83%99%e3%83%b3%e3%83%88%e3%81%ae%e3%81%8a%e7%9f%a5%e3%82%89%e3%81%9b%e2%98%85/
END:VEVENT
BEGIN:VEVENT
DTSTART;VALUE=DATE:20260323
DTEND;VALUE=DATE:20260404
DTSTAMP:20260421T222104
CREATED:20260323T042220Z
LAST-MODIFIED:20260323T042220Z
UID:5460-1774224000-1775260799@kanseinomori.com
SUMMARY:★春休みお友達割引キャンペーン★
DESCRIPTION:  \n開催内容が変更・延期・中止になる場合がございますので予めご了承ください。 \n皆様のご来店お待ちしております！
URL:https://kanseinomori.com/calendar/event/%e2%98%85%e6%98%a5%e4%bc%91%e3%81%bf%e3%81%8a%e5%8f%8b%e9%81%94%e5%89%b2%e5%bc%95%e3%82%ad%e3%83%a3%e3%83%b3%e3%83%9a%e3%83%bc%e3%83%b3%e2%98%85/
END:VEVENT
BEGIN:VEVENT
DTSTART;VALUE=DATE:20251201
DTEND;VALUE=DATE:20251231
DTSTAMP:20260421T222104
CREATED:20251126T010022Z
LAST-MODIFIED:20251126T022151Z
UID:4321-1764547200-1767139199@kanseinomori.com
SUMMARY:１２月 絵本の読み聞かせ・親子ふれあい遊び
DESCRIPTION:感性の森の絵本コーナーにて、赤ちゃんヨガ・ベビーマッサージサロン カラフル講師：おおはし かすみ先生をお招きして、絵本の読み聞かせ・親子でできるふれあい遊びのイベントを開催いたします！ \n \n参加無料！みなさまのご参加お待ちしております。
URL:https://kanseinomori.com/calendar/event/%e2%98%86%e6%84%9f%e6%80%a7%e3%81%ae%e6%a3%ae-%e7%b5%b5%e6%9c%ac%e3%81%ae%e8%aa%ad%e3%81%bf%e8%81%9e%e3%81%8b%e3%81%9b%e3%83%bb%e8%a6%aa%e5%ad%90%e3%81%b5%e3%82%8c%e3%81%82%e3%81%84%e9%81%8a-2-3/
CATEGORIES:予約不要,無料
END:VEVENT
BEGIN:VEVENT
DTSTART;VALUE=DATE:20251201
DTEND;VALUE=DATE:20251226
DTSTAMP:20260421T222104
CREATED:20251126T010037Z
LAST-MODIFIED:20251126T064728Z
UID:5004-1764547200-1766707199@kanseinomori.com
SUMMARY:★サンタブーツくじ引き★１2月平日ご来場のお子様限定！12/1～12/25
DESCRIPTION:  \n \n  \n開催内容が変更・延期・中止になる場合がございますので予めご了承ください。
URL:https://kanseinomori.com/calendar/event/12%e6%9c%88%e3%80%80%e5%b9%b3%e6%97%a5%e3%83%af%e3%83%bc%e3%82%af%e3%82%b7%e3%83%a7%e3%83%83%e3%83%97%e3%81%ae%e3%81%8a%e7%9f%a5%e3%82%89%e3%81%9b-2-2-3/
CATEGORIES:予約不要
END:VEVENT
BEGIN:VEVENT
DTSTART;VALUE=DATE:20251201
DTEND;VALUE=DATE:20260101
DTSTAMP:20260421T222104
CREATED:20251117T010009Z
LAST-MODIFIED:20251117T015201Z
UID:4719-1764547200-1767225599@kanseinomori.com
SUMMARY:１２月休日ワークショップのお知らせ
DESCRIPTION:  \n皆様のご参加をお待ちしております。 \n 
URL:https://kanseinomori.com/calendar/event/12%e6%9c%88%e3%80%80%e5%b9%b3%e6%97%a5%e3%83%af%e3%83%bc%e3%82%af%e3%82%b7%e3%83%a7%e3%83%83%e3%83%97%e3%81%ae%e3%81%8a%e7%9f%a5%e3%82%89%e3%81%9b-2-2-2-2/
CATEGORIES:予約不要,有料
END:VEVENT
BEGIN:VEVENT
DTSTART;VALUE=DATE:20250701
DTEND;VALUE=DATE:20250801
DTSTAMP:20260421T222104
CREATED:20250619T025745Z
LAST-MODIFIED:20250619T041543Z
UID:5253-1751328000-1754006399@kanseinomori.com
SUMMARY:7月 休日ワークショップのお知らせ
DESCRIPTION:皆様のご参加をお待ちしております。 \n開催内容が変更・延期・中止になる場合がございますので予めご了承ください。
URL:https://kanseinomori.com/calendar/event/12%e6%9c%88%e3%80%80%e5%b9%b3%e6%97%a5%e3%83%af%e3%83%bc%e3%82%af%e3%82%b7%e3%83%a7%e3%83%83%e3%83%97%e3%81%ae%e3%81%8a%e7%9f%a5%e3%82%89%e3%81%9b-2-2-2-2-2/
CATEGORIES:予約不要,有料
END:VEVENT
BEGIN:VEVENT
DTSTART;VALUE=DATE:20250501
DTEND;VALUE=DATE:20250601
DTSTAMP:20260421T222104
CREATED:20250511T040911Z
LAST-MODIFIED:20250511T041108Z
UID:5232-1746057600-1748735999@kanseinomori.com
SUMMARY:５月 休日ワークショップのお知らせ
DESCRIPTION:ぜひこの機会に、ご家族でのご参加をお待ちしております。 \n開催内容が変更・延期・中止になる場合がございますので予めご了承ください。
URL:https://kanseinomori.com/calendar/event/12%e6%9c%88%e3%80%80%e5%b9%b3%e6%97%a5%e3%83%af%e3%83%bc%e3%82%af%e3%82%b7%e3%83%a7%e3%83%83%e3%83%97%e3%81%ae%e3%81%8a%e7%9f%a5%e3%82%89%e3%81%9b-2-2-4-2-2-2/
CATEGORIES:予約不要,有料
END:VEVENT
BEGIN:VEVENT
DTSTART;VALUE=DATE:20250101
DTEND;VALUE=DATE:20250130
DTSTAMP:20260421T222104
CREATED:20250104T010053Z
LAST-MODIFIED:20250104T051105Z
UID:4649-1735689600-1738195199@kanseinomori.com
SUMMARY:１月 絵本の読み聞かせ・親子ふれあい遊び
DESCRIPTION:感性の森の絵本コーナーにて、赤ちゃんヨガ・ベビーマッサージサロン カラフル講師：おおはし かすみ先生をお招きして、絵本の読み聞かせ・親子でできるふれあい遊びのイベントを開催いたします！ \n \n参加無料！みなさまのご参加お待ちしております。
URL:https://kanseinomori.com/calendar/event/%e2%98%86%e6%84%9f%e6%80%a7%e3%81%ae%e6%a3%ae-%e7%b5%b5%e6%9c%ac%e3%81%ae%e8%aa%ad%e3%81%bf%e8%81%9e%e3%81%8b%e3%81%9b%e3%83%bb%e8%a6%aa%e5%ad%90%e3%81%b5%e3%82%8c%e3%81%82%e3%81%84%e9%81%8a-2-3-2/
CATEGORIES:予約不要,無料
END:VEVENT
BEGIN:VEVENT
DTSTART;VALUE=DATE:20231225
DTEND;VALUE=DATE:20231230
DTSTAMP:20260421T222104
CREATED:20231222T010038Z
LAST-MODIFIED:20231222T010539Z
UID:4908-1703462400-1703894399@kanseinomori.com
SUMMARY:12月 アロマクラフト
DESCRIPTION:感性の森ワークショップルームにて、赤ちゃんから使えるクリーム作りを開催いたします。 \n \n開催日時　12月25日(月)・27日(水)・29日(金) 13時00分～15時00分 \nみなさまのご参加お待ちしております。
URL:https://kanseinomori.com/calendar/event/%e2%98%86%e6%84%9f%e6%80%a7%e3%81%ae%e6%a3%ae-%e7%b5%b5%e6%9c%ac%e3%81%ae%e8%aa%ad%e3%81%bf%e8%81%9e%e3%81%8b%e3%81%9b%e3%83%bb%e8%a6%aa%e5%ad%90%e3%81%b5%e3%82%8c%e3%81%82%e3%81%84%e9%81%8a-2-3-2-2/
CATEGORIES:予約不要,有料
END:VEVENT
BEGIN:VEVENT
DTSTART;TZID=Asia/Tokyo:20230611T130000
DTEND;TZID=Asia/Tokyo:20230611T150000
DTSTAMP:20260421T222104
CREATED:20230430T010028Z
LAST-MODIFIED:20230504T051257Z
UID:4097-1686488400-1686495600@kanseinomori.com
SUMMARY:６月 輝きベビーメソッド　体験会 in 感性の森
DESCRIPTION:詳細・お申し込みはInstagramよりDMまたは無料公式LINEから \n \n 
URL:https://kanseinomori.com/calendar/event/%e8%bc%9d%e3%81%8d%e3%83%99%e3%83%93%e3%83%bc%e3%83%a1%e3%82%bd%e3%83%83%e3%83%88%e3%80%80%e4%bd%93%e9%a8%93%e3%83%bb%e8%aa%ac%e6%98%8e%e4%bc%9a-in-%e6%84%9f%e6%80%a7%e3%81%ae%e6%a3%ae/
CATEGORIES:有料,要予約
END:VEVENT
BEGIN:VEVENT
DTSTART;VALUE=DATE:20220608
DTEND;VALUE=DATE:20220630
DTSTAMP:20260421T222104
CREATED:20220608T010008Z
LAST-MODIFIED:20220608T045929Z
UID:4103-1654646400-1656547199@kanseinomori.com
SUMMARY:☆ベビーマッサージ☆
DESCRIPTION:おやこで遊んで一緒に歌おう♪\n\n感性の森\nベビーマッサージ\n\n\n\n\n　　　詳しいご案内、参加方法はこちらをご覧下さい。⇊⇊ \n\n\n\n\n\n\n  \n 
URL:https://kanseinomori.com/calendar/event/%e3%82%aa%e3%83%aa%e3%82%b8%e3%83%8a%e3%83%ab%e3%83%90%e3%83%83%e3%82%af%e3%82%92%e4%bd%9c%e3%82%8d%e3%81%86%ef%bc%81-7-2-2-2-4-2-2-3-4-2-2-2-2-3-3-3-3-2-2-3-3-3-2-2-3-2-2-3-3-3-3-3-3-3-5-3-3-3-3-2-11/
CATEGORIES:有料,要予約
END:VEVENT
BEGIN:VEVENT
DTSTART;VALUE=DATE:20220301
DTEND;VALUE=DATE:20220401
DTSTAMP:20260421T222104
CREATED:20220224T010055Z
LAST-MODIFIED:20220304T011316Z
UID:4193-1646092800-1648771199@kanseinomori.com
SUMMARY:ハピネスリトミック♪
DESCRIPTION:学びの原点にはママの笑顔が☆お子さんがリトミックを通じ、音感、 \nリズム感、集中力を養うのはもちろん、ママも一緒に楽しめてリフレッシュ \nできるのがハピネスリトミックです♪　小野寺郁子 \n  \n\n〇１月～３月のレッスン\n1月12日(水)・26日(水)\n2月2日(水)・16日(水)\n3月2日(水)・16日(水)・30日(水)：ベビー体験会\n◯時間→１０時２０分からキッズ(１歳半〜)\n       　　１１時２０分からベビー(生後３ヶ月〜１歳５ヶ月)\n\n\n\n詳しいご案内、参加方法はこちらをご覧下さい。\n\n\n\n\n\n◯ハピネスリトミック　ホームページ→https://www.eurhythmics-sendai.com\n\n\n\n\n\n≪注意事項≫\n\n\n・受付時に参加者の方は、感性の森会員カードをご提示頂くか、 \n初めての方は「施設利用登録申込書」のご記入の上、会員カードを \n発行致します。 \n※事前にホームページから申込書をダウンロードしてご記入頂くと入場が \nスムーズです。 \n・イベント前後に遊戯をされる場合、別途入場料が必要となります。 \n  \n 
URL:https://kanseinomori.com/calendar/event/%e3%82%aa%e3%83%aa%e3%82%b8%e3%83%8a%e3%83%ab%e3%83%90%e3%83%83%e3%82%af%e3%82%92%e4%bd%9c%e3%82%8d%e3%81%86%ef%bc%81-7-2-2-2-4-2-2-3-4-2-2-2-2-3-3-3-3-2-2-3-3-3-2-2-3-2-2-3-3-3-3-3-3-3-5-3-3-3-3-2-18/
CATEGORIES:有料,要予約
END:VEVENT
BEGIN:VEVENT
DTSTART;VALUE=DATE:20211101
DTEND;VALUE=DATE:20211125
DTSTAMP:20260421T222104
CREATED:20211027T002336Z
LAST-MODIFIED:20211027T025830Z
UID:4173-1635724800-1637798399@kanseinomori.com
SUMMARY:ハピネスリトミック♪
DESCRIPTION:学びの原点にはママの笑顔が☆お子さんがリトミックを通じ、音感、 \nリズム感、集中力を養うのはもちろん、ママも一緒に楽しめてリフレッシュ \nできるのがハピネスリトミックです♪　小野寺郁子 \n  \n\n〇11月のレッスン→11月10日(水)　24日(水)\n◯時間→１０時２０分からキッズ(１歳半〜)\n       　　１１時２０分からベビー(生後３ヶ月〜１歳５ヶ月)\n\n\n\n詳しいご案内、参加方法はこちらをご覧下さい。\n\n\n\n\n\n◯ハピネスリトミック　ホームページ→https://www.eurhythmics-sendai.com\n\n\n\n\n\n≪注意事項≫\n\n\n・受付時に参加者の方は、感性の森会員カードをご提示頂くか、 \n初めての方は「施設利用登録申込書」のご記入の上、会員カードを \n発行致します。 \n※事前にホームページから申込書をダウンロードしてご記入頂くと入場が \nスムーズです。 \n・イベント前後に遊戯をされる場合、別途入場料が必要となります。 \n  \n 
URL:https://kanseinomori.com/calendar/event/%e3%82%aa%e3%83%aa%e3%82%b8%e3%83%8a%e3%83%ab%e3%83%90%e3%83%83%e3%82%af%e3%82%92%e4%bd%9c%e3%82%8d%e3%81%86%ef%bc%81-7-2-2-2-4-2-2-3-4-2-2-2-2-3-3-3-3-2-2-3-3-3-2-2-3-2-2-3-3-3-3-3-3-3-5-3-3-3-3-2-17/
CATEGORIES:有料,要予約
END:VEVENT
BEGIN:VEVENT
DTSTART;VALUE=DATE:20211101
DTEND;VALUE=DATE:20211123
DTSTAMP:20260421T222104
CREATED:20211030T010042Z
LAST-MODIFIED:20211031T003730Z
UID:4149-1635724800-1637625599@kanseinomori.com
SUMMARY:☆感性の森 絵本の読み聞かせ・親子ふれあい遊び☆
DESCRIPTION:感性の森の絵本コーナーにて、赤ちゃんヨガ・ベビーマッサージサロン カラフル講師：大橋かすみ先生をお招きして、絵本の読み聞かせ・親子でできるふれあい遊びのイベントを開催いたします！ \n \n参加無料！みなさまのご参加お待ちしております。
URL:https://kanseinomori.com/calendar/event/%e2%98%86%e6%84%9f%e6%80%a7%e3%81%ae%e6%a3%ae-%e7%b5%b5%e6%9c%ac%e3%81%ae%e8%aa%ad%e3%81%bf%e8%81%9e%e3%81%8b%e3%81%9b%e3%83%bb%e8%a6%aa%e5%ad%90%e3%81%b5%e3%82%8c%e3%81%82%e3%81%84%e9%81%8a%e3%81%b3/
END:VEVENT
BEGIN:VEVENT
DTSTART;VALUE=DATE:20210901
DTEND;VALUE=DATE:20210930
DTSTAMP:20260421T222104
CREATED:20210922T011015Z
LAST-MODIFIED:20210922T022220Z
UID:4127-1630454400-1632959999@kanseinomori.com
SUMMARY:ハピネスリトミック♪
DESCRIPTION:学びの原点にはママの笑顔が☆お子さんがリトミックを通じ、音感、 \nリズム感、集中力を養うのはもちろん、ママも一緒に楽しめてリフレッシュ \nできるのがハピネスリトミックです♪　小野寺郁子 \n\n\n◯9月のレッスン→ 9月15日(水)　29日(水)\n◯時間→１０時２０分からキッズ(１歳半〜)\n       　　１１時２０分からベビー(生後３ヶ月〜１歳５ヶ月)\n\n\n\n\n\n詳しいご案内、参加方法はこちらをご覧下さい。\n\n\n\n\n\n◯ハピネスリトミック　ホームページ→https://www.eurhythmics-sendai.com\n\n\n\n\n\n≪注意事項≫\n\n\n・受付時に参加者の方は、感性の森会員カードをご提示頂くか、 \n初めての方は「施設利用登録申込書」のご記入の上、会員カードを \n発行致します。 \n※事前にホームページから申込書をダウンロードしてご記入頂くと入場が \nスムーズです。 \n・イベント前後に遊戯をされる場合、別途入場料が必要となります。 \n  \n 
URL:https://kanseinomori.com/calendar/event/%e3%82%aa%e3%83%aa%e3%82%b8%e3%83%8a%e3%83%ab%e3%83%90%e3%83%83%e3%82%af%e3%82%92%e4%bd%9c%e3%82%8d%e3%81%86%ef%bc%81-7-2-2-2-4-2-2-3-4-2-2-2-2-3-3-3-3-2-2-3-3-3-2-2-3-2-2-3-3-3-3-3-3-3-5-3-3-3-3-2-16/
CATEGORIES:有料,要予約
END:VEVENT
BEGIN:VEVENT
DTSTART;VALUE=DATE:20210701
DTEND;VALUE=DATE:20210801
DTSTAMP:20260421T222104
CREATED:20210619T060054Z
LAST-MODIFIED:20210720T021043Z
UID:4076-1625097600-1627775999@kanseinomori.com
SUMMARY:ハピネスリトミック♪
DESCRIPTION:学びの原点にはママの笑顔が☆お子さんがリトミックを通じ、音感、 \nリズム感、集中力を養うのはもちろん、ママも一緒に楽しめてリフレッシュ \nできるのがハピネスリトミックです♪　小野寺郁子 \n\n\n◯7月のレッスン→ 7月7日（水）、14日（水）\n◯時間→１０時２０分からキッズ(１歳半〜)\n       　　１１時２０分からベビー(生後３ヶ月〜１歳５ヶ月)\n\n\n\n\n\n詳しいご案内、参加方法はこちらをご覧下さい。\n\n\n\n\n\n◯ハピネスリトミック　ホームページ→https://www.eurhythmics-sendai.com\n\n\n\n\n\n≪注意事項≫\n\n\n・受付時に参加者の方は、感性の森会員カードをご提示頂くか、 \n初めての方は「施設利用登録申込書」のご記入の上、会員カードを \n発行致します。その際、初回登録料100円が別途必要です。 \n※事前にホームページから申込書をダウンロードしてご記入頂くと入場が \nスムーズです。 \n  \n・イベント前後に遊戯をされる場合、別途入場料が必要となります。 \n  \n・
URL:https://kanseinomori.com/calendar/event/%e3%82%aa%e3%83%aa%e3%82%b8%e3%83%8a%e3%83%ab%e3%83%90%e3%83%83%e3%82%af%e3%82%92%e4%bd%9c%e3%82%8d%e3%81%86%ef%bc%81-7-2-2-2-4-2-2-3-4-2-2-2-2-3-3-3-3-2-2-3-3-3-2-2-3-2-2-3-3-3-3-3-3-3-5-3-3-3-3-2-8/
CATEGORIES:有料,要予約
END:VEVENT
BEGIN:VEVENT
DTSTART;VALUE=DATE:20210601
DTEND;VALUE=DATE:20210624
DTSTAMP:20260421T222104
CREATED:20210619T051159Z
LAST-MODIFIED:20210619T051159Z
UID:4094-1622505600-1624492799@kanseinomori.com
SUMMARY:ハピネスリトミック♪
DESCRIPTION:学びの原点にはママの笑顔が☆お子さんがリトミックを通じ、音感、 \nリズム感、集中力を養うのはもちろん、ママも一緒に楽しめてリフレッシュ \nできるのがハピネスリトミックです♪　小野寺郁子 \n\n\n◯6月のレッスン→ 6月9日（水）、23日（水）\n◯時間→１０時２０分からキッズ(１歳半〜)\n       　　１１時２０分からベビー(生後３ヶ月〜１歳５ヶ月)\n\n\n\n\n\n詳しいご案内、参加方法はこちらをご覧下さい。\n\n\n\n\n\n◯ハピネスリトミック　ホームページ→https://www.eurhythmics-sendai.com\n\n\n\n\n\n≪注意事項≫\n\n\n・受付時に参加者の方は、感性の森会員カードをご提示頂くか、 \n初めての方は「施設利用登録申込書」のご記入の上、会員カードを \n発行致します。その際、初回登録料100円が別途必要です。 \n※事前にホームページから申込書をダウンロードしてご記入頂くと入場が \nスムーズです。 \n  \n・イベント前後に遊戯をされる場合、別途入場料が必要となります。 \n  \n・ 12時から13時は消毒、換気の為一時閉店となります。 \n午前の部でご入場されたお客様は13時から別料金となりますので、ご注意下さい。
URL:https://kanseinomori.com/calendar/event/%e3%82%aa%e3%83%aa%e3%82%b8%e3%83%8a%e3%83%ab%e3%83%90%e3%83%83%e3%82%af%e3%82%92%e4%bd%9c%e3%82%8d%e3%81%86%ef%bc%81-7-2-2-2-4-2-2-3-4-2-2-2-2-3-3-3-3-2-2-3-3-3-2-2-3-2-2-3-3-3-3-3-3-3-5-3-3-3-3-2-9/
CATEGORIES:有料,要予約
END:VEVENT
BEGIN:VEVENT
DTSTART;VALUE=DATE:20210501
DTEND;VALUE=DATE:20210601
DTSTAMP:20260421T222104
CREATED:20210420T050814Z
LAST-MODIFIED:20210420T050814Z
UID:4081-1619827200-1622505599@kanseinomori.com
SUMMARY:ハピネスリトミック♪
DESCRIPTION:学びの原点にはママの笑顔が☆お子さんがリトミックを通じ、音感、 \nリズム感、集中力を養うのはもちろん、ママも一緒に楽しめてリフレッシュ \nできるのがハピネスリトミックです♪　小野寺郁子 \n\n\n◯5月のレッスン→ 5月12日（水）、26日（水）\n◯時間→１０時２０分からキッズ(１歳半〜)\n       　　１１時２０分からベビー(生後３ヶ月〜１歳５ヶ月)\n\n\n\n\n\n詳しいご案内、参加方法はこちらをご覧下さい。\n\n\n\n\n\n◯ハピネスリトミック　ホームページ→https://www.eurhythmics-sendai.com\n\n\n\n\n\n≪注意事項≫\n\n\n・受付時に参加者の方は、感性の森会員カードをご提示頂くか、 \n初めての方は「施設利用登録申込書」のご記入の上、会員カードを \n発行致します。その際、初回登録料100円が別途必要です。 \n※事前にホームページから申込書をダウンロードしてご記入頂くと入場が \nスムーズです。 \n  \n・イベント前後に遊戯をされる場合、別途入場料が必要となります。 \n  \n・ 12時から13時は消毒、換気の為一時閉店となります。 \n午前の部でご入場されたお客様は13時から別料金となりますので、ご注意下さい。
URL:https://kanseinomori.com/calendar/event/%e3%82%aa%e3%83%aa%e3%82%b8%e3%83%8a%e3%83%ab%e3%83%90%e3%83%83%e3%82%af%e3%82%92%e4%bd%9c%e3%82%8d%e3%81%86%ef%bc%81-7-2-2-2-4-2-2-3-4-2-2-2-2-3-3-3-3-2-2-3-3-3-2-2-3-2-2-3-3-3-3-3-3-3-5-3-3-3-3-2-4/
CATEGORIES:有料,要予約
END:VEVENT
BEGIN:VEVENT
DTSTART;VALUE=DATE:20201216
DTEND;VALUE=DATE:20201217
DTSTAMP:20260421T222104
CREATED:20201114T012400Z
LAST-MODIFIED:20201114T012400Z
UID:3986-1608076800-1608163199@kanseinomori.com
SUMMARY:ハピネスリトミック♪
DESCRIPTION:学びの原点にはママの笑顔が☆お子さんがリトミックを通じ、音感、 \nリズム感、集中力を養うのはもちろん、ママも一緒に楽しめてリフレッシュ \nできるのがハピネスリトミックです♪　小野寺郁子 \n\n◯12月のレッスン→12月2日（水）、9日（水）、16日（水）\n\n◯時間→１０時２０分からキッズ(１歳半〜) \n\n　　　　１１時２０分からベビー(生後３ヶ月〜１歳５ヶ月)\n\n\n\n☆詳しいご案内、参加方法はこちらをご覧下さい。\n\n\n\n\n◯ハピネスリトミック　ホームページ→https://www.eurhythmics-sendai.com\n\n\n\n\n\n≪注意事項≫\n\n\n・受付時に参加者の方は、感性の森会員カードをご提示頂くか、 \n初めての方は「施設利用登録申込書」のご記入の上、会員カードを \n発行致します。その際、初回登録料100円が別途必要です。 \n※事前にホームページから申込書をダウンロードしてご記入頂くと入場が \nスムーズです。 \n  \n・イベント前後に遊戯をされる場合、別途入場料が必要となります。 \n  \n・ 12時から13時は消毒、換気の為一時閉店となります。 \n午前の部でご入場されたお客様は13時から別料金となりますので、ご注意下さい。
URL:https://kanseinomori.com/calendar/event/%e3%82%aa%e3%83%aa%e3%82%b8%e3%83%8a%e3%83%ab%e3%83%90%e3%83%83%e3%82%af%e3%82%92%e4%bd%9c%e3%82%8d%e3%81%86%ef%bc%81-7-2-2-2-4-2-2-3-4-2-2-2-2-3-3-3-3-2-2-3-3-3-2-2-3-2-2-3-3-3-3-3-3-3-5-3-3-3-3-2-12/
CATEGORIES:有料,要予約
END:VEVENT
BEGIN:VEVENT
DTSTART;VALUE=DATE:20201209
DTEND;VALUE=DATE:20201210
DTSTAMP:20260421T222104
CREATED:20201122T065742Z
LAST-MODIFIED:20201122T065742Z
UID:3985-1607472000-1607558399@kanseinomori.com
SUMMARY:ハピネスリトミック♪
DESCRIPTION:学びの原点にはママの笑顔が☆お子さんがリトミックを通じ、音感、 \nリズム感、集中力を養うのはもちろん、ママも一緒に楽しめてリフレッシュ \nできるのがハピネスリトミックです♪　小野寺郁子 \n\n◯12月のレッスン→12月日（水）、日（水）、日（水）\n\n◯時間→１０時２０分からキッズ(１歳半〜) \n\n　　　　１１時２０分からベビー(生後３ヶ月〜１歳５ヶ月)\n\n\n\n☆詳しいご案内、参加方法はこちらをご覧下さい。\n\n\n\n\n◯ハピネスリトミック　ホームページ→https://www.eurhythmics-sendai.com\n\n\n\n\n\n≪注意事項≫\n\n\n・受付時に参加者の方は、感性の森会員カードをご提示頂くか、 \n初めての方は「施設利用登録申込書」のご記入の上、会員カードを \n発行致します。その際、初回登録料100円が別途必要です。 \n※事前にホームページから申込書をダウンロードしてご記入頂くと入場が \nスムーズです。 \n  \n・イベント前後に遊戯をされる場合、別途入場料が必要となります。 \n  \n・ 12時から13時は消毒、換気の為一時閉店となります。 \n午前の部でご入場されたお客様は13時から別料金となりますので、ご注意下さい。
URL:https://kanseinomori.com/calendar/event/%e3%82%aa%e3%83%aa%e3%82%b8%e3%83%8a%e3%83%ab%e3%83%90%e3%83%83%e3%82%af%e3%82%92%e4%bd%9c%e3%82%8d%e3%81%86%ef%bc%81-7-2-2-2-4-2-2-3-4-2-2-2-2-3-3-3-3-2-2-3-3-3-2-2-3-2-2-3-3-3-3-3-3-3-5-3-3-3-3-2-14/
CATEGORIES:有料,要予約
END:VEVENT
BEGIN:VEVENT
DTSTART;VALUE=DATE:20201202
DTEND;VALUE=DATE:20201203
DTSTAMP:20260421T222104
CREATED:20201002T013636Z
LAST-MODIFIED:20201122T070019Z
UID:3956-1606867200-1606953599@kanseinomori.com
SUMMARY:ハピネスリトミック♪
DESCRIPTION:学びの原点にはママの笑顔が☆お子さんがリトミックを通じ、音感、 \nリズム感、集中力を養うのはもちろん、ママも一緒に楽しめてリフレッシュ \nできるのがハピネスリトミックです♪　小野寺郁子 \n\n◯12月のレッスン→12月日（水）、日（水）、日（水）\n\n◯時間→１０時２０分からキッズ(１歳半〜) \n\n　　　　１１時２０分からベビー(生後３ヶ月〜１歳５ヶ月)\n\n\n\n☆詳しいご案内、参加方法はこちらをご覧下さい。\n\n\n\n\n◯ハピネスリトミック　ホームページ→https://www.eurhythmics-sendai.com\n\n\n\n\n\n≪注意事項≫\n\n\n・受付時に参加者の方は、感性の森会員カードをご提示頂くか、 \n初めての方は「施設利用登録申込書」のご記入の上、会員カードを \n発行致します。その際、初回登録料100円が別途必要です。 \n※事前にホームページから申込書をダウンロードしてご記入頂くと入場が \nスムーズです。 \n  \n・イベント前後に遊戯をされる場合、別途入場料が必要となります。 \n  \n・ 12時から13時は消毒、換気の為一時閉店となります。 \n午前の部でご入場されたお客様は13時から別料金となりますので、ご注意下さい。
URL:https://kanseinomori.com/calendar/event/%e3%82%aa%e3%83%aa%e3%82%b8%e3%83%8a%e3%83%ab%e3%83%90%e3%83%83%e3%82%af%e3%82%92%e4%bd%9c%e3%82%8d%e3%81%86%ef%bc%81-7-2-2-2-4-2-2-3-4-2-2-2-2-3-3-3-3-2-2-3-3-3-2-2-3-2-2-3-3-3-3-3-3-3-5-3-3-3-3-2-7/
CATEGORIES:有料,要予約
END:VEVENT
BEGIN:VEVENT
DTSTART;VALUE=DATE:20201122
DTEND;VALUE=DATE:20201123
DTSTAMP:20260421T222104
CREATED:20201122T065914Z
LAST-MODIFIED:20201122T065914Z
UID:4002-1606003200-1606089599@kanseinomori.com
SUMMARY:ハピネスリトミック♪
DESCRIPTION:学びの原点にはママの笑顔が☆お子さんがリトミックを通じ、音感、 \nリズム感、集中力を養うのはもちろん、ママも一緒に楽しめてリフレッシュ \nできるのがハピネスリトミックです♪　小野寺郁子 \n\n◯12月のレッスン→12月2日（水）、9日（水）、16日（水）\n\n◯時間→１０時２０分からキッズ(１歳半〜) \n\n　　　　１１時２０分からベビー(生後３ヶ月〜１歳５ヶ月)\n\n\n\n☆詳しいご案内、参加方法はこちらをご覧下さい。\n\n\n\n\n◯ハピネスリトミック　ホームページ→https://www.eurhythmics-sendai.com\n\n\n\n\n\n≪注意事項≫\n\n\n・受付時に参加者の方は、感性の森会員カードをご提示頂くか、 \n初めての方は「施設利用登録申込書」のご記入の上、会員カードを \n発行致します。その際、初回登録料100円が別途必要です。 \n※事前にホームページから申込書をダウンロードしてご記入頂くと入場が \nスムーズです。 \n  \n・イベント前後に遊戯をされる場合、別途入場料が必要となります。 \n  \n・ 12時から13時は消毒、換気の為一時閉店となります。 \n午前の部でご入場されたお客様は13時から別料金となりますので、ご注意下さい。
URL:https://kanseinomori.com/calendar/event/%e3%82%aa%e3%83%aa%e3%82%b8%e3%83%8a%e3%83%ab%e3%83%90%e3%83%83%e3%82%af%e3%82%92%e4%bd%9c%e3%82%8d%e3%81%86%ef%bc%81-7-2-2-2-4-2-2-3-4-2-2-2-2-3-3-3-3-2-2-3-3-3-2-2-3-2-2-3-3-3-3-3-3-3-5-3-3-3-3-2-15/
CATEGORIES:有料,要予約
END:VEVENT
BEGIN:VEVENT
DTSTART;VALUE=DATE:20201122
DTEND;VALUE=DATE:20201123
DTSTAMP:20260421T222104
CREATED:20201122T065658Z
LAST-MODIFIED:20201122T065658Z
UID:3999-1606003200-1606089599@kanseinomori.com
SUMMARY:ハピネスリトミック♪
DESCRIPTION:学びの原点にはママの笑顔が☆お子さんがリトミックを通じ、音感、 \nリズム感、集中力を養うのはもちろん、ママも一緒に楽しめてリフレッシュ \nできるのがハピネスリトミックです♪　小野寺郁子 \n\n◯12月のレッスン→12月2日（水）、9日（水）、16日（水）\n\n◯時間→１０時２０分からキッズ(１歳半〜) \n\n　　　　１１時２０分からベビー(生後３ヶ月〜１歳５ヶ月)\n\n\n\n☆詳しいご案内、参加方法はこちらをご覧下さい。\n\n\n\n\n◯ハピネスリトミック　ホームページ→https://www.eurhythmics-sendai.com\n\n\n\n\n\n≪注意事項≫\n\n\n・受付時に参加者の方は、感性の森会員カードをご提示頂くか、 \n初めての方は「施設利用登録申込書」のご記入の上、会員カードを \n発行致します。その際、初回登録料100円が別途必要です。 \n※事前にホームページから申込書をダウンロードしてご記入頂くと入場が \nスムーズです。 \n  \n・イベント前後に遊戯をされる場合、別途入場料が必要となります。 \n  \n・ 12時から13時は消毒、換気の為一時閉店となります。 \n午前の部でご入場されたお客様は13時から別料金となりますので、ご注意下さい。
URL:https://kanseinomori.com/calendar/event/%e3%82%aa%e3%83%aa%e3%82%b8%e3%83%8a%e3%83%ab%e3%83%90%e3%83%83%e3%82%af%e3%82%92%e4%bd%9c%e3%82%8d%e3%81%86%ef%bc%81-7-2-2-2-4-2-2-3-4-2-2-2-2-3-3-3-3-2-2-3-3-3-2-2-3-2-2-3-3-3-3-3-3-3-5-3-3-3-3-2-13/
CATEGORIES:有料,要予約
END:VEVENT
BEGIN:VEVENT
DTSTART;VALUE=DATE:20201118
DTEND;VALUE=DATE:20201119
DTSTAMP:20260421T222104
CREATED:20200921T050931Z
LAST-MODIFIED:20200921T050931Z
UID:3937-1605657600-1605743999@kanseinomori.com
SUMMARY:ハピネスリトミック♪
DESCRIPTION:学びの原点にはママの笑顔が☆お子さんがリトミックを通じ、音感、 \nリズム感、集中力を養うのはもちろん、ママも一緒に楽しめてリフレッシュ \nできるのがハピネスリトミックです♪　小野寺郁子 \n\n◯11月のレッスン→11月4日（水）、11日（水）、18日（水）\n\n◯時間→１０時２０分からキッズ(１歳半〜) \n\n　　　　１１時２０分からベビー(生後３ヶ月〜１歳５ヶ月)\n\n\n\n☆詳しいご案内、参加方法はこちらをご覧下さい。\n\n\n\n\n◯ハピネスリトミック　ホームページ→https://www.eurhythmics-sendai.com\n\n\n\n\n\n≪注意事項≫\n\n\n・受付時に参加者の方は、感性の森会員カードをご提示頂くか、 \n初めての方は「施設利用登録申込書」のご記入の上、会員カードを \n発行致します。その際、初回登録料100円が別途必要です。 \n※事前にホームページから申込書をダウンロードしてご記入頂くと入場が \nスムーズです。 \n  \n・イベント前後に遊戯をされる場合、別途入場料が必要となります。 \n  \n・ 12時から13時は消毒、換気の為一時閉店となります。 \n午前の部でご入場されたお客様は13時から別料金となりますので、ご注意下さい。
URL:https://kanseinomori.com/calendar/event/%e3%82%aa%e3%83%aa%e3%82%b8%e3%83%8a%e3%83%ab%e3%83%90%e3%83%83%e3%82%af%e3%82%92%e4%bd%9c%e3%82%8d%e3%81%86%ef%bc%81-7-2-2-2-4-2-2-3-4-2-2-2-2-3-3-3-3-2-2-3-3-3-2-2-3-2-2-3-3-3-3-3-3-3-5-3-3-3-3-2-6/
CATEGORIES:有料,要予約
END:VEVENT
BEGIN:VEVENT
DTSTART;VALUE=DATE:20201111
DTEND;VALUE=DATE:20201112
DTSTAMP:20260421T222104
CREATED:20200921T050903Z
LAST-MODIFIED:20200921T050903Z
UID:3935-1605052800-1605139199@kanseinomori.com
SUMMARY:ハピネスリトミック♪
DESCRIPTION:学びの原点にはママの笑顔が☆お子さんがリトミックを通じ、音感、 \nリズム感、集中力を養うのはもちろん、ママも一緒に楽しめてリフレッシュ \nできるのがハピネスリトミックです♪　小野寺郁子 \n\n◯11月のレッスン→11月4日（水）、11日（水）、18日（水）\n\n◯時間→１０時２０分からキッズ(１歳半〜) \n\n　　　　１１時２０分からベビー(生後３ヶ月〜１歳５ヶ月)\n\n\n\n☆詳しいご案内、参加方法はこちらをご覧下さい。\n\n\n\n\n◯ハピネスリトミック　ホームページ→https://www.eurhythmics-sendai.com\n\n\n\n\n\n≪注意事項≫\n\n\n・受付時に参加者の方は、感性の森会員カードをご提示頂くか、 \n初めての方は「施設利用登録申込書」のご記入の上、会員カードを \n発行致します。その際、初回登録料100円が別途必要です。 \n※事前にホームページから申込書をダウンロードしてご記入頂くと入場が \nスムーズです。 \n  \n・イベント前後に遊戯をされる場合、別途入場料が必要となります。 \n  \n・ 12時から13時は消毒、換気の為一時閉店となります。 \n午前の部でご入場されたお客様は13時から別料金となりますので、ご注意下さい。
URL:https://kanseinomori.com/calendar/event/%e3%82%aa%e3%83%aa%e3%82%b8%e3%83%8a%e3%83%ab%e3%83%90%e3%83%83%e3%82%af%e3%82%92%e4%bd%9c%e3%82%8d%e3%81%86%ef%bc%81-7-2-2-2-4-2-2-3-4-2-2-2-2-3-3-3-3-2-2-3-3-3-2-2-3-2-2-3-3-3-3-3-3-3-5-3-3-3-3-2-5/
CATEGORIES:有料,要予約
END:VEVENT
BEGIN:VEVENT
DTSTART;VALUE=DATE:20201028
DTEND;VALUE=DATE:20201029
DTSTAMP:20260421T222104
CREATED:20200921T050704Z
LAST-MODIFIED:20200921T050704Z
UID:3931-1603843200-1603929599@kanseinomori.com
SUMMARY:ハピネスリトミック♪
DESCRIPTION:学びの原点にはママの笑顔が☆お子さんがリトミックを通じ、音感、 \nリズム感、集中力を養うのはもちろん、ママも一緒に楽しめてリフレッシュ \nできるのがハピネスリトミックです♪　小野寺郁子 \n\n◯10月のレッスン→10月7日（水）、21日（水）、28日（水）\n\n◯時間→１０時２０分からキッズ(１歳半〜) \n\n　　　　１１時２０分からベビー(生後３ヶ月〜１歳５ヶ月)\n\n\n\n☆詳しいご案内、参加方法はこちらをご覧下さい。\n\n\n\n\n◯ハピネスリトミック　ホームページ→https://www.eurhythmics-sendai.com\n\n\n\n\n\n≪注意事項≫\n\n\n・受付時に参加者の方は、感性の森会員カードをご提示頂くか、 \n初めての方は「施設利用登録申込書」のご記入の上、会員カードを \n発行致します。その際、初回登録料100円が別途必要です。 \n※事前にホームページから申込書をダウンロードしてご記入頂くと入場が \nスムーズです。 \n  \n・イベント前後に遊戯をされる場合、別途入場料が必要となります。 \n  \n・ 12時から13時は消毒、換気の為一時閉店となります。 \n午前の部でご入場されたお客様は13時から別料金となりますので、ご注意下さい。
URL:https://kanseinomori.com/calendar/event/%e3%82%aa%e3%83%aa%e3%82%b8%e3%83%8a%e3%83%ab%e3%83%90%e3%83%83%e3%82%af%e3%82%92%e4%bd%9c%e3%82%8d%e3%81%86%ef%bc%81-7-2-2-2-4-2-2-3-4-2-2-2-2-3-3-3-3-2-2-3-3-3-2-2-3-2-2-3-3-3-3-3-3-3-5-3-3-3-3-2-3/
CATEGORIES:有料,要予約
END:VEVENT
BEGIN:VEVENT
DTSTART;VALUE=DATE:20201021
DTEND;VALUE=DATE:20201022
DTSTAMP:20260421T222104
CREATED:20200921T044523Z
LAST-MODIFIED:20200921T044523Z
UID:3929-1603238400-1603324799@kanseinomori.com
SUMMARY:ハピネスリトミック♪
DESCRIPTION:学びの原点にはママの笑顔が☆お子さんがリトミックを通じ、音感、 \nリズム感、集中力を養うのはもちろん、ママも一緒に楽しめてリフレッシュ \nできるのがハピネスリトミックです♪　小野寺郁子 \n\n◯10月のレッスン→10月7日（水）、21日（水）、28日（水）\n\n◯時間→１０時２０分からキッズ(１歳半〜) \n\n　　　　１１時２０分からベビー(生後３ヶ月〜１歳５ヶ月)\n\n\n\n☆詳しいご案内、参加方法はこちらをご覧下さい。\n\n\n\n\n◯ハピネスリトミック　ホームページ→https://www.eurhythmics-sendai.com\n\n\n\n\n\n≪注意事項≫\n\n\n・受付時に参加者の方は、感性の森会員カードをご提示頂くか、 \n初めての方は「施設利用登録申込書」のご記入の上、会員カードを \n発行致します。その際、初回登録料100円が別途必要です。 \n※事前にホームページから申込書をダウンロードしてご記入頂くと入場が \nスムーズです。 \n  \n・イベント前後に遊戯をされる場合、別途入場料が必要となります。 \n  \n・ 12時から13時は消毒、換気の為一時閉店となります。 \n午前の部でご入場されたお客様は13時から別料金となりますので、ご注意下さい。
URL:https://kanseinomori.com/calendar/event/%e3%82%aa%e3%83%aa%e3%82%b8%e3%83%8a%e3%83%ab%e3%83%90%e3%83%83%e3%82%af%e3%82%92%e4%bd%9c%e3%82%8d%e3%81%86%ef%bc%81-7-2-2-2-4-2-2-3-4-2-2-2-2-3-3-3-3-2-2-3-3-3-2-2-3-2-2-3-3-3-3-3-3-3-5-3-3-3-3-2-2/
CATEGORIES:有料,要予約
END:VEVENT
BEGIN:VEVENT
DTSTART;VALUE=DATE:20201007
DTEND;VALUE=DATE:20201008
DTSTAMP:20260421T222104
CREATED:20200921T044339Z
LAST-MODIFIED:20200921T044339Z
UID:3927-1602028800-1602115199@kanseinomori.com
SUMMARY:ハピネスリトミック♪
DESCRIPTION:学びの原点にはママの笑顔が☆お子さんがリトミックを通じ、音感、 \nリズム感、集中力を養うのはもちろん、ママも一緒に楽しめてリフレッシュ \nできるのがハピネスリトミックです♪　小野寺郁子 \n\n◯10月のレッスン→10月7日（水）、21日（水）、28日（水）\n\n◯時間→１０時２０分からキッズ(１歳半〜) \n\n　　　　１１時２０分からベビー(生後３ヶ月〜１歳５ヶ月)\n\n\n\n☆詳しいご案内、参加方法はこちらをご覧下さい。\n\n\n\n\n◯ハピネスリトミック　ホームページ→https://www.eurhythmics-sendai.com\n\n\n\n\n\n≪注意事項≫\n\n\n・受付時に参加者の方は、感性の森会員カードをご提示頂くか、 \n初めての方は「施設利用登録申込書」のご記入の上、会員カードを \n発行致します。その際、初回登録料100円が別途必要です。 \n※事前にホームページから申込書をダウンロードしてご記入頂くと入場が \nスムーズです。 \n  \n・イベント前後に遊戯をされる場合、別途入場料が必要となります。 \n  \n・ 12時から13時は消毒、換気の為一時閉店となります。 \n午前の部でご入場されたお客様は13時から別料金となりますので、ご注意下さい。
URL:https://kanseinomori.com/calendar/event/%e3%82%aa%e3%83%aa%e3%82%b8%e3%83%8a%e3%83%ab%e3%83%90%e3%83%83%e3%82%af%e3%82%92%e4%bd%9c%e3%82%8d%e3%81%86%ef%bc%81-7-2-2-2-4-2-2-3-4-2-2-2-2-3-3-3-3-2-2-3-3-3-2-2-3-2-2-3-3-3-3-3-3-3-5-3-3-3-3-2-10/
CATEGORIES:有料,要予約
END:VEVENT
BEGIN:VEVENT
DTSTART;VALUE=DATE:20200923
DTEND;VALUE=DATE:20200924
DTSTAMP:20260421T222104
CREATED:20200826T062801Z
LAST-MODIFIED:20200826T062801Z
UID:3905-1600819200-1600905599@kanseinomori.com
SUMMARY:ハピネスリトミック♪
DESCRIPTION:学びの原点にはママの笑顔が☆お子さんがリトミックを通じ、音感、 \nリズム感、集中力を養うのはもちろん、ママも一緒に楽しめてリフレッシュ \nできるのがハピネスリトミックです♪　小野寺郁子 \n\n◯9月のレッスン→9月2日（水）、9日（水）、23日（水）\n\n◯時間→１０時２０分からキッズ(１歳半〜) \n\n　　　　１１時２０分からベビー(生後３ヶ月〜１歳５ヶ月)\n\n\n\n☆詳しいご案内、参加方法はこちらをご覧下さい。\n\n\n\n\n◯ハピネスリトミック　ホームページ→https://www.eurhythmics-sendai.com\n\n\n\n\n\n≪注意事項≫\n\n\n・受付時に参加者の方は、感性の森会員カードをご提示頂くか、 \n初めての方は「施設利用登録申込書」のご記入の上、会員カードを \n発行致します。その際、初回登録料100円が別途必要です。 \n※事前にホームページから申込書をダウンロードしてご記入頂くと入場が \nスムーズです。 \n  \n・イベント前後に遊戯をされる場合、別途入場料が必要となります。 \n  \n・ 12時から13時は消毒、換気の為一時閉店となります。 \n午前の部でご入場されたお客様は13時から別料金となりますので、ご注意下さい。
URL:https://kanseinomori.com/calendar/event/%e3%82%aa%e3%83%aa%e3%82%b8%e3%83%8a%e3%83%ab%e3%83%90%e3%83%83%e3%82%af%e3%82%92%e4%bd%9c%e3%82%8d%e3%81%86%ef%bc%81-7-2-2-2-4-2-2-3-4-2-2-2-2-3-3-3-3-2-2-3-3-3-2-2-3-2-2-3-3-3-3-3-3-3-5-3-3-3-3-20-9/
CATEGORIES:有料,要予約
END:VEVENT
END:VCALENDAR