BEGIN:VCALENDAR
VERSION:2.0
PRODID:-//木の室内創造あそび場「感性の森」 - ECPv6.13.2.1//NONSGML v1.0//EN
CALSCALE:GREGORIAN
METHOD:PUBLISH
X-WR-CALNAME:木の室内創造あそび場「感性の森」
X-ORIGINAL-URL:https://kanseinomori.com/calendar
X-WR-CALDESC:木の室内創造あそび場「感性の森」 のイベント
REFRESH-INTERVAL;VALUE=DURATION:PT1H
X-Robots-Tag:noindex
X-PUBLISHED-TTL:PT1H
BEGIN:VTIMEZONE
TZID:Asia/Tokyo
BEGIN:STANDARD
TZOFFSETFROM:+0900
TZOFFSETTO:+0900
TZNAME:JST
DTSTART:20180101T000000
END:STANDARD
END:VTIMEZONE
BEGIN:VEVENT
DTSTART;TZID=Asia/Tokyo:20181027T110000
DTEND;TZID=Asia/Tokyo:20181027T120000
DTSTAMP:20260422T060130
CREATED:20180916T081754Z
LAST-MODIFIED:20180916T081754Z
UID:1448-1540638000-1540641600@kanseinomori.com
SUMMARY:松ぼっくりのかぼちゃおばけ
DESCRIPTION:
URL:https://kanseinomori.com/calendar/event/%e3%82%aa%e3%83%aa%e3%82%b8%e3%83%8a%e3%83%ab%e3%83%90%e3%83%83%e3%82%af%e3%82%92%e4%bd%9c%e3%82%8d%e3%81%86%ef%bc%81-7-2-2-2-4-2-2-3-4-2-2-2-2-3-3-3-3-2-2-3-3-3-2-2-3-2-2-3-3-3-3-3-3-3-5-3-3-3-3-3-12/
CATEGORIES:予約不要,有料
END:VEVENT
BEGIN:VEVENT
DTSTART;TZID=Asia/Tokyo:20181027T110000
DTEND;TZID=Asia/Tokyo:20181027T120000
DTSTAMP:20260422T060130
CREATED:20180919T014734Z
LAST-MODIFIED:20180919T014734Z
UID:1467-1540638000-1540641600@kanseinomori.com
SUMMARY:自然素材のクラフト体験
DESCRIPTION:
URL:https://kanseinomori.com/calendar/event/%e3%82%aa%e3%83%aa%e3%82%b8%e3%83%8a%e3%83%ab%e3%83%90%e3%83%83%e3%82%af%e3%82%92%e4%bd%9c%e3%82%8d%e3%81%86%ef%bc%81-7-2-2-2-4-2-2-3-4-2-2-2-2-3-3-3-3-2-2-3-3-3-2-2-3-2-2-3-3-3-3-3-3-3-5-3-3-3-3-3-13/
CATEGORIES:予約不要,有料
END:VEVENT
BEGIN:VEVENT
DTSTART;TZID=Asia/Tokyo:20181023T113000
DTEND;TZID=Asia/Tokyo:20181023T120000
DTSTAMP:20260422T060130
CREATED:20180916T083020Z
LAST-MODIFIED:20180916T083020Z
UID:1462-1540294200-1540296000@kanseinomori.com
SUMMARY:パンダのぱんちゃんと遊ぼう！
DESCRIPTION:
URL:https://kanseinomori.com/calendar/event/827-2-2-2-2-2-2-2-2-2-3-2-2-2-3-2-2-2-2-2-2-2-2-3-2/
CATEGORIES:予約不要,無料
END:VEVENT
BEGIN:VEVENT
DTSTART;TZID=Asia/Tokyo:20181022T110000
DTEND;TZID=Asia/Tokyo:20181022T113000
DTSTAMP:20260422T060130
CREATED:20181012T032636Z
LAST-MODIFIED:20181012T061842Z
UID:1489-1540206000-1540207800@kanseinomori.com
SUMMARY:お母さんシンガーソングライターしまひろこ☆ミニライブ
DESCRIPTION:【お母さんシンガーソングライターしまひろこ☆ミニライブ】 　  \n10月22日（月）11：00～11：30　感性の森店内にて \n感性の森に当日入場のお客様が対象/観覧無料です！ \n子育て中のママの想い、家族の愛をテーマにしたオリジナル曲を弾き語りでお届けします。 小さなお友達も一緒に踊れる歌も♪ ぜひ、歌を通じて親子でほっこりしていってくださいね♡ \n  \n＜しまひろこさんプロフィール＞ \n「世界のハッピーはお母さんのハッピーから！！！」をテーマに 子育て中のママの気持ちや家族の愛を歌うシンガーソングライターとして、 2008年より広島で10年間活動。2018年4月より仙台在住。 仙台から全国へ、歌を通じて新たな価値を創造し、愛を届けていこうと 邁進するお母さんシンガーソングライター。2014年広島初・脱毛専門サロンmetooのTVCMに楽曲起用 \n2016年Make A Wish 広島支部チャリティーコンサートゲスト \n2016年3月＆12月ケロポンズコンサート（東広島市）オープニングアクト \n2018年5月名取市復興イベント、9月東松島 復興希望のコンサート出演 \nホームページ http://shimahiroko.com/
URL:https://kanseinomori.com/calendar/event/%e3%81%8a%e6%af%8d%e3%81%95%e3%82%93%e3%82%b7%e3%83%b3%e3%82%ac%e3%83%bc%e3%82%bd%e3%83%b3%e3%82%b0%e3%83%a9%e3%82%a4%e3%82%bf%e3%83%bc%e3%81%97%e3%81%be%e3%81%b2%e3%82%8d%e3%81%93%e2%98%86%e3%83%9f/
CATEGORIES:予約不要,無料
END:VEVENT
BEGIN:VEVENT
DTSTART;TZID=Asia/Tokyo:20181021T133000
DTEND;TZID=Asia/Tokyo:20181021T143000
DTSTAMP:20260422T060130
CREATED:20180916T081649Z
LAST-MODIFIED:20180916T081649Z
UID:1442-1540128600-1540132200@kanseinomori.com
SUMMARY:松ぼっくりのかぼちゃおばけ
DESCRIPTION:
URL:https://kanseinomori.com/calendar/event/%e3%82%aa%e3%83%aa%e3%82%b8%e3%83%8a%e3%83%ab%e3%83%90%e3%83%83%e3%82%af%e3%82%92%e4%bd%9c%e3%82%8d%e3%81%86%ef%bc%81-7-2-2-2-4-2-2-3-4-2-2-2-2-3-3-3-3-2-2-3-3-3-2-2-3-2-2-3-3-3-3-3-3-3-5-3-3-3-3-3-9/
CATEGORIES:予約不要,有料
END:VEVENT
BEGIN:VEVENT
DTSTART;TZID=Asia/Tokyo:20181021T110000
DTEND;TZID=Asia/Tokyo:20181021T120000
DTSTAMP:20260422T060130
CREATED:20180916T081711Z
LAST-MODIFIED:20180916T081711Z
UID:1444-1540119600-1540123200@kanseinomori.com
SUMMARY:松ぼっくりのかぼちゃおばけ
DESCRIPTION:
URL:https://kanseinomori.com/calendar/event/%e3%82%aa%e3%83%aa%e3%82%b8%e3%83%8a%e3%83%ab%e3%83%90%e3%83%83%e3%82%af%e3%82%92%e4%bd%9c%e3%82%8d%e3%81%86%ef%bc%81-7-2-2-2-4-2-2-3-4-2-2-2-2-3-3-3-3-2-2-3-3-3-2-2-3-2-2-3-3-3-3-3-3-3-5-3-3-3-3-3-10/
CATEGORIES:予約不要,有料
END:VEVENT
BEGIN:VEVENT
DTSTART;TZID=Asia/Tokyo:20181020T133000
DTEND;TZID=Asia/Tokyo:20181020T143000
DTSTAMP:20260422T060130
CREATED:20180916T081130Z
LAST-MODIFIED:20180916T081130Z
UID:1421-1540042200-1540045800@kanseinomori.com
SUMMARY:ハロウィン☆フォトフレーム
DESCRIPTION:
URL:https://kanseinomori.com/calendar/event/%e3%82%aa%e3%83%aa%e3%82%b8%e3%83%8a%e3%83%ab%e3%83%90%e3%83%83%e3%82%af%e3%82%92%e4%bd%9c%e3%82%8d%e3%81%86%ef%bc%81-7-2-2-2-4-2-2-3-4-2-2-2-2-3-3-3-3-2-2-3-3-3-2-2-3-2-2-3-3-3-3-3-3-3-5-3-3-3-3/
CATEGORIES:予約不要,有料
END:VEVENT
BEGIN:VEVENT
DTSTART;TZID=Asia/Tokyo:20181020T110000
DTEND;TZID=Asia/Tokyo:20181020T120000
DTSTAMP:20260422T060130
CREATED:20180916T081203Z
LAST-MODIFIED:20180916T081203Z
UID:1423-1540033200-1540036800@kanseinomori.com
SUMMARY:ハロウィン☆フォトフレーム
DESCRIPTION:
URL:https://kanseinomori.com/calendar/event/%e3%82%aa%e3%83%aa%e3%82%b8%e3%83%8a%e3%83%ab%e3%83%90%e3%83%83%e3%82%af%e3%82%92%e4%bd%9c%e3%82%8d%e3%81%86%ef%bc%81-7-2-2-2-4-2-2-3-4-2-2-2-2-3-3-3-3-2-2-3-3-3-2-2-3-2-2-3-3-3-3-3-3-3-5-3-3-3-3-2/
CATEGORIES:予約不要,有料
END:VEVENT
BEGIN:VEVENT
DTSTART;TZID=Asia/Tokyo:20181016T113000
DTEND;TZID=Asia/Tokyo:20181016T120000
DTSTAMP:20260422T060130
CREATED:20180916T082544Z
LAST-MODIFIED:20180916T082544Z
UID:1456-1539689400-1539691200@kanseinomori.com
SUMMARY:森のにこにこたいむ
DESCRIPTION:
URL:https://kanseinomori.com/calendar/event/827-2-2-2-2-2-2-2-2-2-3-2-2-2-3-2-2-2-2-2-2-2-3-2/
CATEGORIES:予約不要,無料
END:VEVENT
BEGIN:VEVENT
DTSTART;TZID=Asia/Tokyo:20181014T133000
DTEND;TZID=Asia/Tokyo:20181014T143000
DTSTAMP:20260422T060130
CREATED:20180916T080923Z
LAST-MODIFIED:20180916T080923Z
UID:1417-1539523800-1539527400@kanseinomori.com
SUMMARY:ハロウィン☆フォトフレーム
DESCRIPTION:
URL:https://kanseinomori.com/calendar/event/%e3%82%aa%e3%83%aa%e3%82%b8%e3%83%8a%e3%83%ab%e3%83%90%e3%83%83%e3%82%af%e3%82%92%e4%bd%9c%e3%82%8d%e3%81%86%ef%bc%81-7-2-2-2-4-2-2-3-4-2-2-2-2-3-3-3-3-2-2-3-3-3-2-2-3-2-2-3-3-3-3-3-3-3-5-3-3-3/
CATEGORIES:予約不要,有料
END:VEVENT
BEGIN:VEVENT
DTSTART;TZID=Asia/Tokyo:20181014T110000
DTEND;TZID=Asia/Tokyo:20181014T120000
DTSTAMP:20260422T060130
CREATED:20180916T080951Z
LAST-MODIFIED:20180916T081052Z
UID:1419-1539514800-1539518400@kanseinomori.com
SUMMARY:ハロウィン☆フォトフレーム
DESCRIPTION:
URL:https://kanseinomori.com/calendar/event/%e3%82%aa%e3%83%aa%e3%82%b8%e3%83%8a%e3%83%ab%e3%83%90%e3%83%83%e3%82%af%e3%82%92%e4%bd%9c%e3%82%8d%e3%81%86%ef%bc%81-7-2-2-2-4-2-2-3-4-2-2-2-2-3-3-3-3-2-2-3-3-3-2-2-3-2-2-3-3-3-3-3-3-3-5-3-3-3-2/
CATEGORIES:予約不要,有料
END:VEVENT
BEGIN:VEVENT
DTSTART;TZID=Asia/Tokyo:20181013T133000
DTEND;TZID=Asia/Tokyo:20181013T143000
DTSTAMP:20260422T060130
CREATED:20180916T081557Z
LAST-MODIFIED:20180916T081557Z
UID:1438-1539437400-1539441000@kanseinomori.com
SUMMARY:松ぼっくりのかぼちゃおばけ
DESCRIPTION:
URL:https://kanseinomori.com/calendar/event/%e3%82%aa%e3%83%aa%e3%82%b8%e3%83%8a%e3%83%ab%e3%83%90%e3%83%83%e3%82%af%e3%82%92%e4%bd%9c%e3%82%8d%e3%81%86%ef%bc%81-7-2-2-2-4-2-2-3-4-2-2-2-2-3-3-3-3-2-2-3-3-3-2-2-3-2-2-3-3-3-3-3-3-3-5-3-3-3-3-3-7/
CATEGORIES:予約不要,有料
END:VEVENT
BEGIN:VEVENT
DTSTART;TZID=Asia/Tokyo:20181013T110000
DTEND;TZID=Asia/Tokyo:20181013T120000
DTSTAMP:20260422T060130
CREATED:20180916T081617Z
LAST-MODIFIED:20180916T081617Z
UID:1440-1539428400-1539432000@kanseinomori.com
SUMMARY:松ぼっくりのかぼちゃおばけ
DESCRIPTION:
URL:https://kanseinomori.com/calendar/event/%e3%82%aa%e3%83%aa%e3%82%b8%e3%83%8a%e3%83%ab%e3%83%90%e3%83%83%e3%82%af%e3%82%92%e4%bd%9c%e3%82%8d%e3%81%86%ef%bc%81-7-2-2-2-4-2-2-3-4-2-2-2-2-3-3-3-3-2-2-3-3-3-2-2-3-2-2-3-3-3-3-3-3-3-5-3-3-3-3-3-8/
CATEGORIES:予約不要,有料
END:VEVENT
BEGIN:VEVENT
DTSTART;TZID=Asia/Tokyo:20181009T113000
DTEND;TZID=Asia/Tokyo:20181009T120000
DTSTAMP:20260422T060130
CREATED:20180916T082959Z
LAST-MODIFIED:20180916T082959Z
UID:1460-1539084600-1539086400@kanseinomori.com
SUMMARY:パンダのぱんちゃんと遊ぼう！
DESCRIPTION:
URL:https://kanseinomori.com/calendar/event/827-2-2-2-2-2-2-2-2-2-3-2-2-2-3-2-2-2-2-2-2-2-2-3/
CATEGORIES:予約不要,無料
END:VEVENT
BEGIN:VEVENT
DTSTART;TZID=Asia/Tokyo:20181008T133000
DTEND;TZID=Asia/Tokyo:20181008T143000
DTSTAMP:20260422T060130
CREATED:20180916T081514Z
LAST-MODIFIED:20180916T081514Z
UID:1434-1539005400-1539009000@kanseinomori.com
SUMMARY:松ぼっくりのかぼちゃおばけ
DESCRIPTION:
URL:https://kanseinomori.com/calendar/event/%e3%82%aa%e3%83%aa%e3%82%b8%e3%83%8a%e3%83%ab%e3%83%90%e3%83%83%e3%82%af%e3%82%92%e4%bd%9c%e3%82%8d%e3%81%86%ef%bc%81-7-2-2-2-4-2-2-3-4-2-2-2-2-3-3-3-3-2-2-3-3-3-2-2-3-2-2-3-3-3-3-3-3-3-5-3-3-3-3-3-5/
CATEGORIES:予約不要,有料
END:VEVENT
BEGIN:VEVENT
DTSTART;TZID=Asia/Tokyo:20181008T110000
DTEND;TZID=Asia/Tokyo:20181008T120000
DTSTAMP:20260422T060130
CREATED:20180916T081536Z
LAST-MODIFIED:20180916T081536Z
UID:1436-1538996400-1539000000@kanseinomori.com
SUMMARY:松ぼっくりのかぼちゃおばけ
DESCRIPTION:
URL:https://kanseinomori.com/calendar/event/%e3%82%aa%e3%83%aa%e3%82%b8%e3%83%8a%e3%83%ab%e3%83%90%e3%83%83%e3%82%af%e3%82%92%e4%bd%9c%e3%82%8d%e3%81%86%ef%bc%81-7-2-2-2-4-2-2-3-4-2-2-2-2-3-3-3-3-2-2-3-3-3-2-2-3-2-2-3-3-3-3-3-3-3-5-3-3-3-3-3-6/
CATEGORIES:予約不要,有料
END:VEVENT
BEGIN:VEVENT
DTSTART;TZID=Asia/Tokyo:20181007T133000
DTEND;TZID=Asia/Tokyo:20181007T143000
DTSTAMP:20260422T060130
CREATED:20180916T081427Z
LAST-MODIFIED:20180916T081427Z
UID:1429-1538919000-1538922600@kanseinomori.com
SUMMARY:松ぼっくりのかぼちゃおばけ
DESCRIPTION:
URL:https://kanseinomori.com/calendar/event/%e3%82%aa%e3%83%aa%e3%82%b8%e3%83%8a%e3%83%ab%e3%83%90%e3%83%83%e3%82%af%e3%82%92%e4%bd%9c%e3%82%8d%e3%81%86%ef%bc%81-7-2-2-2-4-2-2-3-4-2-2-2-2-3-3-3-3-2-2-3-3-3-2-2-3-2-2-3-3-3-3-3-3-3-5-3-3-3-3-3-3/
CATEGORIES:予約不要,有料
END:VEVENT
BEGIN:VEVENT
DTSTART;TZID=Asia/Tokyo:20181007T110000
DTEND;TZID=Asia/Tokyo:20181007T120000
DTSTAMP:20260422T060130
CREATED:20180916T081449Z
LAST-MODIFIED:20180916T081449Z
UID:1432-1538910000-1538913600@kanseinomori.com
SUMMARY:松ぼっくりのかぼちゃおばけ
DESCRIPTION:
URL:https://kanseinomori.com/calendar/event/%e3%82%aa%e3%83%aa%e3%82%b8%e3%83%8a%e3%83%ab%e3%83%90%e3%83%83%e3%82%af%e3%82%92%e4%bd%9c%e3%82%8d%e3%81%86%ef%bc%81-7-2-2-2-4-2-2-3-4-2-2-2-2-3-3-3-3-2-2-3-3-3-2-2-3-2-2-3-3-3-3-3-3-3-5-3-3-3-3-3-4/
CATEGORIES:予約不要,有料
END:VEVENT
BEGIN:VEVENT
DTSTART;TZID=Asia/Tokyo:20181006T133000
DTEND;TZID=Asia/Tokyo:20181006T143000
DTSTAMP:20260422T060130
CREATED:20180916T080649Z
LAST-MODIFIED:20180916T080759Z
UID:1411-1538832600-1538836200@kanseinomori.com
SUMMARY:ハロウィン☆フォトフレーム
DESCRIPTION:
URL:https://kanseinomori.com/calendar/event/%e3%82%aa%e3%83%aa%e3%82%b8%e3%83%8a%e3%83%ab%e3%83%90%e3%83%83%e3%82%af%e3%82%92%e4%bd%9c%e3%82%8d%e3%81%86%ef%bc%81-7-2-2-2-4-2-2-3-4-2-2-2-2-3-3-3-3-2-2-3-3-3-2-2-3-2-2-3-3-3-3-3-3-3-5-3-3/
CATEGORIES:予約不要,有料
END:VEVENT
BEGIN:VEVENT
DTSTART;TZID=Asia/Tokyo:20181006T110000
DTEND;TZID=Asia/Tokyo:20181006T120000
DTSTAMP:20260422T060130
CREATED:20180916T080836Z
LAST-MODIFIED:20180916T080836Z
UID:1415-1538823600-1538827200@kanseinomori.com
SUMMARY:ハロウィン☆フォトフレーム
DESCRIPTION:
URL:https://kanseinomori.com/calendar/event/%e3%82%aa%e3%83%aa%e3%82%b8%e3%83%8a%e3%83%ab%e3%83%90%e3%83%83%e3%82%af%e3%82%92%e4%bd%9c%e3%82%8d%e3%81%86%ef%bc%81-7-2-2-2-4-2-2-3-4-2-2-2-2-3-3-3-3-2-2-3-3-3-2-2-3-2-2-3-3-3-3-3-3-3-5-3-3-2/
CATEGORIES:予約不要,有料
END:VEVENT
BEGIN:VEVENT
DTSTART;TZID=Asia/Tokyo:20181002T113000
DTEND;TZID=Asia/Tokyo:20181002T120000
DTSTAMP:20260422T060130
CREATED:20180916T082515Z
LAST-MODIFIED:20180916T082515Z
UID:1453-1538479800-1538481600@kanseinomori.com
SUMMARY:森のにこにこたいむ
DESCRIPTION:
URL:https://kanseinomori.com/calendar/event/827-2-2-2-2-2-2-2-2-2-3-2-2-2-3-2-2-2-2-2-2-2-3/
CATEGORIES:予約不要,無料
END:VEVENT
BEGIN:VEVENT
DTSTART;TZID=Asia/Tokyo:20180930T133000
DTEND;TZID=Asia/Tokyo:20180930T143000
DTSTAMP:20260422T060130
CREATED:20180827T094655Z
LAST-MODIFIED:20180827T094655Z
UID:1401-1538314200-1538317800@kanseinomori.com
SUMMARY:ハロウィンリース
DESCRIPTION:
URL:https://kanseinomori.com/calendar/event/%e3%82%aa%e3%83%aa%e3%82%b8%e3%83%8a%e3%83%ab%e3%83%90%e3%83%83%e3%82%af%e3%82%92%e4%bd%9c%e3%82%8d%e3%81%86%ef%bc%81-7-2-2-2-4-2-2-3-4-2-2-2-2-3-3-3-3-2-2-3-3-3-2-2-3-2-2-3-3-3-3-3-3-3-5-3/
CATEGORIES:予約不要,有料
END:VEVENT
BEGIN:VEVENT
DTSTART;TZID=Asia/Tokyo:20180930T110000
DTEND;TZID=Asia/Tokyo:20180930T120000
DTSTAMP:20260422T060130
CREATED:20180827T094717Z
LAST-MODIFIED:20180827T094717Z
UID:1403-1538305200-1538308800@kanseinomori.com
SUMMARY:ハロウィンリース
DESCRIPTION:
URL:https://kanseinomori.com/calendar/event/%e3%82%aa%e3%83%aa%e3%82%b8%e3%83%8a%e3%83%ab%e3%83%90%e3%83%83%e3%82%af%e3%82%92%e4%bd%9c%e3%82%8d%e3%81%86%ef%bc%81-7-2-2-2-4-2-2-3-4-2-2-2-2-3-3-3-3-2-2-3-3-3-2-2-3-2-2-3-3-3-3-3-3-3-5-3-2/
CATEGORIES:予約不要,有料
END:VEVENT
BEGIN:VEVENT
DTSTART;TZID=Asia/Tokyo:20180929T133000
DTEND;TZID=Asia/Tokyo:20180929T143000
DTSTAMP:20260422T060130
CREATED:20180819T073023Z
LAST-MODIFIED:20180819T073023Z
UID:1354-1538227800-1538231400@kanseinomori.com
SUMMARY:ホワイトボード＆マグネット
DESCRIPTION:
URL:https://kanseinomori.com/calendar/event/%e3%82%aa%e3%83%aa%e3%82%b8%e3%83%8a%e3%83%ab%e3%83%90%e3%83%83%e3%82%af%e3%82%92%e4%bd%9c%e3%82%8d%e3%81%86%ef%bc%81-7-2-2-2-4-2-2-3-4-2-2-2-2-3-3-3-3-2-2-3-3-3-2-2-3-2-2-3-3-3-3-3-3-3/
CATEGORIES:予約不要,有料
END:VEVENT
BEGIN:VEVENT
DTSTART;TZID=Asia/Tokyo:20180929T110000
DTEND;TZID=Asia/Tokyo:20180929T120000
DTSTAMP:20260422T060130
CREATED:20180819T073049Z
LAST-MODIFIED:20180819T073049Z
UID:1356-1538218800-1538222400@kanseinomori.com
SUMMARY:ホワイトボード＆マグネット
DESCRIPTION:
URL:https://kanseinomori.com/calendar/event/%e3%82%aa%e3%83%aa%e3%82%b8%e3%83%8a%e3%83%ab%e3%83%90%e3%83%83%e3%82%af%e3%82%92%e4%bd%9c%e3%82%8d%e3%81%86%ef%bc%81-7-2-2-2-4-2-2-3-4-2-2-2-2-3-3-3-3-2-2-3-3-3-2-2-3-2-2-3-3-3-3-3-3-3-2/
CATEGORIES:予約不要,有料
END:VEVENT
BEGIN:VEVENT
DTSTART;TZID=Asia/Tokyo:20180925T113000
DTEND;TZID=Asia/Tokyo:20180925T120000
DTSTAMP:20260422T060130
CREATED:20180819T073608Z
LAST-MODIFIED:20180819T073608Z
UID:1366-1537875000-1537876800@kanseinomori.com
SUMMARY:森のにこにこたいむ
DESCRIPTION:
URL:https://kanseinomori.com/calendar/event/827-2-2-2-2-2-2-2-2-2-3-2-2-2-3-2-2-2-2-2-2-2/
CATEGORIES:予約不要,無料
END:VEVENT
BEGIN:VEVENT
DTSTART;TZID=Asia/Tokyo:20180924T133000
DTEND;TZID=Asia/Tokyo:20180924T143000
DTSTAMP:20260422T060130
CREATED:20180827T094519Z
LAST-MODIFIED:20180827T094555Z
UID:1395-1537795800-1537799400@kanseinomori.com
SUMMARY:ハロウィンリース
DESCRIPTION:
URL:https://kanseinomori.com/calendar/event/%e3%82%aa%e3%83%aa%e3%82%b8%e3%83%8a%e3%83%ab%e3%83%90%e3%83%83%e3%82%af%e3%82%92%e4%bd%9c%e3%82%8d%e3%81%86%ef%bc%81-7-2-2-2-4-2-2-3-4-2-2-2-2-3-3-3-3-2-2-3-3-3-2-2-3-2-2-3-3-3-3-3-3-3-5/
CATEGORIES:予約不要,有料
END:VEVENT
BEGIN:VEVENT
DTSTART;TZID=Asia/Tokyo:20180924T110000
DTEND;TZID=Asia/Tokyo:20180924T120000
DTSTAMP:20260422T060130
CREATED:20180827T094629Z
LAST-MODIFIED:20180827T094629Z
UID:1399-1537786800-1537790400@kanseinomori.com
SUMMARY:ハロウィンリース
DESCRIPTION:
URL:https://kanseinomori.com/calendar/event/%e3%82%aa%e3%83%aa%e3%82%b8%e3%83%8a%e3%83%ab%e3%83%90%e3%83%83%e3%82%af%e3%82%92%e4%bd%9c%e3%82%8d%e3%81%86%ef%bc%81-7-2-2-2-4-2-2-3-4-2-2-2-2-3-3-3-3-2-2-3-3-3-2-2-3-2-2-3-3-3-3-3-3-3-5-2/
CATEGORIES:予約不要,有料
END:VEVENT
BEGIN:VEVENT
DTSTART;TZID=Asia/Tokyo:20180923T133000
DTEND;TZID=Asia/Tokyo:20180923T143000
DTSTAMP:20260422T060130
CREATED:20180823T015723Z
LAST-MODIFIED:20180823T015723Z
UID:1389-1537709400-1537713000@kanseinomori.com
SUMMARY:森のコロコロ迷路
DESCRIPTION:
URL:https://kanseinomori.com/calendar/event/%e3%82%aa%e3%83%aa%e3%82%b8%e3%83%8a%e3%83%ab%e3%83%90%e3%83%83%e3%82%af%e3%82%92%e4%bd%9c%e3%82%8d%e3%81%86%ef%bc%81-7-2-2-2-4-2-2-3-4-2-2-2-2-3-3-3-3-2-2-3-3-3-2-2-3-2-2-3-3-3-3-3-3-3-4/
CATEGORIES:予約不要,有料
END:VEVENT
BEGIN:VEVENT
DTSTART;TZID=Asia/Tokyo:20180923T110000
DTEND;TZID=Asia/Tokyo:20180923T120000
DTSTAMP:20260422T060130
CREATED:20180823T015749Z
LAST-MODIFIED:20180823T015749Z
UID:1392-1537700400-1537704000@kanseinomori.com
SUMMARY:森のコロコロ迷路
DESCRIPTION:
URL:https://kanseinomori.com/calendar/event/%e3%82%aa%e3%83%aa%e3%82%b8%e3%83%8a%e3%83%ab%e3%83%90%e3%83%83%e3%82%af%e3%82%92%e4%bd%9c%e3%82%8d%e3%81%86%ef%bc%81-7-2-2-2-4-2-2-3-4-2-2-2-2-3-3-3-3-2-2-3-3-3-2-2-3-2-2-3-3-3-3-3-3-3-4-2/
CATEGORIES:予約不要,有料
END:VEVENT
END:VCALENDAR