BEGIN:VCALENDAR
VERSION:2.0
PRODID:-//木の室内創造あそび場「感性の森」 - ECPv6.13.2.1//NONSGML v1.0//EN
CALSCALE:GREGORIAN
METHOD:PUBLISH
X-WR-CALNAME:木の室内創造あそび場「感性の森」
X-ORIGINAL-URL:https://kanseinomori.com/calendar
X-WR-CALDESC:木の室内創造あそび場「感性の森」 のイベント
REFRESH-INTERVAL;VALUE=DURATION:PT1H
X-Robots-Tag:noindex
X-PUBLISHED-TTL:PT1H
BEGIN:VTIMEZONE
TZID:Asia/Tokyo
BEGIN:STANDARD
TZOFFSETFROM:+0900
TZOFFSETTO:+0900
TZNAME:JST
DTSTART:20190101T000000
END:STANDARD
END:VTIMEZONE
BEGIN:VEVENT
DTSTART;VALUE=DATE:20191215
DTEND;VALUE=DATE:20191216
DTSTAMP:20260422T053405
CREATED:20191127T052156Z
LAST-MODIFIED:20191127T052156Z
UID:2741-1576368000-1576454399@kanseinomori.com
SUMMARY:キラキラツリーとゆきだるま
DESCRIPTION:
URL:https://kanseinomori.com/calendar/event/%e3%82%aa%e3%83%aa%e3%82%b8%e3%83%8a%e3%83%ab%e3%83%90%e3%83%83%e3%82%af%e3%82%92%e4%bd%9c%e3%82%8d%e3%81%86%ef%bc%81-7-2-2-2-4-2-2-3-4-2-2-2-2-3-3-3-3-2-2-3-3-3-2-2-3-2-2-3-3-3-3-3-3-3-5-3-3-3-3-108/
CATEGORIES:予約不要,有料
END:VEVENT
BEGIN:VEVENT
DTSTART;VALUE=DATE:20191214
DTEND;VALUE=DATE:20191215
DTSTAMP:20260422T053405
CREATED:20191127T045607Z
LAST-MODIFIED:20191127T045607Z
UID:2727-1576281600-1576367999@kanseinomori.com
SUMMARY:オリジナルパズル／森のキーホルダー／オリジナルバック
DESCRIPTION:
URL:https://kanseinomori.com/calendar/event/%e3%82%aa%e3%83%aa%e3%82%b8%e3%83%8a%e3%83%ab%e3%83%90%e3%83%83%e3%82%af%e3%82%92%e4%bd%9c%e3%82%8d%e3%81%86%ef%bc%81-7-2-2-2-4-2-2-3-4-2-2-2-2-3-3-3-3-2-2-3-3-3-2-2-3-2-2-3-3-3-3-3-3-3-5-3-3-3-3-103/
CATEGORIES:予約不要,有料
END:VEVENT
BEGIN:VEVENT
DTSTART;TZID=Asia/Tokyo:20191213T110000
DTEND;TZID=Asia/Tokyo:20191213T113000
DTSTAMP:20260422T053405
CREATED:20191127T060355Z
LAST-MODIFIED:20191127T060355Z
UID:2786-1576234800-1576236600@kanseinomori.com
SUMMARY:森のお誕生会
DESCRIPTION:
URL:https://kanseinomori.com/calendar/event/%e3%82%aa%e3%83%aa%e3%82%b8%e3%83%8a%e3%83%ab%e3%83%90%e3%83%83%e3%82%af%e3%82%92%e4%bd%9c%e3%82%8d%e3%81%86%ef%bc%81-7-2-2-2-4-2-2-3-4-2-2-2-2-3-3-3-3-2-2-3-3-3-2-2-3-2-2-3-3-3-3-3-3-3-5-3-3-3-3-11-9/
CATEGORIES:予約不要,無料
END:VEVENT
BEGIN:VEVENT
DTSTART;TZID=Asia/Tokyo:20191212T103000
DTEND;TZID=Asia/Tokyo:20191212T113000
DTSTAMP:20260422T053405
CREATED:20191127T062605Z
LAST-MODIFIED:20191127T062605Z
UID:2798-1576146600-1576150200@kanseinomori.com
SUMMARY:森の木育クラブ　りす組
DESCRIPTION:
URL:https://kanseinomori.com/calendar/event/%e3%82%aa%e3%83%aa%e3%82%b8%e3%83%8a%e3%83%ab%e3%83%90%e3%83%83%e3%82%af%e3%82%92%e4%bd%9c%e3%82%8d%e3%81%86%ef%bc%81-7-2-2-2-4-2-2-3-4-2-2-2-2-3-3-3-3-2-2-3-3-3-2-2-3-2-2-3-3-3-3-3-3-3-5-3-3-3-3-113/
CATEGORIES:有料,要予約
END:VEVENT
BEGIN:VEVENT
DTSTART;VALUE=DATE:20191211
DTEND;VALUE=DATE:20191212
DTSTAMP:20260422T053405
CREATED:20191127T064145Z
LAST-MODIFIED:20191127T085059Z
UID:2816-1576022400-1576108799@kanseinomori.com
SUMMARY:ハピネスリトミック♪
DESCRIPTION:学びの原点にはママの笑顔が☆お子さんがリトミックを通じ、音感、 \nリズム感、集中力を養うのはもちろん、ママも一緒に楽しめてリフレッシュ \nできるのがハピネスリトミックです♪　小野寺郁子 \n◯12月のレッスン→12月4日（水）、１1日（水）、18日（水）\n\n◯時間→１０時２０分からキッズ(１歳半〜) \n\n　　　　１１時２０分からベビー(生後３ヶ月〜１歳５ヶ月)\n\n\n◯特別な持ち物はありません。\n\n〇参加希望の方は前日までに講師宛にメール又はお電話で予約\n\n（お子さんの名前、生年月日、希望日、電話番号をお伝え下さい）\n\n\n◯定員→各回８組\n\n≪注意事項≫\n\n\n・受付時に参加者の方は、感性の森の会員カードをご提示頂くか、 \n初めての方は「施設利用登録申込書」のご記入の上、会員カードを \n発行致します。その際、初回登録料100円が別途必要です。 \n※事前にホームページから申込書をダウンロードしてご記入頂くと入場が \nスムーズです。 \n・イベント前後に遊戯をされる場合、別途入場料が必要となります。 \n\n\n◯ハピネスリトミック　ホームページ→https://www.eurhythmics-sendai.com\n\n\n皆様ぜひご参加ください！！
URL:https://kanseinomori.com/calendar/event/%e3%82%aa%e3%83%aa%e3%82%b8%e3%83%8a%e3%83%ab%e3%83%90%e3%83%83%e3%82%af%e3%82%92%e4%bd%9c%e3%82%8d%e3%81%86%ef%bc%81-7-2-2-2-4-2-2-3-4-2-2-2-2-3-3-3-3-2-2-3-3-3-2-2-3-2-2-3-3-3-3-3-3-3-5-3-3-3-3-119/
CATEGORIES:有料,要予約
END:VEVENT
BEGIN:VEVENT
DTSTART;VALUE=DATE:20191210
DTEND;VALUE=DATE:20191211
DTSTAMP:20260422T053405
CREATED:20191127T070810Z
LAST-MODIFIED:20191127T070907Z
UID:2820-1575936000-1576022399@kanseinomori.com
SUMMARY:ベビーマッサージ教室
DESCRIPTION:「ベビーマッサージ教室」です。 \n１2／１0（火） \n10:30～11:15　参加費￥1000 \n～お申込みはこちら～ \n\n「ORANGE YUZU」\nsaorisenseino.babymassage@gmail.com\n(件名に「ベビマ予約」\n本文に①保護者名、②お子様のお名前と月齢、③電話番号、④ご希望日）\n\n\nブログもご覧下さい　http://s.ameblo.jp/orangeyuzu2015/　講師：田畑\n\n\n\n\n\n\n≪注意事項≫\n\n・受付時に参加者の方は、感性の森の会員カードをご提示頂くか、 \n初めての方は「施設利用登録申込書」のご記入の上、会員カードを \n発行致します。その際、初回登録料100円が別途必要です。 \n※事前にホームページから申込書をダウンロードしてご記入頂くと入場が \nスムーズです。 \n・イベント前後に遊戯をされる場合、別途入場料が必要となります。 \n\n皆様ぜひご参加ください！！ \n\n 
URL:https://kanseinomori.com/calendar/event/%e3%82%aa%e3%83%aa%e3%82%b8%e3%83%8a%e3%83%ab%e3%83%90%e3%83%83%e3%82%af%e3%82%92%e4%bd%9c%e3%82%8d%e3%81%86%ef%bc%81-7-2-2-2-4-2-2-3-4-2-2-2-2-3-3-3-3-2-2-3-3-3-2-2-3-2-2-3-3-3-3-3-3-3-5-3-3-3-3-121/
CATEGORIES:有料,要予約
END:VEVENT
BEGIN:VEVENT
DTSTART;VALUE=DATE:20191209
DTEND;VALUE=DATE:20191210
DTSTAMP:20260422T053405
CREATED:20191127T052855Z
LAST-MODIFIED:20191127T052855Z
UID:2760-1575849600-1575935999@kanseinomori.com
SUMMARY:お楽しみワークショップ
DESCRIPTION:
URL:https://kanseinomori.com/calendar/event/%e3%82%aa%e3%83%aa%e3%82%b8%e3%83%8a%e3%83%ab%e3%83%90%e3%83%83%e3%82%af%e3%82%92%e4%bd%9c%e3%82%8d%e3%81%86%ef%bc%81-7-2-2-2-4-2-2-3-4-2-2-2-2-3-3-3-3-2-2-3-3-3-2-2-3-2-2-3-3-3-3-3-3-3-5-3-3-3-3-11-3/
CATEGORIES:予約不要,有料
END:VEVENT
BEGIN:VEVENT
DTSTART;VALUE=DATE:20191208
DTEND;VALUE=DATE:20191209
DTSTAMP:20260422T053405
CREATED:20191127T051844Z
LAST-MODIFIED:20191127T051844Z
UID:2739-1575763200-1575849599@kanseinomori.com
SUMMARY:森のミニリースを作ろう
DESCRIPTION:
URL:https://kanseinomori.com/calendar/event/%e3%82%aa%e3%83%aa%e3%82%b8%e3%83%8a%e3%83%ab%e3%83%90%e3%83%83%e3%82%af%e3%82%92%e4%bd%9c%e3%82%8d%e3%81%86%ef%bc%81-7-2-2-2-4-2-2-3-4-2-2-2-2-3-3-3-3-2-2-3-3-3-2-2-3-2-2-3-3-3-3-3-3-3-5-3-3-3-3-107/
CATEGORIES:予約不要,有料
END:VEVENT
BEGIN:VEVENT
DTSTART;VALUE=DATE:20191207
DTEND;VALUE=DATE:20191208
DTSTAMP:20260422T053406
CREATED:20191127T045334Z
LAST-MODIFIED:20191127T045334Z
UID:2723-1575676800-1575763199@kanseinomori.com
SUMMARY:オリジナルパズル／森のキーホルダー／オリジナルバック
DESCRIPTION:
URL:https://kanseinomori.com/calendar/event/%e3%82%aa%e3%83%aa%e3%82%b8%e3%83%8a%e3%83%ab%e3%83%90%e3%83%83%e3%82%af%e3%82%92%e4%bd%9c%e3%82%8d%e3%81%86%ef%bc%81-7-2-2-2-4-2-2-3-4-2-2-2-2-3-3-3-3-2-2-3-3-3-2-2-3-2-2-3-3-3-3-3-3-3-5-3-3-3-3-102/
CATEGORIES:予約不要,有料
END:VEVENT
BEGIN:VEVENT
DTSTART;TZID=Asia/Tokyo:20191206T110000
DTEND;TZID=Asia/Tokyo:20191206T113000
DTSTAMP:20260422T053406
CREATED:20191127T054729Z
LAST-MODIFIED:20191206T015027Z
UID:2775-1575630000-1575631800@kanseinomori.com
SUMMARY:森のにこにこたいむ
DESCRIPTION:
URL:https://kanseinomori.com/calendar/event/827-2-2-2-2-2-2-2-2-2-3-2-2-2-3-2-2-2-2-2-2-2-3-2-2-2-2-2-2-2-2-2-3-2-2-2-2-2-2-3-2-2-2-2-3-2-2-3-2-3-2-2-2-2-2-2-2-2-3-2-2-2-2-3/
CATEGORIES:予約不要,無料
END:VEVENT
BEGIN:VEVENT
DTSTART;TZID=Asia/Tokyo:20191205T103000
DTEND;TZID=Asia/Tokyo:20191205T113000
DTSTAMP:20260422T053406
CREATED:20191127T062138Z
LAST-MODIFIED:20191127T062138Z
UID:2790-1575541800-1575545400@kanseinomori.com
SUMMARY:森の木育クラブ　ひよこ組
DESCRIPTION:
URL:https://kanseinomori.com/calendar/event/%e3%82%aa%e3%83%aa%e3%82%b8%e3%83%8a%e3%83%ab%e3%83%90%e3%83%83%e3%82%af%e3%82%92%e4%bd%9c%e3%82%8d%e3%81%86%ef%bc%81-7-2-2-2-4-2-2-3-4-2-2-2-2-3-3-3-3-2-2-3-3-3-2-2-3-2-2-3-3-3-3-3-3-3-5-3-3-3-3-111/
CATEGORIES:有料,要予約
END:VEVENT
BEGIN:VEVENT
DTSTART;VALUE=DATE:20191204
DTEND;VALUE=DATE:20191205
DTSTAMP:20260422T053406
CREATED:20191127T064036Z
LAST-MODIFIED:20191127T085137Z
UID:2814-1575417600-1575503999@kanseinomori.com
SUMMARY:ハピネスリトミック♪
DESCRIPTION:学びの原点にはママの笑顔が☆お子さんがリトミックを通じ、音感、 \nリズム感、集中力を養うのはもちろん、ママも一緒に楽しめてリフレッシュ \nできるのがハピネスリトミックです♪　小野寺郁子 \n◯12月のレッスン→12月4日（水）、１1日（水）、18日（水）\n\n◯時間→１０時２０分からキッズ(１歳半〜) \n\n　　　　１１時２０分からベビー(生後３ヶ月〜１歳５ヶ月)\n\n\n◯特別な持ち物はありません。\n\n〇参加希望の方は前日までに講師宛にメール又はお電話で予約\n\n（お子さんの名前、生年月日、希望日、電話番号をお伝え下さい）\n\n\n◯定員→各回８組\n\n≪注意事項≫\n\n\n・受付時に参加者の方は、感性の森の会員カードをご提示頂くか、 \n初めての方は「施設利用登録申込書」のご記入の上、会員カードを \n発行致します。その際、初回登録料100円が別途必要です。 \n※事前にホームページから申込書をダウンロードしてご記入頂くと入場が \nスムーズです。 \n・イベント前後に遊戯をされる場合、別途入場料が必要となります。 \n\n\n◯ハピネスリトミック　ホームページ→https://www.eurhythmics-sendai.com\n\n\n皆様ぜひご参加ください！！
URL:https://kanseinomori.com/calendar/event/%e3%82%aa%e3%83%aa%e3%82%b8%e3%83%8a%e3%83%ab%e3%83%90%e3%83%83%e3%82%af%e3%82%92%e4%bd%9c%e3%82%8d%e3%81%86%ef%bc%81-7-2-2-2-4-2-2-3-4-2-2-2-2-3-3-3-3-2-2-3-3-3-2-2-3-2-2-3-3-3-3-3-3-3-5-3-3-3-3-118/
CATEGORIES:有料,要予約
END:VEVENT
BEGIN:VEVENT
DTSTART;TZID=Asia/Tokyo:20191203T110000
DTEND;TZID=Asia/Tokyo:20191203T233000
DTSTAMP:20260422T053406
CREATED:20191127T055817Z
LAST-MODIFIED:20191127T055818Z
UID:2782-1575370800-1575415800@kanseinomori.com
SUMMARY:ぱんちゃんと遊ぼう！
DESCRIPTION:
URL:https://kanseinomori.com/calendar/event/%e3%82%aa%e3%83%aa%e3%82%b8%e3%83%8a%e3%83%ab%e3%83%90%e3%83%83%e3%82%af%e3%82%92%e4%bd%9c%e3%82%8d%e3%81%86%ef%bc%81-7-2-2-2-4-2-2-3-4-2-2-2-2-3-3-3-3-2-2-3-3-3-2-2-3-2-2-3-3-3-3-3-3-3-5-3-3-3-3-11-8/
CATEGORIES:予約不要,無料
END:VEVENT
BEGIN:VEVENT
DTSTART;VALUE=DATE:20191202
DTEND;VALUE=DATE:20191203
DTSTAMP:20260422T053406
CREATED:20191127T052800Z
LAST-MODIFIED:20191127T052800Z
UID:2753-1575244800-1575331199@kanseinomori.com
SUMMARY:お楽しみワークショップ
DESCRIPTION:
URL:https://kanseinomori.com/calendar/event/%e3%82%aa%e3%83%aa%e3%82%b8%e3%83%8a%e3%83%ab%e3%83%90%e3%83%83%e3%82%af%e3%82%92%e4%bd%9c%e3%82%8d%e3%81%86%ef%bc%81-7-2-2-2-4-2-2-3-4-2-2-2-2-3-3-3-3-2-2-3-3-3-2-2-3-2-2-3-3-3-3-3-3-3-5-3-3-3-3-11-2/
CATEGORIES:予約不要,有料
END:VEVENT
BEGIN:VEVENT
DTSTART;TZID=Asia/Tokyo:20191201T150000
DTEND;TZID=Asia/Tokyo:20191201T160000
DTSTAMP:20260422T053406
CREATED:20191127T063537Z
LAST-MODIFIED:20191127T063537Z
UID:2809-1575212400-1575216000@kanseinomori.com
SUMMARY:こねこねアロマ石けん作り
DESCRIPTION:
URL:https://kanseinomori.com/calendar/event/%e3%82%aa%e3%83%aa%e3%82%b8%e3%83%8a%e3%83%ab%e3%83%90%e3%83%83%e3%82%af%e3%82%92%e4%bd%9c%e3%82%8d%e3%81%86%ef%bc%81-7-2-2-2-4-2-2-3-4-2-2-2-2-3-3-3-3-2-2-3-3-3-2-2-3-2-2-3-3-3-3-3-3-3-5-3-3-3-3-117/
CATEGORIES:有料,要予約
END:VEVENT
BEGIN:VEVENT
DTSTART;VALUE=DATE:20191201
DTEND;VALUE=DATE:20191202
DTSTAMP:20260422T053406
CREATED:20191127T051656Z
LAST-MODIFIED:20191127T051656Z
UID:2734-1575158400-1575244799@kanseinomori.com
SUMMARY:森のミニリースを作ろう
DESCRIPTION:
URL:https://kanseinomori.com/calendar/event/%e3%82%aa%e3%83%aa%e3%82%b8%e3%83%8a%e3%83%ab%e3%83%90%e3%83%83%e3%82%af%e3%82%92%e4%bd%9c%e3%82%8d%e3%81%86%ef%bc%81-7-2-2-2-4-2-2-3-4-2-2-2-2-3-3-3-3-2-2-3-3-3-2-2-3-2-2-3-3-3-3-3-3-3-5-3-3-3-3-106/
CATEGORIES:予約不要,有料
END:VEVENT
BEGIN:VEVENT
DTSTART;VALUE=DATE:20191130
DTEND;VALUE=DATE:20191201
DTSTAMP:20260422T053406
CREATED:20191027T012237Z
LAST-MODIFIED:20191027T012237Z
UID:2601-1575072000-1575158399@kanseinomori.com
SUMMARY:オリジナルパズル／森のキーホルダー／オリジナルバック
DESCRIPTION:
URL:https://kanseinomori.com/calendar/event/%e3%82%aa%e3%83%aa%e3%82%b8%e3%83%8a%e3%83%ab%e3%83%90%e3%83%83%e3%82%af%e3%82%92%e4%bd%9c%e3%82%8d%e3%81%86%ef%bc%81-7-2-2-2-4-2-2-3-4-2-2-2-2-3-3-3-3-2-2-3-3-3-2-2-3-2-2-3-3-3-3-3-3-3-5-3-3-3-3-1-83/
CATEGORIES:予約不要,有料
END:VEVENT
BEGIN:VEVENT
DTSTART;TZID=Asia/Tokyo:20191129T110000
DTEND;TZID=Asia/Tokyo:20191129T113000
DTSTAMP:20260422T053406
CREATED:20191027T013206Z
LAST-MODIFIED:20191103T045050Z
UID:2630-1575025200-1575027000@kanseinomori.com
SUMMARY:森のにこにこたいむ
DESCRIPTION:
URL:https://kanseinomori.com/calendar/event/827-2-2-2-2-2-2-2-2-2-3-2-2-2-3-2-2-2-2-2-2-2-3-2-2-2-2-2-2-2-2-2-3-2-2-2-2-2-2-3-2-2-2-2-3-2-2-3-2-3-2-2-2-2-2-2-2-2-3-2-2-2-2/
CATEGORIES:予約不要,無料
END:VEVENT
BEGIN:VEVENT
DTSTART;VALUE=DATE:20191127
DTEND;VALUE=DATE:20191128
DTSTAMP:20260422T053406
CREATED:20191027T013754Z
LAST-MODIFIED:20191027T013754Z
UID:2648-1574812800-1574899199@kanseinomori.com
SUMMARY:ハピネスリトミック♪
DESCRIPTION:学びの原点にはママの笑顔が☆お子さんがリトミックを通じ、音感、 \nリズム感、集中力を養うのはもちろん、ママも一緒に楽しめてリフレッシュ \nできるのがハピネスリトミックです♪　小野寺郁子 \n◯11月のレッスン→11月６日（水）、１３日（水）、２７日（水）\n\n◯時間→１０時２０分からキッズ(１歳半〜) \n\n　　　　１１時２０分からベビー(生後３ヶ月〜１歳５ヶ月)\n\n\n◯特別な持ち物はありません。\n\n〇参加希望の方は前日までに講師宛にメール又はお電話で予約\n\n（お子さんの名前、生年月日、希望日、電話番号をお伝え下さい）\n\n\n◯定員→各回８組\n\n≪注意事項≫\n\n\n・受付時に参加者の方は、感性の森の会員カードをご提示頂くか、 \n初めての方は「施設利用登録申込書」のご記入の上、会員カードを \n発行致します。その際、初回登録料100円が別途必要です。 \n※事前にホームページから申込書をダウンロードしてご記入頂くと入場が \nスムーズです。 \n・イベント前後に遊戯をされる場合、別途入場料が必要となります。 \n\n\n◯ハピネスリトミック　ホームページ→https://www.eurhythmics-sendai.com\n\n\n皆様ぜひご参加ください！！
URL:https://kanseinomori.com/calendar/event/%e3%82%aa%e3%83%aa%e3%82%b8%e3%83%8a%e3%83%ab%e3%83%90%e3%83%83%e3%82%af%e3%82%92%e4%bd%9c%e3%82%8d%e3%81%86%ef%bc%81-7-2-2-2-4-2-2-3-4-2-2-2-2-3-3-3-3-2-2-3-3-3-2-2-3-2-2-3-3-3-3-3-3-3-5-3-3-3-3-1-92/
CATEGORIES:有料,要予約
END:VEVENT
BEGIN:VEVENT
DTSTART;VALUE=DATE:20191126
DTEND;VALUE=DATE:20191127
DTSTAMP:20260422T053406
CREATED:20191027T015612Z
LAST-MODIFIED:20191027T015612Z
UID:2659-1574726400-1574812799@kanseinomori.com
SUMMARY:ベビーマッサージ教室
DESCRIPTION:「ベビーマッサージ教室」です。 \n１１／１２（火）、１１／２６(火） \n10:30～11:15　参加費￥1000 \n～お申込みはこちら～ \n\n「ORANGE YUZU」\nsaorisenseino.babymassage@gmail.com\n(件名に「ベビマ予約」\n本文に①保護者名、②お子様のお名前と月齢、③電話番号、④ご希望日）\n\n\nブログもご覧下さい　http://s.ameblo.jp/orangeyuzu2015/　講師：田畑\n\n\n\n\n\n\n≪注意事項≫\n\n・受付時に参加者の方は、感性の森の会員カードをご提示頂くか、 \n初めての方は「施設利用登録申込書」のご記入の上、会員カードを \n発行致します。その際、初回登録料100円が別途必要です。 \n※事前にホームページから申込書をダウンロードしてご記入頂くと入場が \nスムーズです。 \n・イベント前後に遊戯をされる場合、別途入場料が必要となります。 \n\n皆様ぜひご参加ください！！ \n\n 
URL:https://kanseinomori.com/calendar/event/%e3%82%aa%e3%83%aa%e3%82%b8%e3%83%8a%e3%83%ab%e3%83%90%e3%83%83%e3%82%af%e3%82%92%e4%bd%9c%e3%82%8d%e3%81%86%ef%bc%81-7-2-2-2-4-2-2-3-4-2-2-2-2-3-3-3-3-2-2-3-3-3-2-2-3-2-2-3-3-3-3-3-3-3-5-3-3-3-3-1-96/
CATEGORIES:有料,要予約
END:VEVENT
BEGIN:VEVENT
DTSTART;TZID=Asia/Tokyo:20191125T110000
DTEND;TZID=Asia/Tokyo:20191125T113000
DTSTAMP:20260422T053406
CREATED:20191027T013427Z
LAST-MODIFIED:20191027T013427Z
UID:2642-1574679600-1574681400@kanseinomori.com
SUMMARY:森のぴよぴよたいむ
DESCRIPTION:
URL:https://kanseinomori.com/calendar/event/827-2-2-2-2-2-2-2-2-2-3-2-2-2-3-2-2-2-2-2-2-2-3-2-2-2-2-2-2-2-2-2-3-2-2-2-2-2-2-3-2-2-2-2-3-2-2-2-2-2-2-2-2-2-2-2-2-2-2-2-2-2-2-2-2-2/
CATEGORIES:予約不要,無料
END:VEVENT
BEGIN:VEVENT
DTSTART;VALUE=DATE:20191125
DTEND;VALUE=DATE:20191126
DTSTAMP:20260422T053406
CREATED:20191106T033240Z
LAST-MODIFIED:20191106T033240Z
UID:2694-1574640000-1574726399@kanseinomori.com
SUMMARY:平日ワークショップイベント
DESCRIPTION:
URL:https://kanseinomori.com/calendar/event/%e3%82%aa%e3%83%aa%e3%82%b8%e3%83%8a%e3%83%ab%e3%83%90%e3%83%83%e3%82%af%e3%82%92%e4%bd%9c%e3%82%8d%e3%81%86%ef%bc%81-7-2-2-2-4-2-2-3-4-2-2-2-2-3-3-3-3-2-2-3-3-3-2-2-3-2-2-3-3-3-3-3-3-3-5-3-3-3-3-1-98/
CATEGORIES:予約不要,有料
END:VEVENT
BEGIN:VEVENT
DTSTART;VALUE=DATE:20191124
DTEND;VALUE=DATE:20191125
DTSTAMP:20260422T053406
CREATED:20191027T012635Z
LAST-MODIFIED:20191108T080701Z
UID:2616-1574553600-1574639999@kanseinomori.com
SUMMARY:オリジナル貯金箱を作ろう
DESCRIPTION:
URL:https://kanseinomori.com/calendar/event/%e3%82%aa%e3%83%aa%e3%82%b8%e3%83%8a%e3%83%ab%e3%83%90%e3%83%83%e3%82%af%e3%82%92%e4%bd%9c%e3%82%8d%e3%81%86%ef%bc%81-7-2-2-2-4-2-2-3-4-2-2-2-2-3-3-3-3-2-2-3-3-3-2-2-3-2-2-3-3-3-3-3-3-3-5-3-3-3-3-1-88/
CATEGORIES:予約不要,有料
END:VEVENT
BEGIN:VEVENT
DTSTART;VALUE=DATE:20191123
DTEND;VALUE=DATE:20191124
DTSTAMP:20260422T053406
CREATED:20191027T012738Z
LAST-MODIFIED:20191027T012738Z
UID:2618-1574467200-1574553599@kanseinomori.com
SUMMARY:森のレインボー万華鏡を作ろう！
DESCRIPTION:
URL:https://kanseinomori.com/calendar/event/%e3%82%aa%e3%83%aa%e3%82%b8%e3%83%8a%e3%83%ab%e3%83%90%e3%83%83%e3%82%af%e3%82%92%e4%bd%9c%e3%82%8d%e3%81%86%ef%bc%81-7-2-2-2-4-2-2-3-4-2-2-2-2-3-3-3-3-2-2-3-3-3-2-2-3-2-2-3-3-3-3-3-3-3-5-3-3-3-3-1-89/
CATEGORIES:予約不要,有料
END:VEVENT
BEGIN:VEVENT
DTSTART;TZID=Asia/Tokyo:20191122T110000
DTEND;TZID=Asia/Tokyo:20191122T113000
DTSTAMP:20260422T053406
CREATED:20191027T013142Z
LAST-MODIFIED:20191103T045122Z
UID:2628-1574420400-1574422200@kanseinomori.com
SUMMARY:森のにこにこたいむ
DESCRIPTION:
URL:https://kanseinomori.com/calendar/event/827-2-2-2-2-2-2-2-2-2-3-2-2-2-3-2-2-2-2-2-2-2-3-2-2-2-2-2-2-2-2-2-3-2-2-2-2-2-2-3-2-2-2-2-3-2-2-3-2-3-2-2-2-2-2-2-2-2-3-2-2-2/
CATEGORIES:予約不要,無料
END:VEVENT
BEGIN:VEVENT
DTSTART;VALUE=DATE:20191119
DTEND;VALUE=DATE:20191120
DTSTAMP:20260422T053406
CREATED:20191027T014259Z
LAST-MODIFIED:20191027T014259Z
UID:2652-1574121600-1574207999@kanseinomori.com
SUMMARY:抱っことおんぶの相談会
DESCRIPTION:  \n「抱っことおんぶの相談会」 \n１１／７（木）、１１／１９(火） \n10:15～12:00 \n相談、体験　10分　￥500 \n※10:15～10:30　防災に関する無料講座を開催します。 \n当日、「感性の森」ご利用で参加できます。 \nお問い合わせは、直接担当講師までお願いします。 \n\n皆様ぜひご参加ください！！
URL:https://kanseinomori.com/calendar/event/%e3%82%aa%e3%83%aa%e3%82%b8%e3%83%8a%e3%83%ab%e3%83%90%e3%83%83%e3%82%af%e3%82%92%e4%bd%9c%e3%82%8d%e3%81%86%ef%bc%81-7-2-2-2-4-2-2-3-4-2-2-2-2-3-3-3-3-2-2-3-3-3-2-2-3-2-2-3-3-3-3-3-3-3-5-3-3-3-3-1-94/
CATEGORIES:有料
END:VEVENT
BEGIN:VEVENT
DTSTART;TZID=Asia/Tokyo:20191118T110000
DTEND;TZID=Asia/Tokyo:20191118T113000
DTSTAMP:20260422T053406
CREATED:20191027T013402Z
LAST-MODIFIED:20191027T013402Z
UID:2640-1574074800-1574076600@kanseinomori.com
SUMMARY:森のぴよぴよたいむ
DESCRIPTION:
URL:https://kanseinomori.com/calendar/event/827-2-2-2-2-2-2-2-2-2-3-2-2-2-3-2-2-2-2-2-2-2-3-2-2-2-2-2-2-2-2-2-3-2-2-2-2-2-2-3-2-2-2-2-3-2-2-2-2-2-2-2-2-2-2-2-2-2-2-2-2-2-2-2-2/
CATEGORIES:予約不要,無料
END:VEVENT
BEGIN:VEVENT
DTSTART;TZID=Asia/Tokyo:20191117T150000
DTEND;TZID=Asia/Tokyo:20191117T160000
DTSTAMP:20260422T053406
CREATED:20191105T080935Z
LAST-MODIFIED:20191105T081022Z
UID:2687-1574002800-1574006400@kanseinomori.com
SUMMARY:アロマバスボムをつくろう
DESCRIPTION:（公社）日本アロマ環境協会認定　アロマセラピスト・アロマテラピーインストラクター YAYOI 主宰のアロマ教室です。 \n「アロマバスボムをつくろう」 \n１1／１７（日）15:00～16:00　参加費　おひとつ　￥600 \n～お申込みはこちら～ \nmarch.blackstonecherry@gmail.com \n\n\n①お名前②お子様のお名前と年齢③ご連絡先④ご質問等\n\n\nインスタもご覧下さい　https://www.Instagram.com/yayoihashimo 　講師：橋本\n\n\n≪注意事項≫\n・こちらは事前予約制となりますが、予約状況によっては当日受付も行う場合がございます。その場合は店内アナウンスにてお知らせ致します。\n\n\n・受付時に参加者の方は、感性の森の会員カードをご提示頂くか、初めての方は「施設利用登録申込書」のご記入の上、会員カードを発行致します。その際、初回登録料100円が別途必要です。 \n※事前にホームページから申込書をダウンロードしてご記入頂くと入場がスムーズです。 \n・イベント前後に遊戯をされる場合、別途入場料が必要となります。 \n  \n\n皆様ぜひご参加ください！！
URL:https://kanseinomori.com/calendar/event/%e3%82%aa%e3%83%aa%e3%82%b8%e3%83%8a%e3%83%ab%e3%83%90%e3%83%83%e3%82%af%e3%82%92%e4%bd%9c%e3%82%8d%e3%81%86%ef%bc%81-7-2-2-2-4-2-2-3-4-2-2-2-2-3-3-3-3-2-2-3-3-3-2-2-3-2-2-3-3-3-3-3-3-3-5-3-3-3-3-1-97/
CATEGORIES:有料,要予約
END:VEVENT
BEGIN:VEVENT
DTSTART;VALUE=DATE:20191117
DTEND;VALUE=DATE:20191118
DTSTAMP:20260422T053406
CREATED:20191027T012600Z
LAST-MODIFIED:20191108T081112Z
UID:2614-1573948800-1574035199@kanseinomori.com
SUMMARY:オリジナル貯金箱を作ろう
DESCRIPTION:
URL:https://kanseinomori.com/calendar/event/%e3%82%aa%e3%83%aa%e3%82%b8%e3%83%8a%e3%83%ab%e3%83%90%e3%83%83%e3%82%af%e3%82%92%e4%bd%9c%e3%82%8d%e3%81%86%ef%bc%81-7-2-2-2-4-2-2-3-4-2-2-2-2-3-3-3-3-2-2-3-3-3-2-2-3-2-2-3-3-3-3-3-3-3-5-3-3-3-3-1-87/
CATEGORIES:予約不要,有料
END:VEVENT
BEGIN:VEVENT
DTSTART;VALUE=DATE:20191116
DTEND;VALUE=DATE:20191117
DTSTAMP:20260422T053406
CREATED:20191027T012212Z
LAST-MODIFIED:20191027T012212Z
UID:2599-1573862400-1573948799@kanseinomori.com
SUMMARY:オリジナルパズル／森のキーホルダー／オリジナルバック
DESCRIPTION:
URL:https://kanseinomori.com/calendar/event/%e3%82%aa%e3%83%aa%e3%82%b8%e3%83%8a%e3%83%ab%e3%83%90%e3%83%83%e3%82%af%e3%82%92%e4%bd%9c%e3%82%8d%e3%81%86%ef%bc%81-7-2-2-2-4-2-2-3-4-2-2-2-2-3-3-3-3-2-2-3-3-3-2-2-3-2-2-3-3-3-3-3-3-3-5-3-3-3-3-1-82/
CATEGORIES:予約不要,有料
END:VEVENT
END:VCALENDAR