BEGIN:VCALENDAR
VERSION:2.0
PRODID:-//木の室内創造あそび場「感性の森」 - ECPv6.13.2.1//NONSGML v1.0//EN
CALSCALE:GREGORIAN
METHOD:PUBLISH
X-WR-CALNAME:木の室内創造あそび場「感性の森」
X-ORIGINAL-URL:https://kanseinomori.com/calendar
X-WR-CALDESC:木の室内創造あそび場「感性の森」 のイベント
REFRESH-INTERVAL;VALUE=DURATION:PT1H
X-Robots-Tag:noindex
X-PUBLISHED-TTL:PT1H
BEGIN:VTIMEZONE
TZID:Asia/Tokyo
BEGIN:STANDARD
TZOFFSETFROM:+0900
TZOFFSETTO:+0900
TZNAME:JST
DTSTART:20200101T000000
END:STANDARD
END:VTIMEZONE
BEGIN:VEVENT
DTSTART;VALUE=DATE:20200315
DTEND;VALUE=DATE:20200316
DTSTAMP:20260422T050719
CREATED:20200226T073222Z
LAST-MODIFIED:20200229T083907Z
UID:3324-1584230400-1584316799@kanseinomori.com
SUMMARY:森のペン立てを作ろう！（中止）
DESCRIPTION:新型コロナウイルスをはじめとする感染予防及び拡散拡大防止の為、 \n「森のペン立てを作ろう！」は中止とさせて頂きます。 \n工作キットの販売を行っております。 \nキット内容につきましては、スタッフまでお問い合わせください。
URL:https://kanseinomori.com/calendar/event/%e3%82%aa%e3%83%aa%e3%82%b8%e3%83%8a%e3%83%ab%e3%83%90%e3%83%83%e3%82%af%e3%82%92%e4%bd%9c%e3%82%8d%e3%81%86%ef%bc%81-7-2-2-2-4-2-2-3-4-2-2-2-2-3-3-3-3-2-2-3-3-3-2-2-3-2-2-3-3-3-3-3-3-3-5-3-3-3-3-163/
CATEGORIES:有料
END:VEVENT
BEGIN:VEVENT
DTSTART;VALUE=DATE:20200314
DTEND;VALUE=DATE:20200315
DTSTAMP:20260422T050719
CREATED:20200226T072714Z
LAST-MODIFIED:20200315T074507Z
UID:3320-1584144000-1584230399@kanseinomori.com
SUMMARY:選べるワークショップ（中止）
DESCRIPTION:新型コロナウイルスをはじめとする感染予防及び拡散拡大防止の為、 \n「選べるワークショップ」は中止とさせて頂きます。 \n工作キットの販売を行っております。 \nキット内容につきましては、スタッフまでお問い合わせください。
URL:https://kanseinomori.com/calendar/event/%e3%82%aa%e3%83%aa%e3%82%b8%e3%83%8a%e3%83%ab%e3%83%90%e3%83%83%e3%82%af%e3%82%92%e4%bd%9c%e3%82%8d%e3%81%86%ef%bc%81-7-2-2-2-4-2-2-3-4-2-2-2-2-3-3-3-3-2-2-3-3-3-2-2-3-2-2-3-3-3-3-3-3-3-5-3-3-3-3-162/
CATEGORIES:有料
END:VEVENT
BEGIN:VEVENT
DTSTART;VALUE=DATE:20200313
DTEND;VALUE=DATE:20200314
DTSTAMP:20260422T050719
CREATED:20200226T075859Z
LAST-MODIFIED:20200229T080145Z
UID:3351-1584057600-1584143999@kanseinomori.com
SUMMARY:森のにこにこたいむ（中止）
DESCRIPTION:新型コロナウイルスをはじめとする感染予防及び拡散拡大防止の為、 \n「森のにこにこたいむ」は中止とさせて頂きます。
URL:https://kanseinomori.com/calendar/event/827-2-2-2-2-2-2-2-2-2-3-2-2-2-3-2-2-2-2-2-2-2-3-2-2-2-2-2-2-2-2-2-3-2-2-2-2-2-2-3-2-2-2-2-3-2-2-3-2-3-2-2-2-2-2-2-2-2-3-2-2-2-2-3-2-2-2-2-2-2/
CATEGORIES:予約不要,無料
END:VEVENT
BEGIN:VEVENT
DTSTART;TZID=Asia/Tokyo:20200312T103000
DTEND;TZID=Asia/Tokyo:20200312T113000
DTSTAMP:20260422T050719
CREATED:20200124T053711Z
LAST-MODIFIED:20200315T074321Z
UID:3192-1584009000-1584012600@kanseinomori.com
SUMMARY:森の木育クラブ　りす組（中止）
DESCRIPTION:新型コロナウイルスをはじめとする感染予防及び拡散拡大防止の為、 \n「森の木育クラブ　りす組」は中止とさせて頂きます。
URL:https://kanseinomori.com/calendar/event/%e3%82%aa%e3%83%aa%e3%82%b8%e3%83%8a%e3%83%ab%e3%83%90%e3%83%83%e3%82%af%e3%82%92%e4%bd%9c%e3%82%8d%e3%81%86%ef%bc%81-7-2-2-2-4-2-2-3-4-2-2-2-2-3-3-3-3-2-2-3-3-3-2-2-3-2-2-3-3-3-3-3-3-3-5-3-3-3-3-15-3/
CATEGORIES:有料,要予約
END:VEVENT
BEGIN:VEVENT
DTSTART;VALUE=DATE:20200311
DTEND;VALUE=DATE:20200312
DTSTAMP:20260422T050719
CREATED:20200227T044703Z
LAST-MODIFIED:20200312T011131Z
UID:3359-1583884800-1583971199@kanseinomori.com
SUMMARY:ハピネスリトミック♪（中止）
DESCRIPTION:新型コロナウイルスをはじめとする感染予防及び拡散拡大防止の為、 \n11日（水）「ハピネスリトミック教室」は中止とさせて頂きます。 \n \n\n学びの原点にはママの笑顔が☆お子さんがリトミックを通じ、音感、 \nリズム感、集中力を養うのはもちろん、ママも一緒に楽しめてリフレッシュ \nできるのがハピネスリトミックです♪　小野寺郁子 \n◯3月のレッスン→3月11日（水）、18日（水）、25日（水）\n\n◯時間→１０時２０分からキッズ(１歳半〜) \n\n　　　　１１時２０分からベビー(生後３ヶ月〜１歳５ヶ月)\n\n\n◯特別な持ち物はありません。\n\n〇参加希望の方は前日までに講師宛にメール又はお電話で予約\n\n（お子さんの名前、生年月日、希望日、電話番号をお伝え下さい）\n\n\n◯定員→各回８組\n\n≪注意事項≫\n\n\n・受付時に参加者の方は、感性の森の会員カードをご提示頂くか、 \n初めての方は「施設利用登録申込書」のご記入の上、会員カードを \n発行致します。その際、初回登録料100円が別途必要です。 \n※事前にホームページから申込書をダウンロードしてご記入頂くと入場が \nスムーズです。 \n・イベント前後に遊戯をされる場合、別途入場料が必要となります。 \n\n\n◯ハピネスリトミック　ホームページ→https://www.eurhythmics-sendai.com\n\n\n皆様ぜひご参加ください！！
URL:https://kanseinomori.com/calendar/event/%e3%82%aa%e3%83%aa%e3%82%b8%e3%83%8a%e3%83%ab%e3%83%90%e3%83%83%e3%82%af%e3%82%92%e4%bd%9c%e3%82%8d%e3%81%86%ef%bc%81-7-2-2-2-4-2-2-3-4-2-2-2-2-3-3-3-3-2-2-3-3-3-2-2-3-2-2-3-3-3-3-3-3-3-5-3-3-3-3-165/
CATEGORIES:有料,要予約
END:VEVENT
BEGIN:VEVENT
DTSTART;VALUE=DATE:20200310
DTEND;VALUE=DATE:20200311
DTSTAMP:20260422T050719
CREATED:20200227T045314Z
LAST-MODIFIED:20200229T075642Z
UID:3365-1583798400-1583884799@kanseinomori.com
SUMMARY:ベビーマッサージ教室（中止）
DESCRIPTION:新型コロナウイルスをはじめとする感染予防及び拡散拡大防止の為、 \n「ベビーマッサージ教室」は中止とさせて頂きます。 \n  \n \n「ベビーマッサージ教室」です。 \n3／10（火）3／24日（火） \n10:30～11:30　参加費￥1000 \n～お申込みはこちら～ \n\n「ORANGE YUZU」\nsaorisenseino.babymassage@gmail.com\n(件名に「ベビマ予約」\n本文に①保護者名、②お子様のお名前と月齢、③電話番号、④ご希望日）\n\n\nブログもご覧下さい　http://s.ameblo.jp/orangeyuzu2015/　講師：田畑\n\n\n\n\n\n\n≪注意事項≫\n\n・受付時に参加者の方は、感性の森の会員カードをご提示頂くか、 \n初めての方は「施設利用登録申込書」のご記入の上、会員カードを \n発行致します。その際、初回登録料100円が別途必要です。 \n※事前にホームページから申込書をダウンロードしてご記入頂くと入場が \nスムーズです。 \n・イベント前後に遊戯をされる場合、別途入場料が必要となります。 \n\n皆様ぜひご参加ください！！ \n\n 
URL:https://kanseinomori.com/calendar/event/%e3%82%aa%e3%83%aa%e3%82%b8%e3%83%8a%e3%83%ab%e3%83%90%e3%83%83%e3%82%af%e3%82%92%e4%bd%9c%e3%82%8d%e3%81%86%ef%bc%81-7-2-2-2-4-2-2-3-4-2-2-2-2-3-3-3-3-2-2-3-3-3-2-2-3-2-2-3-3-3-3-3-3-3-5-3-3-3-3-168/
CATEGORIES:有料,要予約
END:VEVENT
BEGIN:VEVENT
DTSTART;VALUE=DATE:20200309
DTEND;VALUE=DATE:20200310
DTSTAMP:20260422T050719
CREATED:20200226T072458Z
LAST-MODIFIED:20200229T080008Z
UID:3318-1583712000-1583798399@kanseinomori.com
SUMMARY:お楽しみワークショップ（中止）
DESCRIPTION:新型コロナウイルスをはじめとする感染予防及び拡散拡大防止の為、 \n「お楽しみワークショップ」は中止とさせて頂きます。 \n工作キットの販売を行っております。 \nキット内容につきましては、スタッフまでお問い合わせください。
URL:https://kanseinomori.com/calendar/event/%e3%82%aa%e3%83%aa%e3%82%b8%e3%83%8a%e3%83%ab%e3%83%90%e3%83%83%e3%82%af%e3%82%92%e4%bd%9c%e3%82%8d%e3%81%86%ef%bc%81-7-2-2-2-4-2-2-3-4-2-2-2-2-3-3-3-3-2-2-3-3-3-2-2-3-2-2-3-3-3-3-3-3-3-5-3-3-3-3-161/
CATEGORIES:有料
END:VEVENT
BEGIN:VEVENT
DTSTART;TZID=Asia/Tokyo:20200308T153000
DTEND;TZID=Asia/Tokyo:20200308T163000
DTSTAMP:20260422T050719
CREATED:20200228T012736Z
LAST-MODIFIED:20200229T075410Z
UID:3382-1583681400-1583685000@kanseinomori.com
SUMMARY:アロマ犬をつくろう（中止）
DESCRIPTION:新型コロナウイルスをはじめとする感染予防及び拡散拡大防止の為、 \n「アロマ犬をつくろう」は中止とさせて頂きます。
URL:https://kanseinomori.com/calendar/event/%e3%82%aa%e3%83%aa%e3%82%b8%e3%83%8a%e3%83%ab%e3%83%90%e3%83%83%e3%82%af%e3%82%92%e4%bd%9c%e3%82%8d%e3%81%86%ef%bc%81-7-2-2-2-4-2-2-3-4-2-2-2-2-3-3-3-3-2-2-3-3-3-2-2-3-2-2-3-3-3-3-3-3-3-5-3-3-3-3-172/
CATEGORIES:有料,要予約
END:VEVENT
BEGIN:VEVENT
DTSTART;TZID=Asia/Tokyo:20200308T110000
DTEND;TZID=Asia/Tokyo:20200308T150000
DTSTAMP:20260422T050719
CREATED:20200220T061521Z
LAST-MODIFIED:20200229T075220Z
UID:3292-1583665200-1583679600@kanseinomori.com
SUMMARY:選べる木育ワークショップ（中止）
DESCRIPTION:新型コロナウイルスをはじめとする感染予防及び拡散拡大防止の為、 \n「選べる木育ワークショップ」は中止とさせて頂きます。 \n工作キットの販売を行っております。 \nキット内容につきましては、スタッフまでお問い合わせください。
URL:https://kanseinomori.com/calendar/event/%e3%82%aa%e3%83%aa%e3%82%b8%e3%83%8a%e3%83%ab%e3%83%90%e3%83%83%e3%82%af%e3%82%92%e4%bd%9c%e3%82%8d%e3%81%86%ef%bc%81-7-2-2-2-4-2-2-3-4-2-2-2-2-3-3-3-3-2-2-3-3-3-2-2-3-2-2-3-3-3-3-3-3-3-5-3-3-3-3-158/
CATEGORIES:有料
END:VEVENT
BEGIN:VEVENT
DTSTART;TZID=Asia/Tokyo:20200307T110000
DTEND;TZID=Asia/Tokyo:20200307T150000
DTSTAMP:20260422T050719
CREATED:20200220T063154Z
LAST-MODIFIED:20200229T075117Z
UID:3300-1583578800-1583593200@kanseinomori.com
SUMMARY:選べる木育ワークショップ（中止）
DESCRIPTION:新型コロナウイルスをはじめとする感染予防及び拡散拡大防止の為、 \n「選べる木育ワークショップ」は中止とさせて頂きます。 \n工作キットの販売を行っております。 \nキット内容につきましては、スタッフまでお問い合わせください。
URL:https://kanseinomori.com/calendar/event/%e3%82%aa%e3%83%aa%e3%82%b8%e3%83%8a%e3%83%ab%e3%83%90%e3%83%83%e3%82%af%e3%82%92%e4%bd%9c%e3%82%8d%e3%81%86%ef%bc%81-7-2-2-2-4-2-2-3-4-2-2-2-2-3-3-3-3-2-2-3-3-3-2-2-3-2-2-3-3-3-3-3-3-3-5-3-3-3-3-160/
CATEGORIES:有料
END:VEVENT
BEGIN:VEVENT
DTSTART;TZID=Asia/Tokyo:20200306T140000
DTEND;TZID=Asia/Tokyo:20200306T160000
DTSTAMP:20260422T050719
CREATED:20200220T061240Z
LAST-MODIFIED:20200229T075002Z
UID:3288-1583503200-1583510400@kanseinomori.com
SUMMARY:レインボー万華鏡作り（中止）
DESCRIPTION:新型コロナウイルスをはじめとする感染予防及び拡散拡大防止の為、 \n「レインボー万華鏡作り」は中止とさせて頂きます。 \n工作キットの販売を行っております。 \nキット内容につきましては、スタッフまでお問い合わせください。
URL:https://kanseinomori.com/calendar/event/%e3%82%aa%e3%83%aa%e3%82%b8%e3%83%8a%e3%83%ab%e3%83%90%e3%83%83%e3%82%af%e3%82%92%e4%bd%9c%e3%82%8d%e3%81%86%ef%bc%81-7-2-2-2-4-2-2-3-4-2-2-2-2-3-3-3-3-2-2-3-3-3-2-2-3-2-2-3-3-3-3-3-3-3-5-3-3-3-3-157/
CATEGORIES:有料
END:VEVENT
BEGIN:VEVENT
DTSTART;TZID=Asia/Tokyo:20200306T110000
DTEND;TZID=Asia/Tokyo:20200306T233000
DTSTAMP:20260422T050719
CREATED:20200220T055159Z
LAST-MODIFIED:20200222T042137Z
UID:3268-1583492400-1583537400@kanseinomori.com
SUMMARY:森のにこにこコンサート　～いろは二重奏～
DESCRIPTION:
URL:https://kanseinomori.com/calendar/event/%e6%a3%ae%e3%81%ae%e3%81%ab%e3%81%93%e3%81%ab%e3%81%93%e3%82%b3%e3%83%b3%e3%82%b5%e3%83%bc%e3%83%88%e3%80%80%ef%bd%9e%e3%81%84%e3%82%8d%e3%81%af%e4%ba%8c%e9%87%8d%e5%a5%8f%ef%bd%9e/
CATEGORIES:予約不要,無料
END:VEVENT
BEGIN:VEVENT
DTSTART;TZID=Asia/Tokyo:20200305T130000
DTEND;TZID=Asia/Tokyo:20200305T160000
DTSTAMP:20260422T050719
CREATED:20200220T061112Z
LAST-MODIFIED:20200229T074323Z
UID:3284-1583413200-1583424000@kanseinomori.com
SUMMARY:枝のえんぴつストラップ作り（中止）
DESCRIPTION:新型コロナウイルスをはじめとする感染予防及び拡散拡大防止の為、 \n「枝のえんぴつストラップ作り」は中止とさせて頂きます。 \n工作キットの販売を行っております。 \nキット内容につきましては、スタッフまでお問い合わせください。
URL:https://kanseinomori.com/calendar/event/%e3%82%aa%e3%83%aa%e3%82%b8%e3%83%8a%e3%83%ab%e3%83%90%e3%83%83%e3%82%af%e3%82%92%e4%bd%9c%e3%82%8d%e3%81%86%ef%bc%81-7-2-2-2-4-2-2-3-4-2-2-2-2-3-3-3-3-2-2-3-3-3-2-2-3-2-2-3-3-3-3-3-3-3-5-3-3-3-3-15-9/
CATEGORIES:有料
END:VEVENT
BEGIN:VEVENT
DTSTART;TZID=Asia/Tokyo:20200305T103000
DTEND;TZID=Asia/Tokyo:20200305T113000
DTSTAMP:20260422T050719
CREATED:20200220T053727Z
LAST-MODIFIED:20200229T074855Z
UID:3252-1583404200-1583407800@kanseinomori.com
SUMMARY:ハイハイ＆よちよちレース（中止）
DESCRIPTION:新型コロナウイルスをはじめとする感染予防及び拡散拡大防止の為、 \n「ハイハイ＆よちよちレース」は中止とさせて頂きます。
URL:https://kanseinomori.com/calendar/event/%e3%82%aa%e3%83%aa%e3%82%b8%e3%83%8a%e3%83%ab%e3%83%90%e3%83%83%e3%82%af%e3%82%92%e4%bd%9c%e3%82%8d%e3%81%86%ef%bc%81-7-2-2-2-4-2-2-3-4-2-2-2-2-3-3-3-3-2-2-3-3-3-2-2-3-2-2-3-3-3-3-3-3-3-5-3-3-3-3-155/
CATEGORIES:予約不要,無料
END:VEVENT
BEGIN:VEVENT
DTSTART;TZID=Asia/Tokyo:20200304T130000
DTEND;TZID=Asia/Tokyo:20200304T160000
DTSTAMP:20260422T050719
CREATED:20200220T060951Z
LAST-MODIFIED:20200229T074129Z
UID:3281-1583326800-1583337600@kanseinomori.com
SUMMARY:森のお守り作り　～ゴッドアイ～（中止）
DESCRIPTION:新型コロナウイルスをはじめとする感染予防及び拡散拡大防止の為、 \n「森のお守り作り　～ゴッドアイ～」は中止とさせて頂きます。 \n工作キットの販売を行っております。 \nキット内容につきましては、スタッフまでお問い合わせください。
URL:https://kanseinomori.com/calendar/event/%e3%82%aa%e3%83%aa%e3%82%b8%e3%83%8a%e3%83%ab%e3%83%90%e3%83%83%e3%82%af%e3%82%92%e4%bd%9c%e3%82%8d%e3%81%86%ef%bc%81-7-2-2-2-4-2-2-3-4-2-2-2-2-3-3-3-3-2-2-3-3-3-2-2-3-2-2-3-3-3-3-3-3-3-5-3-3-3-3-15-8/
CATEGORIES:有料
END:VEVENT
BEGIN:VEVENT
DTSTART;TZID=Asia/Tokyo:20200304T110000
DTEND;TZID=Asia/Tokyo:20200304T113000
DTSTAMP:20260422T050719
CREATED:20200220T064321Z
LAST-MODIFIED:20200229T073859Z
UID:3302-1583319600-1583321400@kanseinomori.com
SUMMARY:ハピネスリトミック♪体験会（中止）
DESCRIPTION:新型コロナウイルスをはじめとする感染予防及び拡散拡大防止の為、 \n「ハピネスリトミック♪体験会」は中止とさせて頂きます \n \n\n学びの原点にはママの笑顔が☆お子さんがリトミックを通じ、音感、 \nリズム感、集中力を養うのはもちろん、ママも一緒に楽しめてリフレッシュ \nできるのがハピネスリトミックです♪　小野寺郁子 \n〇3月4日（水）11：00～11：30　リトミック体験会\n　　参加無料 \nリトミックに興味ある方は是非この機会にご参加下さい！\n\n\n 
URL:https://kanseinomori.com/calendar/event/%e3%82%aa%e3%83%aa%e3%82%b8%e3%83%8a%e3%83%ab%e3%83%90%e3%83%83%e3%82%af%e3%82%92%e4%bd%9c%e3%82%8d%e3%81%86%ef%bc%81-7-2-2-2-4-2-2-3-4-2-2-2-2-3-3-3-3-2-2-3-3-3-2-2-3-2-2-3-3-3-3-3-3-3-5-3-3-3-3-159/
CATEGORIES:予約不要,無料
END:VEVENT
BEGIN:VEVENT
DTSTART;TZID=Asia/Tokyo:20200304T103000
DTEND;TZID=Asia/Tokyo:20200304T230000
DTSTAMP:20260422T050719
CREATED:20200220T054754Z
LAST-MODIFIED:20200229T083209Z
UID:3264-1583317800-1583362800@kanseinomori.com
SUMMARY:3周年アニバーサリー！森のお誕生会（内容変更）
DESCRIPTION:新型コロナウイルスをはじめとする感染予防及び拡散拡大防止の為、 \n「3周年アニバーサリー！森のお誕生会」は中止とさせて頂きます。 \n3月生まれのお友達に、バースデーカードをプレゼント！ \n（スタッフにお声がけください）
URL:https://kanseinomori.com/calendar/event/3%e5%91%a8%e5%b9%b4%e3%82%a2%e3%83%8b%e3%83%90%e3%83%bc%e3%82%b5%e3%83%aa%e3%83%bc%ef%bc%81%e6%a3%ae%e3%81%ae%e3%81%8a%e8%aa%95%e7%94%9f%e4%bc%9a/
CATEGORIES:予約不要,無料
END:VEVENT
BEGIN:VEVENT
DTSTART;TZID=Asia/Tokyo:20200303T140000
DTEND;TZID=Asia/Tokyo:20200303T160000
DTSTAMP:20260422T050719
CREATED:20200220T055926Z
LAST-MODIFIED:20200229T072643Z
UID:3277-1583244000-1583251200@kanseinomori.com
SUMMARY:ガラスタイルで飾るホワイトボードセット（中止）
DESCRIPTION:新型コロナウイルスをはじめとする感染予防及び拡散拡大防止の為、 \n「ガラスタイルで飾るホワイトボードセット」は中止とさせて頂きます。 \n工作キットの販売を行っております。 \nキット内容につきましては、スタッフまでお問い合わせください。
URL:https://kanseinomori.com/calendar/event/%e3%82%aa%e3%83%aa%e3%82%b8%e3%83%8a%e3%83%ab%e3%83%90%e3%83%83%e3%82%af%e3%82%92%e4%bd%9c%e3%82%8d%e3%81%86%ef%bc%81-7-2-2-2-4-2-2-3-4-2-2-2-2-3-3-3-3-2-2-3-3-3-2-2-3-2-2-3-3-3-3-3-3-3-5-3-3-3-3-15-7/
CATEGORIES:有料
END:VEVENT
BEGIN:VEVENT
DTSTART;TZID=Asia/Tokyo:20200303T110000
DTEND;TZID=Asia/Tokyo:20200303T233000
DTSTAMP:20260422T050719
CREATED:20200220T054541Z
LAST-MODIFIED:20200229T072918Z
UID:3260-1583233200-1583278200@kanseinomori.com
SUMMARY:花吹雪で遊ぼう♪ひなまつりイベント（内容変更）
DESCRIPTION:新型コロナウイルスをはじめとする感染予防及び拡散拡大防止の為、 \n「花吹雪で遊ぼう♪ひなまつりイベント」は中止とさせて頂きます。 \nフォトスポットを設置いたしますので、ご自由に撮影下さい。
URL:https://kanseinomori.com/calendar/event/%e8%8a%b1%e5%90%b9%e9%9b%aa%e3%81%a7%e9%81%8a%e3%81%bc%e3%81%86%ef%bc%81%e3%81%b2%e3%81%aa%e3%81%be%e3%81%a4%e3%82%8a%e3%82%a4%e3%83%99%e3%83%b3%e3%83%88-2/
CATEGORIES:予約不要,無料
END:VEVENT
BEGIN:VEVENT
DTSTART;TZID=Asia/Tokyo:20200302T140000
DTEND;TZID=Asia/Tokyo:20200302T160000
DTSTAMP:20260422T050719
CREATED:20200220T055611Z
LAST-MODIFIED:20200229T073947Z
UID:3272-1583157600-1583164800@kanseinomori.com
SUMMARY:デコパージュでオリジナルバッグ作り（中止）
DESCRIPTION:新型コロナウイルスをはじめとする感染予防及び拡散拡大防止の為、 \n「デコパージュでオリジナルバッグ作り」は中止とさせて頂きます。 \n工作キットの販売を行っております。 \nキット内容につきましては、スタッフまでお問い合わせください。
URL:https://kanseinomori.com/calendar/event/%e3%82%aa%e3%83%aa%e3%82%b8%e3%83%8a%e3%83%ab%e3%83%90%e3%83%83%e3%82%af%e3%82%92%e4%bd%9c%e3%82%8d%e3%81%86%ef%bc%81-7-2-2-2-4-2-2-3-4-2-2-2-2-3-3-3-3-2-2-3-3-3-2-2-3-2-2-3-3-3-3-3-3-3-5-3-3-3-3-156/
CATEGORIES:有料
END:VEVENT
BEGIN:VEVENT
DTSTART;TZID=Asia/Tokyo:20200302T103000
DTEND;TZID=Asia/Tokyo:20200302T233000
DTSTAMP:20260422T050719
CREATED:20200220T054321Z
LAST-MODIFIED:20200229T071426Z
UID:3256-1583145000-1583191800@kanseinomori.com
SUMMARY:木玉アート写真撮影会（内容変更）
DESCRIPTION:新型コロナウイルスをはじめとする感染予防及び拡散拡大防止の為、 \n「木玉アート写真撮影会」は中止とさせて頂きます。 \nフォトスポットを設置いたしますので、ご自由に撮影下さい。
URL:https://kanseinomori.com/calendar/event/%e6%9c%a8%e7%8e%89%e3%82%a2%e3%83%bc%e3%83%88%e5%86%99%e7%9c%9f%e6%92%ae%e5%bd%b1%e4%bc%9a/
CATEGORIES:予約不要,無料
END:VEVENT
BEGIN:VEVENT
DTSTART;VALUE=DATE:20200229
DTEND;VALUE=DATE:20200301
DTSTAMP:20260422T050719
CREATED:20200122T060515Z
LAST-MODIFIED:20200229T070821Z
UID:3144-1582934400-1583020799@kanseinomori.com
SUMMARY:選べるワークショップ（中止）
DESCRIPTION:
URL:https://kanseinomori.com/calendar/event/%e3%82%aa%e3%83%aa%e3%82%b8%e3%83%8a%e3%83%ab%e3%83%90%e3%83%83%e3%82%af%e3%82%92%e4%bd%9c%e3%82%8d%e3%81%86%ef%bc%81-7-2-2-2-4-2-2-3-4-2-2-2-2-3-3-3-3-2-2-3-3-3-2-2-3-2-2-3-3-3-3-3-3-3-5-3-3-3-3-14-6/
CATEGORIES:有料
END:VEVENT
BEGIN:VEVENT
DTSTART;TZID=Asia/Tokyo:20200228T110000
DTEND;TZID=Asia/Tokyo:20200228T233000
DTSTAMP:20260422T050719
CREATED:20200122T062159Z
LAST-MODIFIED:20200122T062159Z
UID:3162-1582887600-1582932600@kanseinomori.com
SUMMARY:ぱんちゃんと遊ぼう！
DESCRIPTION:
URL:https://kanseinomori.com/calendar/event/%e3%82%aa%e3%83%aa%e3%82%b8%e3%83%8a%e3%83%ab%e3%83%90%e3%83%83%e3%82%af%e3%82%92%e4%bd%9c%e3%82%8d%e3%81%86%ef%bc%81-7-2-2-2-4-2-2-3-4-2-2-2-2-3-3-3-3-2-2-3-3-3-2-2-3-2-2-3-3-3-3-3-3-3-5-3-3-3-3-14-8/
CATEGORIES:予約不要,無料
END:VEVENT
BEGIN:VEVENT
DTSTART;TZID=Asia/Tokyo:20200226T110000
DTEND;TZID=Asia/Tokyo:20200226T233000
DTSTAMP:20260422T050719
CREATED:20200122T063257Z
LAST-MODIFIED:20200122T063315Z
UID:3168-1582714800-1582759800@kanseinomori.com
SUMMARY:お楽しみイベント
DESCRIPTION:
URL:https://kanseinomori.com/calendar/event/%e3%82%aa%e3%83%aa%e3%82%b8%e3%83%8a%e3%83%ab%e3%83%90%e3%83%83%e3%82%af%e3%82%92%e4%bd%9c%e3%82%8d%e3%81%86%ef%bc%81-7-2-2-2-4-2-2-3-4-2-2-2-2-3-3-3-3-2-2-3-3-3-2-2-3-2-2-3-3-3-3-3-3-3-5-3-3-3-3-146/
CATEGORIES:予約不要,無料
END:VEVENT
BEGIN:VEVENT
DTSTART;VALUE=DATE:20200225
DTEND;VALUE=DATE:20200226
DTSTAMP:20260422T050719
CREATED:20200122T060011Z
LAST-MODIFIED:20200122T060046Z
UID:3138-1582588800-1582675199@kanseinomori.com
SUMMARY:お楽しみワークショップ
DESCRIPTION:
URL:https://kanseinomori.com/calendar/event/%e3%82%aa%e3%83%aa%e3%82%b8%e3%83%8a%e3%83%ab%e3%83%90%e3%83%83%e3%82%af%e3%82%92%e4%bd%9c%e3%82%8d%e3%81%86%ef%bc%81-7-2-2-2-4-2-2-3-4-2-2-2-2-3-3-3-3-2-2-3-3-3-2-2-3-2-2-3-3-3-3-3-3-3-5-3-3-3-3-14-3/
CATEGORIES:有料
END:VEVENT
BEGIN:VEVENT
DTSTART;VALUE=DATE:20200224
DTEND;VALUE=DATE:20200225
DTSTAMP:20260422T050719
CREATED:20200122T060741Z
LAST-MODIFIED:20200122T060741Z
UID:3146-1582502400-1582588799@kanseinomori.com
SUMMARY:森のルームボードを作ろう！
DESCRIPTION:
URL:https://kanseinomori.com/calendar/event/%e3%82%aa%e3%83%aa%e3%82%b8%e3%83%8a%e3%83%ab%e3%83%90%e3%83%83%e3%82%af%e3%82%92%e4%bd%9c%e3%82%8d%e3%81%86%ef%bc%81-7-2-2-2-4-2-2-3-4-2-2-2-2-3-3-3-3-2-2-3-3-3-2-2-3-2-2-3-3-3-3-3-3-3-5-3-3-3-3-14-7/
CATEGORIES:有料
END:VEVENT
BEGIN:VEVENT
DTSTART;TZID=Asia/Tokyo:20200223T153000
DTEND;TZID=Asia/Tokyo:20200223T163000
DTSTAMP:20260422T050719
CREATED:20200128T044359Z
LAST-MODIFIED:20200128T044359Z
UID:3206-1582471800-1582475400@kanseinomori.com
SUMMARY:アロマバスボムを作ろう
DESCRIPTION:
URL:https://kanseinomori.com/calendar/event/%e3%82%aa%e3%83%aa%e3%82%b8%e3%83%8a%e3%83%ab%e3%83%90%e3%83%83%e3%82%af%e3%82%92%e4%bd%9c%e3%82%8d%e3%81%86%ef%bc%81-7-2-2-2-4-2-2-3-4-2-2-2-2-3-3-3-3-2-2-3-3-3-2-2-3-2-2-3-3-3-3-3-3-3-5-3-3-3-3-15-5/
CATEGORIES:有料,要予約
END:VEVENT
BEGIN:VEVENT
DTSTART;VALUE=DATE:20200223
DTEND;VALUE=DATE:20200224
DTSTAMP:20260422T050719
CREATED:20200122T055750Z
LAST-MODIFIED:20200122T055853Z
UID:3131-1582416000-1582502399@kanseinomori.com
SUMMARY:ミニひなかざりを作ろう！
DESCRIPTION:
URL:https://kanseinomori.com/calendar/event/%e3%82%aa%e3%83%aa%e3%82%b8%e3%83%8a%e3%83%ab%e3%83%90%e3%83%83%e3%82%af%e3%82%92%e4%bd%9c%e3%82%8d%e3%81%86%ef%bc%81-7-2-2-2-4-2-2-3-4-2-2-2-2-3-3-3-3-2-2-3-3-3-2-2-3-2-2-3-3-3-3-3-3-3-5-3-3-3-3-144/
CATEGORIES:有料
END:VEVENT
BEGIN:VEVENT
DTSTART;VALUE=DATE:20200222
DTEND;VALUE=DATE:20200223
DTSTAMP:20260422T050719
CREATED:20200122T060346Z
LAST-MODIFIED:20200122T060346Z
UID:3142-1582329600-1582415999@kanseinomori.com
SUMMARY:選べるワークショップ
DESCRIPTION:
URL:https://kanseinomori.com/calendar/event/%e3%82%aa%e3%83%aa%e3%82%b8%e3%83%8a%e3%83%ab%e3%83%90%e3%83%83%e3%82%af%e3%82%92%e4%bd%9c%e3%82%8d%e3%81%86%ef%bc%81-7-2-2-2-4-2-2-3-4-2-2-2-2-3-3-3-3-2-2-3-3-3-2-2-3-2-2-3-3-3-3-3-3-3-5-3-3-3-3-14-5/
CATEGORIES:有料
END:VEVENT
BEGIN:VEVENT
DTSTART;TZID=Asia/Tokyo:20200221T110000
DTEND;TZID=Asia/Tokyo:20200221T113000
DTSTAMP:20260422T050719
CREATED:20200122T061740Z
LAST-MODIFIED:20200122T061740Z
UID:3155-1582282800-1582284600@kanseinomori.com
SUMMARY:森のにこにこたいむ
DESCRIPTION:
URL:https://kanseinomori.com/calendar/event/827-2-2-2-2-2-2-2-2-2-3-2-2-2-3-2-2-2-2-2-2-2-3-2-2-2-2-2-2-2-2-2-3-2-2-2-2-2-2-3-2-2-2-2-3-2-2-3-2-3-2-2-2-2-2-2-2-2-3-2-2-2-2-3-2-2-2-2-2/
CATEGORIES:予約不要,無料
END:VEVENT
END:VCALENDAR