BEGIN:VCALENDAR
VERSION:2.0
PRODID:-//木の室内創造あそび場「感性の森」 - ECPv6.13.2.1//NONSGML v1.0//EN
CALSCALE:GREGORIAN
METHOD:PUBLISH
X-WR-CALNAME:木の室内創造あそび場「感性の森」
X-ORIGINAL-URL:https://kanseinomori.com/calendar
X-WR-CALDESC:木の室内創造あそび場「感性の森」 のイベント
REFRESH-INTERVAL;VALUE=DURATION:PT1H
X-Robots-Tag:noindex
X-PUBLISHED-TTL:PT1H
BEGIN:VTIMEZONE
TZID:Asia/Tokyo
BEGIN:STANDARD
TZOFFSETFROM:+0900
TZOFFSETTO:+0900
TZNAME:JST
DTSTART:20180101T000000
END:STANDARD
END:VTIMEZONE
BEGIN:VEVENT
DTSTART;TZID=Asia/Tokyo:20180923T133000
DTEND;TZID=Asia/Tokyo:20180923T143000
DTSTAMP:20260422T045916
CREATED:20180823T015723Z
LAST-MODIFIED:20180823T015723Z
UID:1389-1537709400-1537713000@kanseinomori.com
SUMMARY:森のコロコロ迷路
DESCRIPTION:
URL:https://kanseinomori.com/calendar/event/%e3%82%aa%e3%83%aa%e3%82%b8%e3%83%8a%e3%83%ab%e3%83%90%e3%83%83%e3%82%af%e3%82%92%e4%bd%9c%e3%82%8d%e3%81%86%ef%bc%81-7-2-2-2-4-2-2-3-4-2-2-2-2-3-3-3-3-2-2-3-3-3-2-2-3-2-2-3-3-3-3-3-3-3-4/
CATEGORIES:予約不要,有料
END:VEVENT
BEGIN:VEVENT
DTSTART;TZID=Asia/Tokyo:20180923T110000
DTEND;TZID=Asia/Tokyo:20180923T120000
DTSTAMP:20260422T045916
CREATED:20180823T015749Z
LAST-MODIFIED:20180823T015749Z
UID:1392-1537700400-1537704000@kanseinomori.com
SUMMARY:森のコロコロ迷路
DESCRIPTION:
URL:https://kanseinomori.com/calendar/event/%e3%82%aa%e3%83%aa%e3%82%b8%e3%83%8a%e3%83%ab%e3%83%90%e3%83%83%e3%82%af%e3%82%92%e4%bd%9c%e3%82%8d%e3%81%86%ef%bc%81-7-2-2-2-4-2-2-3-4-2-2-2-2-3-3-3-3-2-2-3-3-3-2-2-3-2-2-3-3-3-3-3-3-3-4-2/
CATEGORIES:予約不要,有料
END:VEVENT
BEGIN:VEVENT
DTSTART;TZID=Asia/Tokyo:20180922T133000
DTEND;TZID=Asia/Tokyo:20180922T143000
DTSTAMP:20260422T045916
CREATED:20180819T072848Z
LAST-MODIFIED:20180819T072848Z
UID:1350-1537623000-1537626600@kanseinomori.com
SUMMARY:ホワイトボード＆マグネット
DESCRIPTION:
URL:https://kanseinomori.com/calendar/event/%e3%82%aa%e3%83%aa%e3%82%b8%e3%83%8a%e3%83%ab%e3%83%90%e3%83%83%e3%82%af%e3%82%92%e4%bd%9c%e3%82%8d%e3%81%86%ef%bc%81-7-2-2-2-4-2-2-3-4-2-2-2-2-3-3-3-3-2-2-3-3-3-2-2-3-2-2-3-3-3-3-3-3/
CATEGORIES:予約不要,有料
END:VEVENT
BEGIN:VEVENT
DTSTART;TZID=Asia/Tokyo:20180922T110000
DTEND;TZID=Asia/Tokyo:20180922T120000
DTSTAMP:20260422T045916
CREATED:20180819T072917Z
LAST-MODIFIED:20180819T072917Z
UID:1352-1537614000-1537617600@kanseinomori.com
SUMMARY:ホワイトボード＆マグネット
DESCRIPTION:
URL:https://kanseinomori.com/calendar/event/%e3%82%aa%e3%83%aa%e3%82%b8%e3%83%8a%e3%83%ab%e3%83%90%e3%83%83%e3%82%af%e3%82%92%e4%bd%9c%e3%82%8d%e3%81%86%ef%bc%81-7-2-2-2-4-2-2-3-4-2-2-2-2-3-3-3-3-2-2-3-3-3-2-2-3-2-2-3-3-3-3-3-3-2/
CATEGORIES:予約不要,有料
END:VEVENT
BEGIN:VEVENT
DTSTART;TZID=Asia/Tokyo:20180917T133000
DTEND;TZID=Asia/Tokyo:20180917T143000
DTSTAMP:20260422T045916
CREATED:20180823T015447Z
LAST-MODIFIED:20180823T015447Z
UID:1384-1537191000-1537194600@kanseinomori.com
SUMMARY:森のなかまたち
DESCRIPTION:
URL:https://kanseinomori.com/calendar/event/%e3%82%aa%e3%83%aa%e3%82%b8%e3%83%8a%e3%83%ab%e3%83%90%e3%83%83%e3%82%af%e3%82%92%e4%bd%9c%e3%82%8d%e3%81%86%ef%bc%81-7-2-2-2-4-2-2-3-4-2-2-2-2-3-3-3-3-2-2-3-3-3-2-2-3-2-2-3-3-3-3-3-3-3-3-3-3-3/
CATEGORIES:予約不要,有料
END:VEVENT
BEGIN:VEVENT
DTSTART;TZID=Asia/Tokyo:20180917T110000
DTEND;TZID=Asia/Tokyo:20180917T120000
DTSTAMP:20260422T045916
CREATED:20180823T015514Z
LAST-MODIFIED:20180823T015514Z
UID:1386-1537182000-1537185600@kanseinomori.com
SUMMARY:森のなかまたち
DESCRIPTION:
URL:https://kanseinomori.com/calendar/event/%e3%82%aa%e3%83%aa%e3%82%b8%e3%83%8a%e3%83%ab%e3%83%90%e3%83%83%e3%82%af%e3%82%92%e4%bd%9c%e3%82%8d%e3%81%86%ef%bc%81-7-2-2-2-4-2-2-3-4-2-2-2-2-3-3-3-3-2-2-3-3-3-2-2-3-2-2-3-3-3-3-3-3-3-3-3-3-3-2/
CATEGORIES:予約不要,有料
END:VEVENT
BEGIN:VEVENT
DTSTART;TZID=Asia/Tokyo:20180916T133000
DTEND;TZID=Asia/Tokyo:20180916T143000
DTSTAMP:20260422T045916
CREATED:20180823T015401Z
LAST-MODIFIED:20180823T015401Z
UID:1380-1537104600-1537108200@kanseinomori.com
SUMMARY:森のなかまたち
DESCRIPTION:
URL:https://kanseinomori.com/calendar/event/%e3%82%aa%e3%83%aa%e3%82%b8%e3%83%8a%e3%83%ab%e3%83%90%e3%83%83%e3%82%af%e3%82%92%e4%bd%9c%e3%82%8d%e3%81%86%ef%bc%81-7-2-2-2-4-2-2-3-4-2-2-2-2-3-3-3-3-2-2-3-3-3-2-2-3-2-2-3-3-3-3-3-3-3-3-3-3/
CATEGORIES:予約不要,有料
END:VEVENT
BEGIN:VEVENT
DTSTART;TZID=Asia/Tokyo:20180916T110000
DTEND;TZID=Asia/Tokyo:20180916T120000
DTSTAMP:20260422T045916
CREATED:20180823T015425Z
LAST-MODIFIED:20180823T015425Z
UID:1382-1537095600-1537099200@kanseinomori.com
SUMMARY:森のなかまたち
DESCRIPTION:
URL:https://kanseinomori.com/calendar/event/%e3%82%aa%e3%83%aa%e3%82%b8%e3%83%8a%e3%83%ab%e3%83%90%e3%83%83%e3%82%af%e3%82%92%e4%bd%9c%e3%82%8d%e3%81%86%ef%bc%81-7-2-2-2-4-2-2-3-4-2-2-2-2-3-3-3-3-2-2-3-3-3-2-2-3-2-2-3-3-3-3-3-3-3-3-3-3-2/
CATEGORIES:予約不要,有料
END:VEVENT
BEGIN:VEVENT
DTSTART;TZID=Asia/Tokyo:20180915T133000
DTEND;TZID=Asia/Tokyo:20180915T143000
DTSTAMP:20260422T045916
CREATED:20180819T072656Z
LAST-MODIFIED:20180819T072747Z
UID:1346-1537018200-1537021800@kanseinomori.com
SUMMARY:ホワイトボード＆マグネット
DESCRIPTION:
URL:https://kanseinomori.com/calendar/event/%e3%82%aa%e3%83%aa%e3%82%b8%e3%83%8a%e3%83%ab%e3%83%90%e3%83%83%e3%82%af%e3%82%92%e4%bd%9c%e3%82%8d%e3%81%86%ef%bc%81-7-2-2-2-4-2-2-3-4-2-2-2-2-3-3-3-3-2-2-3-3-3-2-2-3-2-2-3-3-3-3-3/
CATEGORIES:予約不要,有料
END:VEVENT
BEGIN:VEVENT
DTSTART;TZID=Asia/Tokyo:20180915T110000
DTEND;TZID=Asia/Tokyo:20180915T120000
DTSTAMP:20260422T045916
CREATED:20180819T072820Z
LAST-MODIFIED:20180819T072820Z
UID:1348-1537009200-1537012800@kanseinomori.com
SUMMARY:ホワイトボード＆マグネット
DESCRIPTION:
URL:https://kanseinomori.com/calendar/event/%e3%82%aa%e3%83%aa%e3%82%b8%e3%83%8a%e3%83%ab%e3%83%90%e3%83%83%e3%82%af%e3%82%92%e4%bd%9c%e3%82%8d%e3%81%86%ef%bc%81-7-2-2-2-4-2-2-3-4-2-2-2-2-3-3-3-3-2-2-3-3-3-2-2-3-2-2-3-3-3-3-3-2/
CATEGORIES:予約不要,有料
END:VEVENT
BEGIN:VEVENT
DTSTART;TZID=Asia/Tokyo:20180909T133000
DTEND;TZID=Asia/Tokyo:20180909T143000
DTSTAMP:20260422T045916
CREATED:20180823T015304Z
LAST-MODIFIED:20180823T015304Z
UID:1376-1536499800-1536503400@kanseinomori.com
SUMMARY:森のなかまたち
DESCRIPTION:
URL:https://kanseinomori.com/calendar/event/%e3%82%aa%e3%83%aa%e3%82%b8%e3%83%8a%e3%83%ab%e3%83%90%e3%83%83%e3%82%af%e3%82%92%e4%bd%9c%e3%82%8d%e3%81%86%ef%bc%81-7-2-2-2-4-2-2-3-4-2-2-2-2-3-3-3-3-2-2-3-3-3-2-2-3-2-2-3-3-3-3-3-3-3-3-3/
CATEGORIES:予約不要,有料
END:VEVENT
BEGIN:VEVENT
DTSTART;TZID=Asia/Tokyo:20180909T110000
DTEND;TZID=Asia/Tokyo:20180909T120000
DTSTAMP:20260422T045916
CREATED:20180823T015335Z
LAST-MODIFIED:20180823T015335Z
UID:1378-1536490800-1536494400@kanseinomori.com
SUMMARY:森のなかまたち
DESCRIPTION:
URL:https://kanseinomori.com/calendar/event/%e3%82%aa%e3%83%aa%e3%82%b8%e3%83%8a%e3%83%ab%e3%83%90%e3%83%83%e3%82%af%e3%82%92%e4%bd%9c%e3%82%8d%e3%81%86%ef%bc%81-7-2-2-2-4-2-2-3-4-2-2-2-2-3-3-3-3-2-2-3-3-3-2-2-3-2-2-3-3-3-3-3-3-3-3-3-2/
CATEGORIES:予約不要,有料
END:VEVENT
BEGIN:VEVENT
DTSTART;TZID=Asia/Tokyo:20180908T133000
DTEND;TZID=Asia/Tokyo:20180908T143000
DTSTAMP:20260422T045916
CREATED:20180819T072543Z
LAST-MODIFIED:20180819T072543Z
UID:1342-1536413400-1536417000@kanseinomori.com
SUMMARY:ホワイトボード＆マグネット
DESCRIPTION:
URL:https://kanseinomori.com/calendar/event/%e3%82%aa%e3%83%aa%e3%82%b8%e3%83%8a%e3%83%ab%e3%83%90%e3%83%83%e3%82%af%e3%82%92%e4%bd%9c%e3%82%8d%e3%81%86%ef%bc%81-7-2-2-2-4-2-2-3-4-2-2-2-2-3-3-3-3-2-2-3-3-3-2-2-3-2-2-3-3-3-3/
CATEGORIES:予約不要,有料
END:VEVENT
BEGIN:VEVENT
DTSTART;TZID=Asia/Tokyo:20180908T110000
DTEND;TZID=Asia/Tokyo:20180908T120000
DTSTAMP:20260422T045916
CREATED:20180819T072615Z
LAST-MODIFIED:20180819T072615Z
UID:1344-1536404400-1536408000@kanseinomori.com
SUMMARY:ホワイトボード＆マグネット
DESCRIPTION:
URL:https://kanseinomori.com/calendar/event/%e3%82%aa%e3%83%aa%e3%82%b8%e3%83%8a%e3%83%ab%e3%83%90%e3%83%83%e3%82%af%e3%82%92%e4%bd%9c%e3%82%8d%e3%81%86%ef%bc%81-7-2-2-2-4-2-2-3-4-2-2-2-2-3-3-3-3-2-2-3-3-3-2-2-3-2-2-3-3-3-3-2/
CATEGORIES:予約不要,有料
END:VEVENT
BEGIN:VEVENT
DTSTART;TZID=Asia/Tokyo:20180902T133000
DTEND;TZID=Asia/Tokyo:20180902T143000
DTSTAMP:20260422T045916
CREATED:20180823T015159Z
LAST-MODIFIED:20180823T015159Z
UID:1370-1535895000-1535898600@kanseinomori.com
SUMMARY:森のなかまたち
DESCRIPTION:
URL:https://kanseinomori.com/calendar/event/%e3%82%aa%e3%83%aa%e3%82%b8%e3%83%8a%e3%83%ab%e3%83%90%e3%83%83%e3%82%af%e3%82%92%e4%bd%9c%e3%82%8d%e3%81%86%ef%bc%81-7-2-2-2-4-2-2-3-4-2-2-2-2-3-3-3-3-2-2-3-3-3-2-2-3-2-2-3-3-3-3-3-3-3-3/
CATEGORIES:予約不要,有料
END:VEVENT
BEGIN:VEVENT
DTSTART;TZID=Asia/Tokyo:20180902T110000
DTEND;TZID=Asia/Tokyo:20180902T120000
DTSTAMP:20260422T045916
CREATED:20180823T015239Z
LAST-MODIFIED:20180823T015239Z
UID:1374-1535886000-1535889600@kanseinomori.com
SUMMARY:森のなかまたち
DESCRIPTION:
URL:https://kanseinomori.com/calendar/event/%e3%82%aa%e3%83%aa%e3%82%b8%e3%83%8a%e3%83%ab%e3%83%90%e3%83%83%e3%82%af%e3%82%92%e4%bd%9c%e3%82%8d%e3%81%86%ef%bc%81-7-2-2-2-4-2-2-3-4-2-2-2-2-3-3-3-3-2-2-3-3-3-2-2-3-2-2-3-3-3-3-3-3-3-3-2/
CATEGORIES:予約不要,有料
END:VEVENT
BEGIN:VEVENT
DTSTART;TZID=Asia/Tokyo:20180901T133000
DTEND;TZID=Asia/Tokyo:20180901T143000
DTSTAMP:20260422T045916
CREATED:20180819T070838Z
LAST-MODIFIED:20180819T070838Z
UID:1337-1535808600-1535812200@kanseinomori.com
SUMMARY:ホワイトボード＆マグネット
DESCRIPTION:
URL:https://kanseinomori.com/calendar/event/%e3%82%aa%e3%83%aa%e3%82%b8%e3%83%8a%e3%83%ab%e3%83%90%e3%83%83%e3%82%af%e3%82%92%e4%bd%9c%e3%82%8d%e3%81%86%ef%bc%81-7-2-2-2-4-2-2-3-4-2-2-2-2-3-3-3-3-2-2-3-3-3-2-2-3-2-2-3-3-3/
CATEGORIES:予約不要,有料
END:VEVENT
BEGIN:VEVENT
DTSTART;TZID=Asia/Tokyo:20180901T110000
DTEND;TZID=Asia/Tokyo:20180901T120000
DTSTAMP:20260422T045916
CREATED:20180819T070912Z
LAST-MODIFIED:20180819T070912Z
UID:1340-1535799600-1535803200@kanseinomori.com
SUMMARY:ホワイトボード＆マグネット
DESCRIPTION:
URL:https://kanseinomori.com/calendar/event/%e3%82%aa%e3%83%aa%e3%82%b8%e3%83%8a%e3%83%ab%e3%83%90%e3%83%83%e3%82%af%e3%82%92%e4%bd%9c%e3%82%8d%e3%81%86%ef%bc%81-7-2-2-2-4-2-2-3-4-2-2-2-2-3-3-3-3-2-2-3-3-3-2-2-3-2-2-3-3-3-2/
CATEGORIES:予約不要,有料
END:VEVENT
BEGIN:VEVENT
DTSTART;TZID=Asia/Tokyo:20180826T133000
DTEND;TZID=Asia/Tokyo:20180826T143000
DTSTAMP:20260422T045916
CREATED:20180723T064331Z
LAST-MODIFIED:20180723T064331Z
UID:1307-1535290200-1535293800@kanseinomori.com
SUMMARY:ころころコースター作ろう！
DESCRIPTION:
URL:https://kanseinomori.com/calendar/event/%e3%82%aa%e3%83%aa%e3%82%b8%e3%83%8a%e3%83%ab%e3%83%90%e3%83%83%e3%82%af%e3%82%92%e4%bd%9c%e3%82%8d%e3%81%86%ef%bc%81-7-2-2-2-4-2-2-3-4-2-2-2-2-3-3-3-3-2-2-3-3-3-2-2-3-2-2-3-3/
CATEGORIES:予約不要,有料
END:VEVENT
BEGIN:VEVENT
DTSTART;TZID=Asia/Tokyo:20180826T110000
DTEND;TZID=Asia/Tokyo:20180826T120000
DTSTAMP:20260422T045916
CREATED:20180723T064355Z
LAST-MODIFIED:20180723T064355Z
UID:1309-1535281200-1535284800@kanseinomori.com
SUMMARY:ころころコースター作ろう！
DESCRIPTION:
URL:https://kanseinomori.com/calendar/event/%e3%82%aa%e3%83%aa%e3%82%b8%e3%83%8a%e3%83%ab%e3%83%90%e3%83%83%e3%82%af%e3%82%92%e4%bd%9c%e3%82%8d%e3%81%86%ef%bc%81-7-2-2-2-4-2-2-3-4-2-2-2-2-3-3-3-3-2-2-3-3-3-2-2-3-2-2-3-3-2/
CATEGORIES:予約不要,有料
END:VEVENT
BEGIN:VEVENT
DTSTART;TZID=Asia/Tokyo:20180825T133000
DTEND;TZID=Asia/Tokyo:20180825T143000
DTSTAMP:20260422T045916
CREATED:20180723T064040Z
LAST-MODIFIED:20180723T064040Z
UID:1298-1535203800-1535207400@kanseinomori.com
SUMMARY:金魚ちゃんを作ろう！
DESCRIPTION:
URL:https://kanseinomori.com/calendar/event/%e3%82%aa%e3%83%aa%e3%82%b8%e3%83%8a%e3%83%ab%e3%83%90%e3%83%83%e3%82%af%e3%82%92%e4%bd%9c%e3%82%8d%e3%81%86%ef%bc%81-7-2-2-2-4-2-2-3-4-2-2-2-2-3-3-3-3-2-2-3-3-3-2-2-3-2-2/
CATEGORIES:予約不要,有料
END:VEVENT
BEGIN:VEVENT
DTSTART;TZID=Asia/Tokyo:20180825T110000
DTEND;TZID=Asia/Tokyo:20180825T120000
DTSTAMP:20260422T045916
CREATED:20180723T064109Z
LAST-MODIFIED:20180723T064109Z
UID:1300-1535194800-1535198400@kanseinomori.com
SUMMARY:金魚ちゃんを作ろう！
DESCRIPTION:
URL:https://kanseinomori.com/calendar/event/%e3%82%aa%e3%83%aa%e3%82%b8%e3%83%8a%e3%83%ab%e3%83%90%e3%83%83%e3%82%af%e3%82%92%e4%bd%9c%e3%82%8d%e3%81%86%ef%bc%81-7-2-2-2-4-2-2-3-4-2-2-2-2-3-3-3-3-2-2-3-3-3-2-2-3-2-2-2/
CATEGORIES:予約不要,有料
END:VEVENT
BEGIN:VEVENT
DTSTART;TZID=Asia/Tokyo:20180824T133000
DTEND;TZID=Asia/Tokyo:20180824T143000
DTSTAMP:20260422T045916
CREATED:20180723T063039Z
LAST-MODIFIED:20180723T063039Z
UID:1271-1535117400-1535121000@kanseinomori.com
SUMMARY:オリジナルバックを作ろう！
DESCRIPTION:
URL:https://kanseinomori.com/calendar/event/%e3%82%aa%e3%83%aa%e3%82%b8%e3%83%8a%e3%83%ab%e3%83%90%e3%83%83%e3%82%af%e3%82%92%e4%bd%9c%e3%82%8d%e3%81%86%ef%bc%81-7-2-2-2-4-2-2-3-4-2-2-2-2-3-3-3-3-2-2/
CATEGORIES:予約不要,有料
END:VEVENT
BEGIN:VEVENT
DTSTART;TZID=Asia/Tokyo:20180824T110000
DTEND;TZID=Asia/Tokyo:20180824T120000
DTSTAMP:20260422T045916
CREATED:20180723T063108Z
LAST-MODIFIED:20180723T063108Z
UID:1273-1535108400-1535112000@kanseinomori.com
SUMMARY:オリジナルバックを作ろう！
DESCRIPTION:
URL:https://kanseinomori.com/calendar/event/%e3%82%aa%e3%83%aa%e3%82%b8%e3%83%8a%e3%83%ab%e3%83%90%e3%83%83%e3%82%af%e3%82%92%e4%bd%9c%e3%82%8d%e3%81%86%ef%bc%81-7-2-2-2-4-2-2-3-4-2-2-2-2-3-3-3-3-2-2-2/
CATEGORIES:予約不要,有料
END:VEVENT
BEGIN:VEVENT
DTSTART;TZID=Asia/Tokyo:20180823T133000
DTEND;TZID=Asia/Tokyo:20180823T143000
DTSTAMP:20260422T045916
CREATED:20180723T062927Z
LAST-MODIFIED:20180723T062927Z
UID:1269-1535031000-1535034600@kanseinomori.com
SUMMARY:オリジナルバックを作ろう！
DESCRIPTION:
URL:https://kanseinomori.com/calendar/event/%e3%82%aa%e3%83%aa%e3%82%b8%e3%83%8a%e3%83%ab%e3%83%90%e3%83%83%e3%82%af%e3%82%92%e4%bd%9c%e3%82%8d%e3%81%86%ef%bc%81-7-2-2-2-4-2-2-3-4-2-2-2-2-3-3-3-3-2/
CATEGORIES:予約不要,有料
END:VEVENT
BEGIN:VEVENT
DTSTART;TZID=Asia/Tokyo:20180823T110000
DTEND;TZID=Asia/Tokyo:20180823T120000
DTSTAMP:20260422T045916
CREATED:20180723T062709Z
LAST-MODIFIED:20180723T063014Z
UID:1267-1535022000-1535025600@kanseinomori.com
SUMMARY:オリジナルバックを作ろう！
DESCRIPTION:
URL:https://kanseinomori.com/calendar/event/%e3%82%aa%e3%83%aa%e3%82%b8%e3%83%8a%e3%83%ab%e3%83%90%e3%83%83%e3%82%af%e3%82%92%e4%bd%9c%e3%82%8d%e3%81%86%ef%bc%81-7-2-2-2-4-2-2-3-4-2-2-2-2-3-3-3-3/
CATEGORIES:予約不要,有料
END:VEVENT
BEGIN:VEVENT
DTSTART;TZID=Asia/Tokyo:20180819T133000
DTEND;TZID=Asia/Tokyo:20180819T143000
DTSTAMP:20260422T045916
CREATED:20180723T064222Z
LAST-MODIFIED:20180723T064222Z
UID:1302-1534685400-1534689000@kanseinomori.com
SUMMARY:ころころコースター作ろう！
DESCRIPTION:
URL:https://kanseinomori.com/calendar/event/%e3%82%aa%e3%83%aa%e3%82%b8%e3%83%8a%e3%83%ab%e3%83%90%e3%83%83%e3%82%af%e3%82%92%e4%bd%9c%e3%82%8d%e3%81%86%ef%bc%81-7-2-2-2-4-2-2-3-4-2-2-2-2-3-3-3-3-2-2-3-3-3-2-2-3-2-2-3/
CATEGORIES:予約不要,有料
END:VEVENT
BEGIN:VEVENT
DTSTART;TZID=Asia/Tokyo:20180819T110000
DTEND;TZID=Asia/Tokyo:20180819T120000
DTSTAMP:20260422T045916
CREATED:20180723T064300Z
LAST-MODIFIED:20180723T064300Z
UID:1305-1534676400-1534680000@kanseinomori.com
SUMMARY:ころころコースター作ろう！
DESCRIPTION:
URL:https://kanseinomori.com/calendar/event/%e3%82%aa%e3%83%aa%e3%82%b8%e3%83%8a%e3%83%ab%e3%83%90%e3%83%83%e3%82%af%e3%82%92%e4%bd%9c%e3%82%8d%e3%81%86%ef%bc%81-7-2-2-2-4-2-2-3-4-2-2-2-2-3-3-3-3-2-2-3-3-3-2-2-3-2-2-3-2/
CATEGORIES:予約不要,有料
END:VEVENT
BEGIN:VEVENT
DTSTART;TZID=Asia/Tokyo:20180818T133000
DTEND;TZID=Asia/Tokyo:20180818T143000
DTSTAMP:20260422T045916
CREATED:20180723T064017Z
LAST-MODIFIED:20180723T064017Z
UID:1296-1534599000-1534602600@kanseinomori.com
SUMMARY:金魚ちゃんを作ろう！
DESCRIPTION:
URL:https://kanseinomori.com/calendar/event/%e3%82%aa%e3%83%aa%e3%82%b8%e3%83%8a%e3%83%ab%e3%83%90%e3%83%83%e3%82%af%e3%82%92%e4%bd%9c%e3%82%8d%e3%81%86%ef%bc%81-7-2-2-2-4-2-2-3-4-2-2-2-2-3-3-3-3-2-2-3-3-3-2-2-3-2/
CATEGORIES:予約不要,有料
END:VEVENT
BEGIN:VEVENT
DTSTART;TZID=Asia/Tokyo:20180818T110000
DTEND;TZID=Asia/Tokyo:20180818T120000
DTSTAMP:20260422T045916
CREATED:20180723T063947Z
LAST-MODIFIED:20180723T063947Z
UID:1293-1534590000-1534593600@kanseinomori.com
SUMMARY:金魚ちゃんを作ろう！
DESCRIPTION:
URL:https://kanseinomori.com/calendar/event/%e3%82%aa%e3%83%aa%e3%82%b8%e3%83%8a%e3%83%ab%e3%83%90%e3%83%83%e3%82%af%e3%82%92%e4%bd%9c%e3%82%8d%e3%81%86%ef%bc%81-7-2-2-2-4-2-2-3-4-2-2-2-2-3-3-3-3-2-2-3-3-3-2-2-3/
CATEGORIES:予約不要,有料
END:VEVENT
END:VCALENDAR