BEGIN:VCALENDAR
VERSION:2.0
PRODID:-//木の室内創造あそび場「感性の森」 - ECPv6.13.2.1//NONSGML v1.0//EN
CALSCALE:GREGORIAN
METHOD:PUBLISH
X-WR-CALNAME:木の室内創造あそび場「感性の森」
X-ORIGINAL-URL:https://kanseinomori.com/calendar
X-WR-CALDESC:木の室内創造あそび場「感性の森」 のイベント
REFRESH-INTERVAL;VALUE=DURATION:PT1H
X-Robots-Tag:noindex
X-PUBLISHED-TTL:PT1H
BEGIN:VTIMEZONE
TZID:Asia/Tokyo
BEGIN:STANDARD
TZOFFSETFROM:+0900
TZOFFSETTO:+0900
TZNAME:JST
DTSTART:20180101T000000
END:STANDARD
END:VTIMEZONE
BEGIN:VEVENT
DTSTART;VALUE=DATE:20190224
DTEND;VALUE=DATE:20190225
DTSTAMP:20260422T032746
CREATED:20190125T014824Z
LAST-MODIFIED:20190125T014824Z
UID:1876-1550966400-1551052799@kanseinomori.com
SUMMARY:おひなさまリースを作ろう！
DESCRIPTION:
URL:https://kanseinomori.com/calendar/event/%e3%82%aa%e3%83%aa%e3%82%b8%e3%83%8a%e3%83%ab%e3%83%90%e3%83%83%e3%82%af%e3%82%92%e4%bd%9c%e3%82%8d%e3%81%86%ef%bc%81-7-2-2-2-4-2-2-3-4-2-2-2-2-3-3-3-3-2-2-3-3-3-2-2-3-2-2-3-3-3-3-3-3-3-5-3-3-3-3-3-87/
CATEGORIES:予約不要,有料
END:VEVENT
BEGIN:VEVENT
DTSTART;VALUE=DATE:20190223
DTEND;VALUE=DATE:20190224
DTSTAMP:20260422T032746
CREATED:20190125T014334Z
LAST-MODIFIED:20190125T014334Z
UID:1861-1550880000-1550966399@kanseinomori.com
SUMMARY:デコパージュでオリジナルバックを作ろう！
DESCRIPTION:
URL:https://kanseinomori.com/calendar/event/%e3%82%aa%e3%83%aa%e3%82%b8%e3%83%8a%e3%83%ab%e3%83%90%e3%83%83%e3%82%af%e3%82%92%e4%bd%9c%e3%82%8d%e3%81%86%ef%bc%81-7-2-2-2-4-2-2-3-4-2-2-2-2-3-3-3-3-2-2-3-3-3-2-2-3-2-2-3-3-3-3-3-3-3-5-3-3-3-3-3-75/
CATEGORIES:予約不要,有料
END:VEVENT
BEGIN:VEVENT
DTSTART;VALUE=DATE:20190217
DTEND;VALUE=DATE:20190218
DTSTAMP:20260422T032746
CREATED:20190125T014737Z
LAST-MODIFIED:20190125T014802Z
UID:1872-1550361600-1550447999@kanseinomori.com
SUMMARY:おひなさまリースを作ろう！
DESCRIPTION:
URL:https://kanseinomori.com/calendar/event/%e3%82%aa%e3%83%aa%e3%82%b8%e3%83%8a%e3%83%ab%e3%83%90%e3%83%83%e3%82%af%e3%82%92%e4%bd%9c%e3%82%8d%e3%81%86%ef%bc%81-7-2-2-2-4-2-2-3-4-2-2-2-2-3-3-3-3-2-2-3-3-3-2-2-3-2-2-3-3-3-3-3-3-3-5-3-3-3-3-3-86/
CATEGORIES:予約不要,有料
END:VEVENT
BEGIN:VEVENT
DTSTART;VALUE=DATE:20190216
DTEND;VALUE=DATE:20190217
DTSTAMP:20260422T032746
CREATED:20190125T014315Z
LAST-MODIFIED:20190125T014315Z
UID:1859-1550275200-1550361599@kanseinomori.com
SUMMARY:デコパージュでオリジナルバックを作ろう！
DESCRIPTION:
URL:https://kanseinomori.com/calendar/event/%e3%82%aa%e3%83%aa%e3%82%b8%e3%83%8a%e3%83%ab%e3%83%90%e3%83%83%e3%82%af%e3%82%92%e4%bd%9c%e3%82%8d%e3%81%86%ef%bc%81-7-2-2-2-4-2-2-3-4-2-2-2-2-3-3-3-3-2-2-3-3-3-2-2-3-2-2-3-3-3-3-3-3-3-5-3-3-3-3-3-73/
CATEGORIES:予約不要,有料
END:VEVENT
BEGIN:VEVENT
DTSTART;VALUE=DATE:20190211
DTEND;VALUE=DATE:20190212
DTSTAMP:20260422T032746
CREATED:20190125T014641Z
LAST-MODIFIED:20190125T014641Z
UID:1869-1549843200-1549929599@kanseinomori.com
SUMMARY:森の伝言板を作ろう！
DESCRIPTION:
URL:https://kanseinomori.com/calendar/event/%e3%82%aa%e3%83%aa%e3%82%b8%e3%83%8a%e3%83%ab%e3%83%90%e3%83%83%e3%82%af%e3%82%92%e4%bd%9c%e3%82%8d%e3%81%86%ef%bc%81-7-2-2-2-4-2-2-3-4-2-2-2-2-3-3-3-3-2-2-3-3-3-2-2-3-2-2-3-3-3-3-3-3-3-5-3-3-3-3-3-85/
CATEGORIES:予約不要,有料
END:VEVENT
BEGIN:VEVENT
DTSTART;VALUE=DATE:20190210
DTEND;VALUE=DATE:20190211
DTSTAMP:20260422T032746
CREATED:20190125T014250Z
LAST-MODIFIED:20190125T014250Z
UID:1857-1549756800-1549843199@kanseinomori.com
SUMMARY:デコパージュでオリジナルバックを作ろう！
DESCRIPTION:
URL:https://kanseinomori.com/calendar/event/%e3%82%aa%e3%83%aa%e3%82%b8%e3%83%8a%e3%83%ab%e3%83%90%e3%83%83%e3%82%af%e3%82%92%e4%bd%9c%e3%82%8d%e3%81%86%ef%bc%81-7-2-2-2-4-2-2-3-4-2-2-2-2-3-3-3-3-2-2-3-3-3-2-2-3-2-2-3-3-3-3-3-3-3-5-3-3-3-3-3-69/
CATEGORIES:予約不要,有料
END:VEVENT
BEGIN:VEVENT
DTSTART;VALUE=DATE:20190209
DTEND;VALUE=DATE:20190210
DTSTAMP:20260422T032746
CREATED:20190125T014544Z
LAST-MODIFIED:20190125T014544Z
UID:1866-1549670400-1549756799@kanseinomori.com
SUMMARY:いのししのとんとん相撲を作ろう！
DESCRIPTION:
URL:https://kanseinomori.com/calendar/event/%e3%82%aa%e3%83%aa%e3%82%b8%e3%83%8a%e3%83%ab%e3%83%90%e3%83%83%e3%82%af%e3%82%92%e4%bd%9c%e3%82%8d%e3%81%86%ef%bc%81-7-2-2-2-4-2-2-3-4-2-2-2-2-3-3-3-3-2-2-3-3-3-2-2-3-2-2-3-3-3-3-3-3-3-5-3-3-3-3-3-82/
CATEGORIES:予約不要,有料
END:VEVENT
BEGIN:VEVENT
DTSTART;VALUE=DATE:20190203
DTEND;VALUE=DATE:20190204
DTSTAMP:20260422T032746
CREATED:20190125T014221Z
LAST-MODIFIED:20190125T014221Z
UID:1854-1549152000-1549238399@kanseinomori.com
SUMMARY:デコパージュでオリジナルバックを作ろう！
DESCRIPTION:
URL:https://kanseinomori.com/calendar/event/%e3%82%aa%e3%83%aa%e3%82%b8%e3%83%8a%e3%83%ab%e3%83%90%e3%83%83%e3%82%af%e3%82%92%e4%bd%9c%e3%82%8d%e3%81%86%ef%bc%81-7-2-2-2-4-2-2-3-4-2-2-2-2-3-3-3-3-2-2-3-3-3-2-2-3-2-2-3-3-3-3-3-3-3-5-3-3-3-3-3-53/
CATEGORIES:予約不要,有料
END:VEVENT
BEGIN:VEVENT
DTSTART;VALUE=DATE:20190202
DTEND;VALUE=DATE:20190203
DTSTAMP:20260422T032746
CREATED:20190125T014433Z
LAST-MODIFIED:20190125T014433Z
UID:1863-1549065600-1549151999@kanseinomori.com
SUMMARY:森の節分飾りを作ろう！
DESCRIPTION:
URL:https://kanseinomori.com/calendar/event/%e3%82%aa%e3%83%aa%e3%82%b8%e3%83%8a%e3%83%ab%e3%83%90%e3%83%83%e3%82%af%e3%82%92%e4%bd%9c%e3%82%8d%e3%81%86%ef%bc%81-7-2-2-2-4-2-2-3-4-2-2-2-2-3-3-3-3-2-2-3-3-3-2-2-3-2-2-3-3-3-3-3-3-3-5-3-3-3-3-3-77/
CATEGORIES:予約不要,有料
END:VEVENT
BEGIN:VEVENT
DTSTART;VALUE=DATE:20190127
DTEND;VALUE=DATE:20190128
DTSTAMP:20260422T032746
CREATED:20181225T071106Z
LAST-MODIFIED:20190106T082627Z
UID:1735-1548547200-1548633599@kanseinomori.com
SUMMARY:森の節分飾りを作ろう！
DESCRIPTION:
URL:https://kanseinomori.com/calendar/event/%e3%82%aa%e3%83%aa%e3%82%b8%e3%83%8a%e3%83%ab%e3%83%90%e3%83%83%e3%82%af%e3%82%92%e4%bd%9c%e3%82%8d%e3%81%86%ef%bc%81-7-2-2-2-4-2-2-3-4-2-2-2-2-3-3-3-3-2-2-3-3-3-2-2-3-2-2-3-3-3-3-3-3-3-5-3-3-3-3-3-70/
CATEGORIES:予約不要,有料
END:VEVENT
BEGIN:VEVENT
DTSTART;VALUE=DATE:20190126
DTEND;VALUE=DATE:20190127
DTSTAMP:20260422T032746
CREATED:20181225T072544Z
LAST-MODIFIED:20190106T082557Z
UID:1750-1548460800-1548547199@kanseinomori.com
SUMMARY:森の伝言板を作ろう！
DESCRIPTION:
URL:https://kanseinomori.com/calendar/event/%e3%82%aa%e3%83%aa%e3%82%b8%e3%83%8a%e3%83%ab%e3%83%90%e3%83%83%e3%82%af%e3%82%92%e4%bd%9c%e3%82%8d%e3%81%86%ef%bc%81-7-2-2-2-4-2-2-3-4-2-2-2-2-3-3-3-3-2-2-3-3-3-2-2-3-2-2-3-3-3-3-3-3-3-5-3-3-3-3-3-76/
CATEGORIES:予約不要,有料
END:VEVENT
BEGIN:VEVENT
DTSTART;TZID=Asia/Tokyo:20190123T103000
DTEND;TZID=Asia/Tokyo:20190123T113000
DTSTAMP:20260422T032746
CREATED:20181223T063148Z
LAST-MODIFIED:20190122T020805Z
UID:1708-1548239400-1548243000@kanseinomori.com
SUMMARY:親子で楽しくアロマストーンづくり教室
DESCRIPTION:こちらのイベントは定員に達しなかったため、中止とさせていただきます。 \n何卒ご了承のほどよろしくお願い申し上げます。 \n \n日時\n２０１９年１月２３日（水） １０：３０～１１：３０ \n参加対象\n2歳以上のお子様と保護者 \n＊通院中などで医師による治療を受けている方や、薬を服用している方は、担当医師の許可が必要です。 \n＊妊娠中の方はご参加いただけません。 \n料金\n1\,500円（親子ペア） \n申込方法 \n事前ご予約となっております。\nイベントページからお申込みいただくか、メールでお問い合わせください。 \n色和（いろわ）https://irowa.jp/class/information/aroma1901 \n【注意事項】 \n感性の森に初めてご来館頂く方は、利用登録をしていただき、初回登録料100円が必要です。また、遊戯される場合、別途入場料が必要です。
URL:https://kanseinomori.com/calendar/event/%e5%ad%90%e8%82%b2%e3%81%a6%e8%a8%ba%e6%96%ad%e5%a3%ab%e3%81%ab%e3%82%88%e3%82%8b%e3%82%8f%e3%81%8f%e3%82%8f%e3%81%8f%e5%ad%90%e8%82%b2%e3%81%a6%e3%82%bb%e3%83%9f%e3%83%8a%e3%83%bc-2/
LOCATION:2F　感性の森（ワークショップルーム）
CATEGORIES:有料,要予約
END:VEVENT
BEGIN:VEVENT
DTSTART;VALUE=DATE:20190120
DTEND;VALUE=DATE:20190121
DTSTAMP:20260422T032746
CREATED:20181225T072047Z
LAST-MODIFIED:20190106T082517Z
UID:1744-1547942400-1548028799@kanseinomori.com
SUMMARY:森の伝言板を作ろう！
DESCRIPTION:
URL:https://kanseinomori.com/calendar/event/%e3%82%aa%e3%83%aa%e3%82%b8%e3%83%8a%e3%83%ab%e3%83%90%e3%83%83%e3%82%af%e3%82%92%e4%bd%9c%e3%82%8d%e3%81%86%ef%bc%81-7-2-2-2-4-2-2-3-4-2-2-2-2-3-3-3-3-2-2-3-3-3-2-2-3-2-2-3-3-3-3-3-3-3-5-3-3-3-3-3-74/
CATEGORIES:予約不要,有料
END:VEVENT
BEGIN:VEVENT
DTSTART;VALUE=DATE:20190119
DTEND;VALUE=DATE:20190120
DTSTAMP:20260422T032746
CREATED:20181225T070911Z
LAST-MODIFIED:20190106T082442Z
UID:1731-1547856000-1547942399@kanseinomori.com
SUMMARY:森の節分飾りを作ろう！
DESCRIPTION:
URL:https://kanseinomori.com/calendar/event/%e3%82%aa%e3%83%aa%e3%82%b8%e3%83%8a%e3%83%ab%e3%83%90%e3%83%83%e3%82%af%e3%82%92%e4%bd%9c%e3%82%8d%e3%81%86%ef%bc%81-7-2-2-2-4-2-2-3-4-2-2-2-2-3-3-3-3-2-2-3-3-3-2-2-3-2-2-3-3-3-3-3-3-3-5-3-3-3-3-3-68/
CATEGORIES:予約不要,有料
END:VEVENT
BEGIN:VEVENT
DTSTART;VALUE=DATE:20190113
DTEND;VALUE=DATE:20190114
DTSTAMP:20260422T032746
CREATED:20181225T084358Z
LAST-MODIFIED:20190106T082021Z
UID:1767-1547337600-1547423999@kanseinomori.com
SUMMARY:木玉ちゃんのキラキラ万華鏡を作ろう！
DESCRIPTION:
URL:https://kanseinomori.com/calendar/event/%e3%82%aa%e3%83%aa%e3%82%b8%e3%83%8a%e3%83%ab%e3%83%90%e3%83%83%e3%82%af%e3%82%92%e4%bd%9c%e3%82%8d%e3%81%86%ef%bc%81-7-2-2-2-4-2-2-3-4-2-2-2-2-3-3-3-3-2-2-3-3-3-2-2-3-2-2-3-3-3-3-3-3-3-5-3-3-3-3-3-83/
CATEGORIES:予約不要,有料
END:VEVENT
BEGIN:VEVENT
DTSTART;VALUE=DATE:20190112
DTEND;VALUE=DATE:20190113
DTSTAMP:20260422T032746
CREATED:20181225T071308Z
LAST-MODIFIED:20190106T081818Z
UID:1740-1547251200-1547337599@kanseinomori.com
SUMMARY:森の伝言板を作ろう！
DESCRIPTION:
URL:https://kanseinomori.com/calendar/event/%e3%82%aa%e3%83%aa%e3%82%b8%e3%83%8a%e3%83%ab%e3%83%90%e3%83%83%e3%82%af%e3%82%92%e4%bd%9c%e3%82%8d%e3%81%86%ef%bc%81-7-2-2-2-4-2-2-3-4-2-2-2-2-3-3-3-3-2-2-3-3-3-2-2-3-2-2-3-3-3-3-3-3-3-5-3-3-3-3-3-72/
CATEGORIES:予約不要,有料
END:VEVENT
BEGIN:VEVENT
DTSTART;TZID=Asia/Tokyo:20190106T133000
DTEND;TZID=Asia/Tokyo:20190106T143000
DTSTAMP:20260422T032746
CREATED:20181225T071234Z
LAST-MODIFIED:20181225T071234Z
UID:1737-1546781400-1546785000@kanseinomori.com
SUMMARY:森の伝言板を作ろう！
DESCRIPTION:
URL:https://kanseinomori.com/calendar/event/%e3%82%aa%e3%83%aa%e3%82%b8%e3%83%8a%e3%83%ab%e3%83%90%e3%83%83%e3%82%af%e3%82%92%e4%bd%9c%e3%82%8d%e3%81%86%ef%bc%81-7-2-2-2-4-2-2-3-4-2-2-2-2-3-3-3-3-2-2-3-3-3-2-2-3-2-2-3-3-3-3-3-3-3-5-3-3-3-3-3-71/
CATEGORIES:予約不要,有料
END:VEVENT
BEGIN:VEVENT
DTSTART;TZID=Asia/Tokyo:20190106T110000
DTEND;TZID=Asia/Tokyo:20190106T120000
DTSTAMP:20260422T032746
CREATED:20181226T021353Z
LAST-MODIFIED:20181226T021353Z
UID:1785-1546772400-1546776000@kanseinomori.com
SUMMARY:森の伝言板を作ろう！
DESCRIPTION:
URL:https://kanseinomori.com/calendar/event/%e3%82%aa%e3%83%aa%e3%82%b8%e3%83%8a%e3%83%ab%e3%83%90%e3%83%83%e3%82%af%e3%82%92%e4%bd%9c%e3%82%8d%e3%81%86%ef%bc%81-7-2-2-2-4-2-2-3-4-2-2-2-2-3-3-3-3-2-2-3-3-3-2-2-3-2-2-3-3-3-3-3-3-3-5-3-3-3-3-3-84/
CATEGORIES:予約不要,有料
END:VEVENT
BEGIN:VEVENT
DTSTART;TZID=Asia/Tokyo:20190105T133000
DTEND;TZID=Asia/Tokyo:20190105T143000
DTSTAMP:20260422T032746
CREATED:20181225T084233Z
LAST-MODIFIED:20181225T084233Z
UID:1760-1546695000-1546698600@kanseinomori.com
SUMMARY:木玉ちゃんのキラキラ万華鏡を作ろう！
DESCRIPTION:
URL:https://kanseinomori.com/calendar/event/%e3%82%aa%e3%83%aa%e3%82%b8%e3%83%8a%e3%83%ab%e3%83%90%e3%83%83%e3%82%af%e3%82%92%e4%bd%9c%e3%82%8d%e3%81%86%ef%bc%81-7-2-2-2-4-2-2-3-4-2-2-2-2-3-3-3-3-2-2-3-3-3-2-2-3-2-2-3-3-3-3-3-3-3-5-3-3-3-3-3-80/
CATEGORIES:予約不要,有料
END:VEVENT
BEGIN:VEVENT
DTSTART;TZID=Asia/Tokyo:20190105T110000
DTEND;TZID=Asia/Tokyo:20190105T120000
DTSTAMP:20260422T032746
CREATED:20181225T084309Z
LAST-MODIFIED:20181225T084309Z
UID:1763-1546686000-1546689600@kanseinomori.com
SUMMARY:木玉ちゃんのキラキラ万華鏡を作ろう！
DESCRIPTION:
URL:https://kanseinomori.com/calendar/event/%e3%82%aa%e3%83%aa%e3%82%b8%e3%83%8a%e3%83%ab%e3%83%90%e3%83%83%e3%82%af%e3%82%92%e4%bd%9c%e3%82%8d%e3%81%86%ef%bc%81-7-2-2-2-4-2-2-3-4-2-2-2-2-3-3-3-3-2-2-3-3-3-2-2-3-2-2-3-3-3-3-3-3-3-5-3-3-3-3-3-81/
CATEGORIES:予約不要,有料
END:VEVENT
BEGIN:VEVENT
DTSTART;TZID=Asia/Tokyo:20190104T133000
DTEND;TZID=Asia/Tokyo:20190104T143000
DTSTAMP:20260422T032746
CREATED:20181225T083844Z
LAST-MODIFIED:20181225T083915Z
UID:1754-1546608600-1546612200@kanseinomori.com
SUMMARY:オリジナルバックを作ろう！
DESCRIPTION:
URL:https://kanseinomori.com/calendar/event/%e3%82%aa%e3%83%aa%e3%82%b8%e3%83%8a%e3%83%ab%e3%83%90%e3%83%83%e3%82%af%e3%82%92%e4%bd%9c%e3%82%8d%e3%81%86%ef%bc%81-7-2-2-2-4-2-2-3-4-2-2-2-2-3-3-3-3-2-2-3-3-3-2-2-3-2-2-3-3-3-3-3-3-3-5-3-3-3-3-3-78/
CATEGORIES:予約不要,有料
END:VEVENT
BEGIN:VEVENT
DTSTART;TZID=Asia/Tokyo:20190104T110000
DTEND;TZID=Asia/Tokyo:20190104T120000
DTSTAMP:20260422T032746
CREATED:20181225T083943Z
LAST-MODIFIED:20181225T083943Z
UID:1758-1546599600-1546603200@kanseinomori.com
SUMMARY:オリジナルバックを作ろう！
DESCRIPTION:
URL:https://kanseinomori.com/calendar/event/%e3%82%aa%e3%83%aa%e3%82%b8%e3%83%8a%e3%83%ab%e3%83%90%e3%83%83%e3%82%af%e3%82%92%e4%bd%9c%e3%82%8d%e3%81%86%ef%bc%81-7-2-2-2-4-2-2-3-4-2-2-2-2-3-3-3-3-2-2-3-3-3-2-2-3-2-2-3-3-3-3-3-3-3-5-3-3-3-3-3-79/
CATEGORIES:予約不要,有料
END:VEVENT
BEGIN:VEVENT
DTSTART;TZID=Asia/Tokyo:20190103T133000
DTEND;TZID=Asia/Tokyo:20190103T143000
DTSTAMP:20260422T032746
CREATED:20181126T032356Z
LAST-MODIFIED:20181225T043117Z
UID:1636-1546522200-1546525800@kanseinomori.com
SUMMARY:お正月飾りを作ろう！
DESCRIPTION:都合により、１月３日開催イベントの内容が変更となりました。 \n申し訳ございません。内容をご確認の上、ご参加ください。
URL:https://kanseinomori.com/calendar/event/%e3%82%aa%e3%83%aa%e3%82%b8%e3%83%8a%e3%83%ab%e3%83%90%e3%83%83%e3%82%af%e3%82%92%e4%bd%9c%e3%82%8d%e3%81%86%ef%bc%81-7-2-2-2-4-2-2-3-4-2-2-2-2-3-3-3-3-2-2-3-3-3-2-2-3-2-2-3-3-3-3-3-3-3-5-3-3-3-3-3-67/
CATEGORIES:予約不要,有料
END:VEVENT
BEGIN:VEVENT
DTSTART;TZID=Asia/Tokyo:20190103T110000
DTEND;TZID=Asia/Tokyo:20190103T120000
DTSTAMP:20260422T032746
CREATED:20181126T032425Z
LAST-MODIFIED:20181217T053854Z
UID:1639-1546513200-1546516800@kanseinomori.com
SUMMARY:お正月飾りを作ろう！
DESCRIPTION:都合により、１月３日開催イベントの内容が変更となりました。 \n申し訳ございません。内容をご確認の上、ご参加ください。
URL:https://kanseinomori.com/calendar/event/%e3%82%aa%e3%83%aa%e3%82%b8%e3%83%8a%e3%83%ab%e3%83%90%e3%83%83%e3%82%af%e3%82%92%e4%bd%9c%e3%82%8d%e3%81%86%ef%bc%81-7-2-2-2-4-2-2-3-4-2-2-2-2-3-3-3-3-2-2-3-3-3-2-2-3-2-2-3-3-3-3-3-3-3-5-3-3-3-3-3-54/
CATEGORIES:予約不要,有料
END:VEVENT
BEGIN:VEVENT
DTSTART;TZID=Asia/Tokyo:20190102T133000
DTEND;TZID=Asia/Tokyo:20190102T143000
DTSTAMP:20260422T032746
CREATED:20181126T031827Z
LAST-MODIFIED:20181126T031827Z
UID:1626-1546435800-1546439400@kanseinomori.com
SUMMARY:森の万年カレンダーを作ろう！
DESCRIPTION:
URL:https://kanseinomori.com/calendar/event/%e3%82%aa%e3%83%aa%e3%82%b8%e3%83%8a%e3%83%ab%e3%83%90%e3%83%83%e3%82%af%e3%82%92%e4%bd%9c%e3%82%8d%e3%81%86%ef%bc%81-7-2-2-2-4-2-2-3-4-2-2-2-2-3-3-3-3-2-2-3-3-3-2-2-3-2-2-3-3-3-3-3-3-3-5-3-3-3-3-3-49/
CATEGORIES:予約不要,有料
END:VEVENT
BEGIN:VEVENT
DTSTART;TZID=Asia/Tokyo:20190102T110000
DTEND;TZID=Asia/Tokyo:20190102T120000
DTSTAMP:20260422T032746
CREATED:20181126T031853Z
LAST-MODIFIED:20190106T022239Z
UID:1628-1546426800-1546430400@kanseinomori.com
SUMMARY:森の万年カレンダーを作ろう！
DESCRIPTION:
URL:https://kanseinomori.com/calendar/event/%e3%82%aa%e3%83%aa%e3%82%b8%e3%83%8a%e3%83%ab%e3%83%90%e3%83%83%e3%82%af%e3%82%92%e4%bd%9c%e3%82%8d%e3%81%86%ef%bc%81-7-2-2-2-4-2-2-3-4-2-2-2-2-3-3-3-3-2-2-3-3-3-2-2-3-2-2-3-3-3-3-3-3-3-5-3-3-3-3-3-50/
LOCATION:2F　感性の森（ワークショップルーム）
CATEGORIES:予約不要,有料
END:VEVENT
BEGIN:VEVENT
DTSTART;TZID=Asia/Tokyo:20181230T133000
DTEND;TZID=Asia/Tokyo:20181230T143000
DTSTAMP:20260422T032746
CREATED:20181126T032303Z
LAST-MODIFIED:20181216T072005Z
UID:1630-1546176600-1546180200@kanseinomori.com
SUMMARY:森の貯金箱を作ろう！
DESCRIPTION:
URL:https://kanseinomori.com/calendar/event/%e3%82%aa%e3%83%aa%e3%82%b8%e3%83%8a%e3%83%ab%e3%83%90%e3%83%83%e3%82%af%e3%82%92%e4%bd%9c%e3%82%8d%e3%81%86%ef%bc%81-7-2-2-2-4-2-2-3-4-2-2-2-2-3-3-3-3-2-2-3-3-3-2-2-3-2-2-3-3-3-3-3-3-3-5-3-3-3-3-3-51/
CATEGORIES:予約不要,有料
END:VEVENT
BEGIN:VEVENT
DTSTART;TZID=Asia/Tokyo:20181230T110000
DTEND;TZID=Asia/Tokyo:20181230T120000
DTSTAMP:20260422T032746
CREATED:20181126T032332Z
LAST-MODIFIED:20181216T071916Z
UID:1634-1546167600-1546171200@kanseinomori.com
SUMMARY:森の貯金箱を作ろう！
DESCRIPTION:
URL:https://kanseinomori.com/calendar/event/%e3%82%aa%e3%83%aa%e3%82%b8%e3%83%8a%e3%83%ab%e3%83%90%e3%83%83%e3%82%af%e3%82%92%e4%bd%9c%e3%82%8d%e3%81%86%ef%bc%81-7-2-2-2-4-2-2-3-4-2-2-2-2-3-3-3-3-2-2-3-3-3-2-2-3-2-2-3-3-3-3-3-3-3-5-3-3-3-3-3-52/
CATEGORIES:予約不要,有料
END:VEVENT
BEGIN:VEVENT
DTSTART;TZID=Asia/Tokyo:20181229T133000
DTEND;TZID=Asia/Tokyo:20181229T143000
DTSTAMP:20260422T032746
CREATED:20181126T031736Z
LAST-MODIFIED:20181126T031736Z
UID:1621-1546090200-1546093800@kanseinomori.com
SUMMARY:森の万年カレンダーを作ろう！
DESCRIPTION:
URL:https://kanseinomori.com/calendar/event/%e3%82%aa%e3%83%aa%e3%82%b8%e3%83%8a%e3%83%ab%e3%83%90%e3%83%83%e3%82%af%e3%82%92%e4%bd%9c%e3%82%8d%e3%81%86%ef%bc%81-7-2-2-2-4-2-2-3-4-2-2-2-2-3-3-3-3-2-2-3-3-3-2-2-3-2-2-3-3-3-3-3-3-3-5-3-3-3-3-3-47/
CATEGORIES:予約不要,有料
END:VEVENT
BEGIN:VEVENT
DTSTART;TZID=Asia/Tokyo:20181229T110000
DTEND;TZID=Asia/Tokyo:20181229T120000
DTSTAMP:20260422T032746
CREATED:20181126T031800Z
LAST-MODIFIED:20181126T031800Z
UID:1624-1546081200-1546084800@kanseinomori.com
SUMMARY:森の万年カレンダーを作ろう！
DESCRIPTION:
URL:https://kanseinomori.com/calendar/event/%e3%82%aa%e3%83%aa%e3%82%b8%e3%83%8a%e3%83%ab%e3%83%90%e3%83%83%e3%82%af%e3%82%92%e4%bd%9c%e3%82%8d%e3%81%86%ef%bc%81-7-2-2-2-4-2-2-3-4-2-2-2-2-3-3-3-3-2-2-3-3-3-2-2-3-2-2-3-3-3-3-3-3-3-5-3-3-3-3-3-48/
CATEGORIES:予約不要,有料
END:VEVENT
END:VCALENDAR