BEGIN:VCALENDAR
VERSION:2.0
PRODID:-//木の室内創造あそび場「感性の森」 - ECPv6.13.2.1//NONSGML v1.0//EN
CALSCALE:GREGORIAN
METHOD:PUBLISH
X-ORIGINAL-URL:https://kanseinomori.com/calendar
X-WR-CALDESC:木の室内創造あそび場「感性の森」 のイベント
REFRESH-INTERVAL;VALUE=DURATION:PT1H
X-Robots-Tag:noindex
X-PUBLISHED-TTL:PT1H
BEGIN:VTIMEZONE
TZID:Asia/Tokyo
BEGIN:STANDARD
TZOFFSETFROM:+0900
TZOFFSETTO:+0900
TZNAME:JST
DTSTART:20190101T000000
END:STANDARD
END:VTIMEZONE
BEGIN:VEVENT
DTSTART;VALUE=DATE:20191102
DTEND;VALUE=DATE:20191103
DTSTAMP:20260422T020112
CREATED:20191027T012120Z
LAST-MODIFIED:20191027T012120Z
UID:2593-1572652800-1572739199@kanseinomori.com
SUMMARY:オリジナルパズル／森のキーホルダー／オリジナルバック
DESCRIPTION:
URL:https://kanseinomori.com/calendar/event/%e3%82%aa%e3%83%aa%e3%82%b8%e3%83%8a%e3%83%ab%e3%83%90%e3%83%83%e3%82%af%e3%82%92%e4%bd%9c%e3%82%8d%e3%81%86%ef%bc%81-7-2-2-2-4-2-2-3-4-2-2-2-2-3-3-3-3-2-2-3-3-3-2-2-3-2-2-3-3-3-3-3-3-3-5-3-3-3-3-1-80/
CATEGORIES:予約不要,有料
END:VEVENT
BEGIN:VEVENT
DTSTART;VALUE=DATE:20191030
DTEND;VALUE=DATE:20191031
DTSTAMP:20260422T020112
CREATED:20190927T084517Z
LAST-MODIFIED:20190927T084517Z
UID:2487-1572393600-1572479999@kanseinomori.com
SUMMARY:ハピネスリトミック♪
DESCRIPTION:学びの原点にはママの笑顔が☆お子さんがリトミックを通じ、音感、 \nリズム感、集中力を養うのはもちろん、ママも一緒に楽しめてリフレッシュ \nできるのがハピネスリトミックです♪　小野寺郁子 \n◯10月のレッスン→10月９日（水）、２３日（水）、３０日（水）\n\n◯時間→１０時２０分からキッズ(１歳半〜) \n\n　　　　１１時２０分からベビー(生後３ヶ月〜１歳５ヶ月)\n\n\n◯特別な持ち物はありません。\n\n〇参加希望の方は前日までに講師宛にメール又はお電話で予約\n\n（お子さんの名前、生年月日、希望日、電話番号をお伝え下さい）\n\n\n◯定員→各回８組\n\n≪注意事項≫\n\n\n・受付時に参加者の方は、感性の森の会員カードをご提示頂くか、 \n初めての方は「施設利用登録申込書」のご記入の上、会員カードを \n発行致します。その際、初回登録料100円が別途必要です。 \n※事前にホームページから申込書をダウンロードしてご記入頂くと入場が \nスムーズです。 \n・イベント前後に遊戯をされる場合、別途入場料が必要となります。 \n\n\n◯ハピネスリトミック　ホームページ→https://www.eurhythmics-sendai.com\n\n\n皆様ぜひご参加ください！！
URL:https://kanseinomori.com/calendar/event/%e3%82%aa%e3%83%aa%e3%82%b8%e3%83%8a%e3%83%ab%e3%83%90%e3%83%83%e3%82%af%e3%82%92%e4%bd%9c%e3%82%8d%e3%81%86%ef%bc%81-7-2-2-2-4-2-2-3-4-2-2-2-2-3-3-3-3-2-2-3-3-3-2-2-3-2-2-3-3-3-3-3-3-3-5-3-3-3-3-1-64/
CATEGORIES:有料,要予約
END:VEVENT
BEGIN:VEVENT
DTSTART;VALUE=DATE:20191029
DTEND;VALUE=DATE:20191030
DTSTAMP:20260422T020112
CREATED:20190927T093145Z
LAST-MODIFIED:20190927T093145Z
UID:2501-1572307200-1572393599@kanseinomori.com
SUMMARY:ベビーマッサージ教室
DESCRIPTION:「ベビーマッサージ教室」です。 \n１０／８（火）、１０／２９(火） \n10:15～11:00　参加費￥800 \n～お申込みはこちら～ \n\n「ORANGE YUZU」\nsaorisenseino.babymassage@gmail.com\n(件名に「ベビマ予約」\n本文に①保護者名、②お子様のお名前と月齢、③電話番号、④ご希望日）\n\n\nブログもご覧下さい　http://s.ameblo.jp/orangeyuzu2015/　講師：田畑\n\n\n\n\n\n\n≪注意事項≫\n\n・受付時に参加者の方は、感性の森の会員カードをご提示頂くか、 \n初めての方は「施設利用登録申込書」のご記入の上、会員カードを \n発行致します。その際、初回登録料100円が別途必要です。 \n※事前にホームページから申込書をダウンロードしてご記入頂くと入場が \nスムーズです。 \n・イベント前後に遊戯をされる場合、別途入場料が必要となります。 \n\n皆様ぜひご参加ください！！ \n\n 
URL:https://kanseinomori.com/calendar/event/%e3%82%aa%e3%83%aa%e3%82%b8%e3%83%8a%e3%83%ab%e3%83%90%e3%83%83%e3%82%af%e3%82%92%e4%bd%9c%e3%82%8d%e3%81%86%ef%bc%81-7-2-2-2-4-2-2-3-4-2-2-2-2-3-3-3-3-2-2-3-3-3-2-2-3-2-2-3-3-3-3-3-3-3-5-3-3-3-3-1-68/
CATEGORIES:有料,要予約
END:VEVENT
BEGIN:VEVENT
DTSTART;VALUE=DATE:20191028
DTEND;VALUE=DATE:20191029
DTSTAMP:20260422T020112
CREATED:20190927T084702Z
LAST-MODIFIED:20190927T084702Z
UID:2491-1572220800-1572307199@kanseinomori.com
SUMMARY:抱っことおんぶの相談会
DESCRIPTION:  \n「抱っことおんぶの相談会」 \n１０／１５（火）、１０／２８(月） \n10:00～12:00 \n相談、体験　10分　￥500 \n当日、「感性の森」ご利用で参加できます。 \nお問い合わせは、直接担当講師までお願いします。 \n\n皆様ぜひご参加ください！！
URL:https://kanseinomori.com/calendar/event/%e3%82%aa%e3%83%aa%e3%82%b8%e3%83%8a%e3%83%ab%e3%83%90%e3%83%83%e3%82%af%e3%82%92%e4%bd%9c%e3%82%8d%e3%81%86%ef%bc%81-7-2-2-2-4-2-2-3-4-2-2-2-2-3-3-3-3-2-2-3-3-3-2-2-3-2-2-3-3-3-3-3-3-3-5-3-3-3-3-1-66/
CATEGORIES:有料
END:VEVENT
BEGIN:VEVENT
DTSTART;VALUE=DATE:20191027
DTEND;VALUE=DATE:20191028
DTSTAMP:20260422T020112
CREATED:20190927T093717Z
LAST-MODIFIED:20190927T093717Z
UID:2517-1572134400-1572220799@kanseinomori.com
SUMMARY:オリジナルパズル／森のキーホルダー／オリジナルバック
DESCRIPTION:
URL:https://kanseinomori.com/calendar/event/%e3%82%aa%e3%83%aa%e3%82%b8%e3%83%8a%e3%83%ab%e3%83%90%e3%83%83%e3%82%af%e3%82%92%e4%bd%9c%e3%82%8d%e3%81%86%ef%bc%81-7-2-2-2-4-2-2-3-4-2-2-2-2-3-3-3-3-2-2-3-3-3-2-2-3-2-2-3-3-3-3-3-3-3-5-3-3-3-3-1-74/
CATEGORIES:予約不要,有料
END:VEVENT
BEGIN:VEVENT
DTSTART;VALUE=DATE:20191026
DTEND;VALUE=DATE:20191027
DTSTAMP:20260422T020112
CREATED:20190927T093956Z
LAST-MODIFIED:20190927T093956Z
UID:2527-1572048000-1572134399@kanseinomori.com
SUMMARY:ハロウィンフレームを作ろう
DESCRIPTION:
URL:https://kanseinomori.com/calendar/event/%e3%82%aa%e3%83%aa%e3%82%b8%e3%83%8a%e3%83%ab%e3%83%90%e3%83%83%e3%82%af%e3%82%92%e4%bd%9c%e3%82%8d%e3%81%86%ef%bc%81-7-2-2-2-4-2-2-3-4-2-2-2-2-3-3-3-3-2-2-3-3-3-2-2-3-2-2-3-3-3-3-3-3-3-5-3-3-3-3-1-77/
CATEGORIES:予約不要,有料
END:VEVENT
BEGIN:VEVENT
DTSTART;VALUE=DATE:20191024
DTEND;VALUE=DATE:20191025
DTSTAMP:20260422T020112
CREATED:20190914T060147Z
LAST-MODIFIED:20191013T020207Z
UID:2443-1571875200-1571961599@kanseinomori.com
SUMMARY:アロマ教室開催
DESCRIPTION:（公社）日本アロマ環境協会認定　アロマセラピスト・アロマテラピーインストラクター YAYOI 主宰のアロマ教室です。 \n「アロマミストスプレー　or　アロマロールオン」 \n１０／２４（木）10:30～11:30　参加費　おひとつ　￥600 \n  \n～お申込みはこちら～ \n\n「アロマミストスプレー　or　アロマロールオン」\n\nmarch.blackstonecherry@gmail.com\n①お名前②お子様のお名前と年齢③ご連絡先\n④ご希望のクラフト(スプレーorロールオン)⑤ご質問等\n\n\nインスタもご覧下さい　https://www.Instagram.com/yayoihashimo 　講師：橋本\n\n\n≪注意事項≫\n\n\n・受付時に参加者の方は、感性の森の会員カードをご提示頂くか、 \n初めての方は「施設利用登録申込書」のご記入の上、会員カードを \n発行致します。その際、初回登録料100円が別途必要です。 \n※事前にホームページから申込書をダウンロードしてご記入頂くと入場が \nスムーズです。 \n・イベント前後に遊戯をされる場合、別途入場料が必要となります。 \n\n皆様ぜひご参加ください！！
URL:https://kanseinomori.com/calendar/event/%e3%82%aa%e3%83%aa%e3%82%b8%e3%83%8a%e3%83%ab%e3%83%90%e3%83%83%e3%82%af%e3%82%92%e4%bd%9c%e3%82%8d%e3%81%86%ef%bc%81-7-2-2-2-4-2-2-3-4-2-2-2-2-3-3-3-3-2-2-3-3-3-2-2-3-2-2-3-3-3-3-3-3-3-5-3-3-3-3-1-61/
CATEGORIES:有料,要予約
END:VEVENT
BEGIN:VEVENT
DTSTART;VALUE=DATE:20191023
DTEND;VALUE=DATE:20191024
DTSTAMP:20260422T020112
CREATED:20190927T084453Z
LAST-MODIFIED:20190927T084453Z
UID:2485-1571788800-1571875199@kanseinomori.com
SUMMARY:ハピネスリトミック♪
DESCRIPTION:学びの原点にはママの笑顔が☆お子さんがリトミックを通じ、音感、 \nリズム感、集中力を養うのはもちろん、ママも一緒に楽しめてリフレッシュ \nできるのがハピネスリトミックです♪　小野寺郁子 \n◯10月のレッスン→10月９日（水）、２３日（水）、３０日（水）\n\n◯時間→１０時２０分からキッズ(１歳半〜) \n\n　　　　１１時２０分からベビー(生後３ヶ月〜１歳５ヶ月)\n\n\n◯特別な持ち物はありません。\n\n〇参加希望の方は前日までに講師宛にメール又はお電話で予約\n\n（お子さんの名前、生年月日、希望日、電話番号をお伝え下さい）\n\n\n◯定員→各回８組\n\n≪注意事項≫\n\n\n・受付時に参加者の方は、感性の森の会員カードをご提示頂くか、 \n初めての方は「施設利用登録申込書」のご記入の上、会員カードを \n発行致します。その際、初回登録料100円が別途必要です。 \n※事前にホームページから申込書をダウンロードしてご記入頂くと入場が \nスムーズです。 \n・イベント前後に遊戯をされる場合、別途入場料が必要となります。 \n\n\n◯ハピネスリトミック　ホームページ→https://www.eurhythmics-sendai.com\n\n\n皆様ぜひご参加ください！！
URL:https://kanseinomori.com/calendar/event/%e3%82%aa%e3%83%aa%e3%82%b8%e3%83%8a%e3%83%ab%e3%83%90%e3%83%83%e3%82%af%e3%82%92%e4%bd%9c%e3%82%8d%e3%81%86%ef%bc%81-7-2-2-2-4-2-2-3-4-2-2-2-2-3-3-3-3-2-2-3-3-3-2-2-3-2-2-3-3-3-3-3-3-3-5-3-3-3-3-1-63/
CATEGORIES:有料,要予約
END:VEVENT
BEGIN:VEVENT
DTSTART;VALUE=DATE:20191022
DTEND;VALUE=DATE:20191023
DTSTAMP:20260422T020112
CREATED:20190927T094056Z
LAST-MODIFIED:20190927T094056Z
UID:2529-1571702400-1571788799@kanseinomori.com
SUMMARY:キラキラ万華鏡
DESCRIPTION:
URL:https://kanseinomori.com/calendar/event/%e3%82%aa%e3%83%aa%e3%82%b8%e3%83%8a%e3%83%ab%e3%83%90%e3%83%83%e3%82%af%e3%82%92%e4%bd%9c%e3%82%8d%e3%81%86%ef%bc%81-7-2-2-2-4-2-2-3-4-2-2-2-2-3-3-3-3-2-2-3-3-3-2-2-3-2-2-3-3-3-3-3-3-3-5-3-3-3-3-1-78/
CATEGORIES:予約不要,有料
END:VEVENT
BEGIN:VEVENT
DTSTART;VALUE=DATE:20191020
DTEND;VALUE=DATE:20191021
DTSTAMP:20260422T020112
CREATED:20190927T093927Z
LAST-MODIFIED:20190927T093928Z
UID:2523-1571529600-1571615999@kanseinomori.com
SUMMARY:ハロウィンフレームを作ろう
DESCRIPTION:
URL:https://kanseinomori.com/calendar/event/%e3%82%aa%e3%83%aa%e3%82%b8%e3%83%8a%e3%83%ab%e3%83%90%e3%83%83%e3%82%af%e3%82%92%e4%bd%9c%e3%82%8d%e3%81%86%ef%bc%81-7-2-2-2-4-2-2-3-4-2-2-2-2-3-3-3-3-2-2-3-3-3-2-2-3-2-2-3-3-3-3-3-3-3-5-3-3-3-3-1-76/
CATEGORIES:予約不要,有料
END:VEVENT
BEGIN:VEVENT
DTSTART;VALUE=DATE:20191019
DTEND;VALUE=DATE:20191020
DTSTAMP:20260422T020112
CREATED:20190927T093653Z
LAST-MODIFIED:20190927T093653Z
UID:2515-1571443200-1571529599@kanseinomori.com
SUMMARY:オリジナルパズル／森のキーホルダー／オリジナルバック
DESCRIPTION:
URL:https://kanseinomori.com/calendar/event/%e3%82%aa%e3%83%aa%e3%82%b8%e3%83%8a%e3%83%ab%e3%83%90%e3%83%83%e3%82%af%e3%82%92%e4%bd%9c%e3%82%8d%e3%81%86%ef%bc%81-7-2-2-2-4-2-2-3-4-2-2-2-2-3-3-3-3-2-2-3-3-3-2-2-3-2-2-3-3-3-3-3-3-3-5-3-3-3-3-1-73/
CATEGORIES:予約不要,有料
END:VEVENT
BEGIN:VEVENT
DTSTART;VALUE=DATE:20191015
DTEND;VALUE=DATE:20191016
DTSTAMP:20260422T020112
CREATED:20190927T084635Z
LAST-MODIFIED:20190927T084635Z
UID:2489-1571097600-1571183999@kanseinomori.com
SUMMARY:抱っことおんぶの相談会
DESCRIPTION:  \n「抱っことおんぶの相談会」 \n１０／１５（火）、１０／２８(月） \n10:00～12:00 \n相談、体験　10分　￥500 \n当日、「感性の森」ご利用で参加できます。 \nお問い合わせは、直接担当講師までお願いします。 \n\n皆様ぜひご参加ください！！
URL:https://kanseinomori.com/calendar/event/%e3%82%aa%e3%83%aa%e3%82%b8%e3%83%8a%e3%83%ab%e3%83%90%e3%83%83%e3%82%af%e3%82%92%e4%bd%9c%e3%82%8d%e3%81%86%ef%bc%81-7-2-2-2-4-2-2-3-4-2-2-2-2-3-3-3-3-2-2-3-3-3-2-2-3-2-2-3-3-3-3-3-3-3-5-3-3-3-3-1-65/
CATEGORIES:有料
END:VEVENT
BEGIN:VEVENT
DTSTART;VALUE=DATE:20191014
DTEND;VALUE=DATE:20191015
DTSTAMP:20260422T020112
CREATED:20190927T093833Z
LAST-MODIFIED:20190927T093833Z
UID:2519-1571011200-1571097599@kanseinomori.com
SUMMARY:もみじとかわいい仲間たち
DESCRIPTION:
URL:https://kanseinomori.com/calendar/event/%e3%82%aa%e3%83%aa%e3%82%b8%e3%83%8a%e3%83%ab%e3%83%90%e3%83%83%e3%82%af%e3%82%92%e4%bd%9c%e3%82%8d%e3%81%86%ef%bc%81-7-2-2-2-4-2-2-3-4-2-2-2-2-3-3-3-3-2-2-3-3-3-2-2-3-2-2-3-3-3-3-3-3-3-5-3-3-3-3-1-75/
CATEGORIES:予約不要,有料
END:VEVENT
BEGIN:VEVENT
DTSTART;VALUE=DATE:20191013
DTEND;VALUE=DATE:20191014
DTSTAMP:20260422T020112
CREATED:20190927T093628Z
LAST-MODIFIED:20190927T093628Z
UID:2513-1570924800-1571011199@kanseinomori.com
SUMMARY:オリジナルパズル／森のキーホルダー／オリジナルバック
DESCRIPTION:
URL:https://kanseinomori.com/calendar/event/%e3%82%aa%e3%83%aa%e3%82%b8%e3%83%8a%e3%83%ab%e3%83%90%e3%83%83%e3%82%af%e3%82%92%e4%bd%9c%e3%82%8d%e3%81%86%ef%bc%81-7-2-2-2-4-2-2-3-4-2-2-2-2-3-3-3-3-2-2-3-3-3-2-2-3-2-2-3-3-3-3-3-3-3-5-3-3-3-3-1-72/
CATEGORIES:予約不要,有料
END:VEVENT
BEGIN:VEVENT
DTSTART;VALUE=DATE:20191012
DTEND;VALUE=DATE:20191013
DTSTAMP:20260422T020112
CREATED:20190927T093404Z
LAST-MODIFIED:20191011T082715Z
UID:2507-1570838400-1570924799@kanseinomori.com
SUMMARY:カボチャおばけを作ろう
DESCRIPTION:～ワークショップイベント時間変更のお知らせ～ \n10/12（土）「カボチャおばけを作ろう」の２回目開催時間を変更いたします。 \n①11:00～12:00 \n②13:30～14:30　⇒　12:30～13:30 \n 
URL:https://kanseinomori.com/calendar/event/%e3%82%aa%e3%83%aa%e3%82%b8%e3%83%8a%e3%83%ab%e3%83%90%e3%83%83%e3%82%af%e3%82%92%e4%bd%9c%e3%82%8d%e3%81%86%ef%bc%81-7-2-2-2-4-2-2-3-4-2-2-2-2-3-3-3-3-2-2-3-3-3-2-2-3-2-2-3-3-3-3-3-3-3-5-3-3-3-3-1-70/
CATEGORIES:予約不要,有料
END:VEVENT
BEGIN:VEVENT
DTSTART;VALUE=DATE:20191010
DTEND;VALUE=DATE:20191011
DTSTAMP:20260422T020112
CREATED:20190914T060049Z
LAST-MODIFIED:20190914T060648Z
UID:2447-1570665600-1570751999@kanseinomori.com
SUMMARY:アロマ教室開催
DESCRIPTION:（公社）日本アロマ環境協会認定　アロマセラピスト・アロマテラピーインストラクター YAYOI 主宰のアロマ教室です。 \n「こねこねアロマ石けん作り」 \n１０／１０（水）10:30～11:30　参加費￥600 \n  \n～お申込みはこちら～ \n\n「こねこねアロマ石けん作り」\nmarch.blackstonecherry@gmail.com\n①お名前②お子様のお名前と年齢③ご連絡先\n④ご質問等\n\n\nインスタもご覧下さい　https://www.Instagram.com/yayoihashimo 　講師：橋本\n\n\n\n\n\n\n≪注意事項≫\n\n・受付時に参加者の方は、感性の森の会員カードをご提示頂くか、 \n初めての方は「施設利用登録申込書」のご記入の上、会員カードを \n発行致します。その際、初回登録料100円が別途必要です。 \n※事前にホームページから申込書をダウンロードしてご記入頂くと入場が \nスムーズです。 \n・イベント前後に遊戯をされる場合、別途入場料が必要となります。 \n\n皆様ぜひご参加ください！！
URL:https://kanseinomori.com/calendar/event/%e3%82%aa%e3%83%aa%e3%82%b8%e3%83%8a%e3%83%ab%e3%83%90%e3%83%83%e3%82%af%e3%82%92%e4%bd%9c%e3%82%8d%e3%81%86%ef%bc%81-7-2-2-2-4-2-2-3-4-2-2-2-2-3-3-3-3-2-2-3-3-3-2-2-3-2-2-3-3-3-3-3-3-3-5-3-3-3-3-1-60/
CATEGORIES:有料,要予約
END:VEVENT
BEGIN:VEVENT
DTSTART;VALUE=DATE:20191009
DTEND;VALUE=DATE:20191010
DTSTAMP:20260422T020112
CREATED:20190927T084412Z
LAST-MODIFIED:20190927T084412Z
UID:2483-1570579200-1570665599@kanseinomori.com
SUMMARY:ハピネスリトミック♪
DESCRIPTION:学びの原点にはママの笑顔が☆お子さんがリトミックを通じ、音感、 \nリズム感、集中力を養うのはもちろん、ママも一緒に楽しめてリフレッシュ \nできるのがハピネスリトミックです♪　小野寺郁子 \n◯10月のレッスン→10月９日（水）、２３日（水）、３０日（水）\n\n◯時間→１０時２０分からキッズ(１歳半〜) \n\n　　　　１１時２０分からベビー(生後３ヶ月〜１歳５ヶ月)\n\n\n◯特別な持ち物はありません。\n\n〇参加希望の方は前日までに講師宛にメール又はお電話で予約\n\n（お子さんの名前、生年月日、希望日、電話番号をお伝え下さい）\n\n\n◯定員→各回８組\n\n≪注意事項≫\n\n\n・受付時に参加者の方は、感性の森の会員カードをご提示頂くか、 \n初めての方は「施設利用登録申込書」のご記入の上、会員カードを \n発行致します。その際、初回登録料100円が別途必要です。 \n※事前にホームページから申込書をダウンロードしてご記入頂くと入場が \nスムーズです。 \n・イベント前後に遊戯をされる場合、別途入場料が必要となります。 \n\n\n◯ハピネスリトミック　ホームページ→https://www.eurhythmics-sendai.com\n\n\n皆様ぜひご参加ください！！
URL:https://kanseinomori.com/calendar/event/%e3%82%aa%e3%83%aa%e3%82%b8%e3%83%8a%e3%83%ab%e3%83%90%e3%83%83%e3%82%af%e3%82%92%e4%bd%9c%e3%82%8d%e3%81%86%ef%bc%81-7-2-2-2-4-2-2-3-4-2-2-2-2-3-3-3-3-2-2-3-3-3-2-2-3-2-2-3-3-3-3-3-3-3-5-3-3-3-3-1-62/
CATEGORIES:有料,要予約
END:VEVENT
BEGIN:VEVENT
DTSTART;VALUE=DATE:20191008
DTEND;VALUE=DATE:20191009
DTSTAMP:20260422T020112
CREATED:20190927T093124Z
LAST-MODIFIED:20190927T093124Z
UID:2493-1570492800-1570579199@kanseinomori.com
SUMMARY:ベビーマッサージ教室
DESCRIPTION:「ベビーマッサージ教室」です。 \n１０／８（火）、１０／２９(火） \n10:15～11:00　参加費￥800 \n～お申込みはこちら～ \n\n「ORANGE YUZU」\nsaorisenseino.babymassage@gmail.com\n(件名に「ベビマ予約」\n本文に①保護者名、②お子様のお名前と月齢、③電話番号、④ご希望日）\n\n\nブログもご覧下さい　http://s.ameblo.jp/orangeyuzu2015/　講師：田畑\n\n\n\n\n\n\n≪注意事項≫\n\n・受付時に参加者の方は、感性の森の会員カードをご提示頂くか、 \n初めての方は「施設利用登録申込書」のご記入の上、会員カードを \n発行致します。その際、初回登録料100円が別途必要です。 \n※事前にホームページから申込書をダウンロードしてご記入頂くと入場が \nスムーズです。 \n・イベント前後に遊戯をされる場合、別途入場料が必要となります。 \n\n皆様ぜひご参加ください！！ \n\n 
URL:https://kanseinomori.com/calendar/event/%e3%82%aa%e3%83%aa%e3%82%b8%e3%83%8a%e3%83%ab%e3%83%90%e3%83%83%e3%82%af%e3%82%92%e4%bd%9c%e3%82%8d%e3%81%86%ef%bc%81-7-2-2-2-4-2-2-3-4-2-2-2-2-3-3-3-3-2-2-3-3-3-2-2-3-2-2-3-3-3-3-3-3-3-5-3-3-3-3-1-67/
CATEGORIES:有料,要予約
END:VEVENT
BEGIN:VEVENT
DTSTART;VALUE=DATE:20191006
DTEND;VALUE=DATE:20191007
DTSTAMP:20260422T020112
CREATED:20190927T093334Z
LAST-MODIFIED:20190927T093335Z
UID:2503-1570320000-1570406399@kanseinomori.com
SUMMARY:カボチャおばけを作ろう
DESCRIPTION:
URL:https://kanseinomori.com/calendar/event/%e3%82%aa%e3%83%aa%e3%82%b8%e3%83%8a%e3%83%ab%e3%83%90%e3%83%83%e3%82%af%e3%82%92%e4%bd%9c%e3%82%8d%e3%81%86%ef%bc%81-7-2-2-2-4-2-2-3-4-2-2-2-2-3-3-3-3-2-2-3-3-3-2-2-3-2-2-3-3-3-3-3-3-3-5-3-3-3-3-1-69/
CATEGORIES:予約不要,有料
END:VEVENT
BEGIN:VEVENT
DTSTART;VALUE=DATE:20191005
DTEND;VALUE=DATE:20191006
DTSTAMP:20260422T020112
CREATED:20190927T093559Z
LAST-MODIFIED:20190927T093559Z
UID:2509-1570233600-1570319999@kanseinomori.com
SUMMARY:オリジナルパズル／森のキーホルダー／オリジナルバック
DESCRIPTION:
URL:https://kanseinomori.com/calendar/event/%e3%82%aa%e3%83%aa%e3%82%b8%e3%83%8a%e3%83%ab%e3%83%90%e3%83%83%e3%82%af%e3%82%92%e4%bd%9c%e3%82%8d%e3%81%86%ef%bc%81-7-2-2-2-4-2-2-3-4-2-2-2-2-3-3-3-3-2-2-3-3-3-2-2-3-2-2-3-3-3-3-3-3-3-5-3-3-3-3-1-71/
CATEGORIES:予約不要,有料
END:VEVENT
BEGIN:VEVENT
DTSTART;VALUE=DATE:20190929
DTEND;VALUE=DATE:20190930
DTSTAMP:20260422T020112
CREATED:20190824T013604Z
LAST-MODIFIED:20190824T013604Z
UID:2366-1569715200-1569801599@kanseinomori.com
SUMMARY:秋のメッセージボード
DESCRIPTION:
URL:https://kanseinomori.com/calendar/event/%e3%82%aa%e3%83%aa%e3%82%b8%e3%83%8a%e3%83%ab%e3%83%90%e3%83%83%e3%82%af%e3%82%92%e4%bd%9c%e3%82%8d%e3%81%86%ef%bc%81-7-2-2-2-4-2-2-3-4-2-2-2-2-3-3-3-3-2-2-3-3-3-2-2-3-2-2-3-3-3-3-3-3-3-5-3-3-3-3-1-52/
CATEGORIES:予約不要,有料
END:VEVENT
BEGIN:VEVENT
DTSTART;VALUE=DATE:20190928
DTEND;VALUE=DATE:20190929
DTSTAMP:20260422T020112
CREATED:20190824T014407Z
LAST-MODIFIED:20190824T014407Z
UID:2371-1569628800-1569715199@kanseinomori.com
SUMMARY:森の伝言板を作ろう！
DESCRIPTION:
URL:https://kanseinomori.com/calendar/event/%e3%82%aa%e3%83%aa%e3%82%b8%e3%83%8a%e3%83%ab%e3%83%90%e3%83%83%e3%82%af%e3%82%92%e4%bd%9c%e3%82%8d%e3%81%86%ef%bc%81-7-2-2-2-4-2-2-3-4-2-2-2-2-3-3-3-3-2-2-3-3-3-2-2-3-2-2-3-3-3-3-3-3-3-5-3-3-3-3-1-54/
CATEGORIES:予約不要,有料
END:VEVENT
BEGIN:VEVENT
DTSTART;VALUE=DATE:20190925
DTEND;VALUE=DATE:20190926
DTSTAMP:20260422T020112
CREATED:20190824T015326Z
LAST-MODIFIED:20190904T024755Z
UID:2394-1569369600-1569455999@kanseinomori.com
SUMMARY:ハピネスリトミック♪
DESCRIPTION:学びの原点にはママの笑顔が☆お子さんがリトミックを通じ、音感、 \nリズム感、集中力を養うのはもちろん、ママも一緒に楽しめてリフレッシュ \nできるのがハピネスリトミックです♪　小野寺郁子 \n◯９月のレッスン→９月４日（水）、１８日（水）、２５日（水）\n\n◯時間→１０時２０分からキッズ(１歳半〜) \n\n　　　　１１時２０分からベビー(生後３ヶ月〜１歳５ヶ月)\n\n\n◯特別な持ち物はありません。\n\n〇参加希望の方は前日までに講師宛にメール又はお電話で予約\n\n（お子さんの名前、生年月日、希望日、電話番号をお伝え下さい）\n\n\n◯定員→各回８組\n\n≪注意事項≫\n\n\n・受付時に参加者の方は、感性の森の会員カードをご提示頂くか、 \n初めての方は「施設利用登録申込書」のご記入の上、会員カードを \n発行致します。その際、初回登録料100円が別途必要です。 \n※事前にホームページから申込書をダウンロードしてご記入頂くと入場が \nスムーズです。 \n・イベント前後に遊戯をされる場合、別途入場料が必要となります。 \n\n\n◯ハピネスリトミック　ホームページ→https://www.eurhythmics-sendai.com\n\n\n皆様ぜひご参加ください！！
URL:https://kanseinomori.com/calendar/event/%e3%82%aa%e3%83%aa%e3%82%b8%e3%83%8a%e3%83%ab%e3%83%90%e3%83%83%e3%82%af%e3%82%92%e4%bd%9c%e3%82%8d%e3%81%86%ef%bc%81-7-2-2-2-4-2-2-3-4-2-2-2-2-3-3-3-3-2-2-3-3-3-2-2-3-2-2-3-3-3-3-3-3-3-5-3-3-3-3-1-57/
CATEGORIES:有料,要予約
END:VEVENT
BEGIN:VEVENT
DTSTART;VALUE=DATE:20190924
DTEND;VALUE=DATE:20190925
DTSTAMP:20260422T020112
CREATED:20190824T020007Z
LAST-MODIFIED:20190824T020007Z
UID:2402-1569283200-1569369599@kanseinomori.com
SUMMARY:抱っことおんぶの相談会
DESCRIPTION:  \n「抱っことおんぶの相談会」 \n９／１０（火）、９／２４(火） \n10:00～12:00 \n相談、体験　10分　￥500 \n当日、「感性の森」ご利用で参加できます。 \nお問い合わせは、直接担当講師までお願いします。 \n\n皆様ぜひご参加ください！！
URL:https://kanseinomori.com/calendar/event/%e3%82%aa%e3%83%aa%e3%82%b8%e3%83%8a%e3%83%ab%e3%83%90%e3%83%83%e3%82%af%e3%82%92%e4%bd%9c%e3%82%8d%e3%81%86%ef%bc%81-7-2-2-2-4-2-2-3-4-2-2-2-2-3-3-3-3-2-2-3-3-3-2-2-3-2-2-3-3-3-3-3-3-3-5-3-3-3-3-1-59/
CATEGORIES:有料
END:VEVENT
BEGIN:VEVENT
DTSTART;VALUE=DATE:20190923
DTEND;VALUE=DATE:20190924
DTSTAMP:20260422T020112
CREATED:20190824T014245Z
LAST-MODIFIED:20190824T014245Z
UID:2368-1569196800-1569283199@kanseinomori.com
SUMMARY:金魚ちゃんを作ろう！
DESCRIPTION:
URL:https://kanseinomori.com/calendar/event/%e3%82%aa%e3%83%aa%e3%82%b8%e3%83%8a%e3%83%ab%e3%83%90%e3%83%83%e3%82%af%e3%82%92%e4%bd%9c%e3%82%8d%e3%81%86%ef%bc%81-7-2-2-2-4-2-2-3-4-2-2-2-2-3-3-3-3-2-2-3-3-3-2-2-3-2-2-3-3-3-3-3-3-3-5-3-3-3-3-1-53/
CATEGORIES:予約不要,有料
END:VEVENT
BEGIN:VEVENT
DTSTART;VALUE=DATE:20190922
DTEND;VALUE=DATE:20190923
DTSTAMP:20260422T020112
CREATED:20190824T013307Z
LAST-MODIFIED:20190824T013307Z
UID:2361-1569110400-1569196799@kanseinomori.com
SUMMARY:オリジナルパズル／森のキーホルダー
DESCRIPTION:
URL:https://kanseinomori.com/calendar/event/%e3%82%aa%e3%83%aa%e3%82%b8%e3%83%8a%e3%83%ab%e3%83%90%e3%83%83%e3%82%af%e3%82%92%e4%bd%9c%e3%82%8d%e3%81%86%ef%bc%81-7-2-2-2-4-2-2-3-4-2-2-2-2-3-3-3-3-2-2-3-3-3-2-2-3-2-2-3-3-3-3-3-3-3-5-3-3-3-3-1-50/
CATEGORIES:予約不要,有料
END:VEVENT
BEGIN:VEVENT
DTSTART;VALUE=DATE:20190921
DTEND;VALUE=DATE:20190922
DTSTAMP:20260422T020112
CREATED:20190824T013455Z
LAST-MODIFIED:20190824T013455Z
UID:2363-1569024000-1569110399@kanseinomori.com
SUMMARY:秋のメッセージボード
DESCRIPTION:
URL:https://kanseinomori.com/calendar/event/%e3%82%aa%e3%83%aa%e3%82%b8%e3%83%8a%e3%83%ab%e3%83%90%e3%83%83%e3%82%af%e3%82%92%e4%bd%9c%e3%82%8d%e3%81%86%ef%bc%81-7-2-2-2-4-2-2-3-4-2-2-2-2-3-3-3-3-2-2-3-3-3-2-2-3-2-2-3-3-3-3-3-3-3-5-3-3-3-3-1-51/
CATEGORIES:予約不要,有料
END:VEVENT
BEGIN:VEVENT
DTSTART;VALUE=DATE:20190918
DTEND;VALUE=DATE:20190919
DTSTAMP:20260422T020112
CREATED:20190824T015302Z
LAST-MODIFIED:20190824T015302Z
UID:2392-1568764800-1568851199@kanseinomori.com
SUMMARY:ハピネスリトミック♪
DESCRIPTION:学びの原点にはママの笑顔が☆お子さんがリトミックを通じ、音感、 \nリズム感、集中力を養うのはもちろん、ママも一緒に楽しめてリフレッシュ \nできるのがハピネスリトミックです♪　小野寺郁子 \n◯９月のレッスン→９月４日（水）、１８日（水）、２５日（水）\n\n◯時間→１０時２０分からキッズ(１歳半〜) \n\n　　　　１１時２０分からベビー(生後３ヶ月〜１歳５ヶ月)\n\n\n◯特別な持ち物はありません。\n\n〇参加希望の方は前日までに講師宛にメール又はお電話で予約\n\n（お子さんの名前、生年月日、希望日、電話番号をお伝え下さい）\n\n\n◯定員→各回８組\n\n≪注意事項≫\n\n\n・受付時に参加者の方は、感性の森の会員カードをご提示頂くか、 \n初めての方は「施設利用登録申込書」のご記入の上、会員カードを \n発行致します。その際、初回登録料100円が別途必要です。 \n※事前にホームページから申込書をダウンロードしてご記入頂くと入場が \nスムーズです。 \n・イベント前後に遊戯をされる場合、別途入場料が必要となります。 \n\n\n◯ハピネスリトミック　ホームページ→https://www.eurhythmics-sendai.com\n\n\n皆様ぜひご参加ください！！
URL:https://kanseinomori.com/calendar/event/%e3%82%aa%e3%83%aa%e3%82%b8%e3%83%8a%e3%83%ab%e3%83%90%e3%83%83%e3%82%af%e3%82%92%e4%bd%9c%e3%82%8d%e3%81%86%ef%bc%81-7-2-2-2-4-2-2-3-4-2-2-2-2-3-3-3-3-2-2-3-3-3-2-2-3-2-2-3-3-3-3-3-3-3-5-3-3-3-3-1-56/
CATEGORIES:有料,要予約
END:VEVENT
BEGIN:VEVENT
DTSTART;VALUE=DATE:20190916
DTEND;VALUE=DATE:20190917
DTSTAMP:20260422T020112
CREATED:20190824T012305Z
LAST-MODIFIED:20190824T093606Z
UID:2354-1568592000-1568678399@kanseinomori.com
SUMMARY:もみじとかわいい仲間たち
DESCRIPTION:
URL:https://kanseinomori.com/calendar/event/%e3%82%aa%e3%83%aa%e3%82%b8%e3%83%8a%e3%83%ab%e3%83%90%e3%83%83%e3%82%af%e3%82%92%e4%bd%9c%e3%82%8d%e3%81%86%ef%bc%81-7-2-2-2-4-2-2-3-4-2-2-2-2-3-3-3-3-2-2-3-3-3-2-2-3-2-2-3-3-3-3-3-3-3-5-3-3-3-3-1-47/
CATEGORIES:予約不要,有料
END:VEVENT
BEGIN:VEVENT
DTSTART;VALUE=DATE:20190915
DTEND;VALUE=DATE:20190916
DTSTAMP:20260422T020112
CREATED:20190824T013237Z
LAST-MODIFIED:20190908T092605Z
UID:2359-1568505600-1568591999@kanseinomori.com
SUMMARY:オリジナルパズル／森のキーホルダー
DESCRIPTION:※キーホルダーにつきまして、入荷が遅れている為、9/15（日）は、オリジナルパズルのみとなります。
URL:https://kanseinomori.com/calendar/event/%e3%82%aa%e3%83%aa%e3%82%b8%e3%83%8a%e3%83%ab%e3%83%90%e3%83%83%e3%82%af%e3%82%92%e4%bd%9c%e3%82%8d%e3%81%86%ef%bc%81-7-2-2-2-4-2-2-3-4-2-2-2-2-3-3-3-3-2-2-3-3-3-2-2-3-2-2-3-3-3-3-3-3-3-5-3-3-3-3-1-49/
CATEGORIES:予約不要,有料
END:VEVENT
END:VCALENDAR