BEGIN:VCALENDAR
VERSION:2.0
PRODID:-//木の室内創造あそび場「感性の森」 - ECPv6.13.2.1//NONSGML v1.0//EN
CALSCALE:GREGORIAN
METHOD:PUBLISH
X-WR-CALNAME:木の室内創造あそび場「感性の森」
X-ORIGINAL-URL:https://kanseinomori.com/calendar
X-WR-CALDESC:木の室内創造あそび場「感性の森」 のイベント
REFRESH-INTERVAL;VALUE=DURATION:PT1H
X-Robots-Tag:noindex
X-PUBLISHED-TTL:PT1H
BEGIN:VTIMEZONE
TZID:Asia/Tokyo
BEGIN:STANDARD
TZOFFSETFROM:+0900
TZOFFSETTO:+0900
TZNAME:JST
DTSTART:20200101T000000
END:STANDARD
END:VTIMEZONE
BEGIN:VEVENT
DTSTART;VALUE=DATE:20251201
DTEND;VALUE=DATE:20251231
DTSTAMP:20260422T035214
CREATED:20251126T010022Z
LAST-MODIFIED:20251126T022151Z
UID:4321-1764547200-1767139199@kanseinomori.com
SUMMARY:１２月 絵本の読み聞かせ・親子ふれあい遊び
DESCRIPTION:感性の森の絵本コーナーにて、赤ちゃんヨガ・ベビーマッサージサロン カラフル講師：おおはし かすみ先生をお招きして、絵本の読み聞かせ・親子でできるふれあい遊びのイベントを開催いたします！ \n \n参加無料！みなさまのご参加お待ちしております。
URL:https://kanseinomori.com/calendar/event/%e2%98%86%e6%84%9f%e6%80%a7%e3%81%ae%e6%a3%ae-%e7%b5%b5%e6%9c%ac%e3%81%ae%e8%aa%ad%e3%81%bf%e8%81%9e%e3%81%8b%e3%81%9b%e3%83%bb%e8%a6%aa%e5%ad%90%e3%81%b5%e3%82%8c%e3%81%82%e3%81%84%e9%81%8a-2-3/
CATEGORIES:予約不要,無料
END:VEVENT
BEGIN:VEVENT
DTSTART;VALUE=DATE:20251201
DTEND;VALUE=DATE:20251226
DTSTAMP:20260422T035214
CREATED:20251126T010037Z
LAST-MODIFIED:20251126T064728Z
UID:5004-1764547200-1766707199@kanseinomori.com
SUMMARY:★サンタブーツくじ引き★１2月平日ご来場のお子様限定！12/1～12/25
DESCRIPTION:  \n \n  \n開催内容が変更・延期・中止になる場合がございますので予めご了承ください。
URL:https://kanseinomori.com/calendar/event/12%e6%9c%88%e3%80%80%e5%b9%b3%e6%97%a5%e3%83%af%e3%83%bc%e3%82%af%e3%82%b7%e3%83%a7%e3%83%83%e3%83%97%e3%81%ae%e3%81%8a%e7%9f%a5%e3%82%89%e3%81%9b-2-2-3/
CATEGORIES:予約不要
END:VEVENT
BEGIN:VEVENT
DTSTART;VALUE=DATE:20251201
DTEND;VALUE=DATE:20260101
DTSTAMP:20260422T035214
CREATED:20251117T010009Z
LAST-MODIFIED:20251117T015201Z
UID:4719-1764547200-1767225599@kanseinomori.com
SUMMARY:１２月休日ワークショップのお知らせ
DESCRIPTION:  \n皆様のご参加をお待ちしております。 \n 
URL:https://kanseinomori.com/calendar/event/12%e6%9c%88%e3%80%80%e5%b9%b3%e6%97%a5%e3%83%af%e3%83%bc%e3%82%af%e3%82%b7%e3%83%a7%e3%83%83%e3%83%97%e3%81%ae%e3%81%8a%e7%9f%a5%e3%82%89%e3%81%9b-2-2-2-2/
CATEGORIES:予約不要,有料
END:VEVENT
BEGIN:VEVENT
DTSTART;VALUE=DATE:20250701
DTEND;VALUE=DATE:20250801
DTSTAMP:20260422T035214
CREATED:20250619T025745Z
LAST-MODIFIED:20250619T041543Z
UID:5253-1751328000-1754006399@kanseinomori.com
SUMMARY:7月 休日ワークショップのお知らせ
DESCRIPTION:皆様のご参加をお待ちしております。 \n開催内容が変更・延期・中止になる場合がございますので予めご了承ください。
URL:https://kanseinomori.com/calendar/event/12%e6%9c%88%e3%80%80%e5%b9%b3%e6%97%a5%e3%83%af%e3%83%bc%e3%82%af%e3%82%b7%e3%83%a7%e3%83%83%e3%83%97%e3%81%ae%e3%81%8a%e7%9f%a5%e3%82%89%e3%81%9b-2-2-2-2-2/
CATEGORIES:予約不要,有料
END:VEVENT
BEGIN:VEVENT
DTSTART;VALUE=DATE:20250501
DTEND;VALUE=DATE:20250601
DTSTAMP:20260422T035214
CREATED:20250511T040911Z
LAST-MODIFIED:20250511T041108Z
UID:5232-1746057600-1748735999@kanseinomori.com
SUMMARY:５月 休日ワークショップのお知らせ
DESCRIPTION:ぜひこの機会に、ご家族でのご参加をお待ちしております。 \n開催内容が変更・延期・中止になる場合がございますので予めご了承ください。
URL:https://kanseinomori.com/calendar/event/12%e6%9c%88%e3%80%80%e5%b9%b3%e6%97%a5%e3%83%af%e3%83%bc%e3%82%af%e3%82%b7%e3%83%a7%e3%83%83%e3%83%97%e3%81%ae%e3%81%8a%e7%9f%a5%e3%82%89%e3%81%9b-2-2-4-2-2-2/
CATEGORIES:予約不要,有料
END:VEVENT
BEGIN:VEVENT
DTSTART;VALUE=DATE:20250101
DTEND;VALUE=DATE:20250130
DTSTAMP:20260422T035214
CREATED:20250104T010053Z
LAST-MODIFIED:20250104T051105Z
UID:4649-1735689600-1738195199@kanseinomori.com
SUMMARY:１月 絵本の読み聞かせ・親子ふれあい遊び
DESCRIPTION:感性の森の絵本コーナーにて、赤ちゃんヨガ・ベビーマッサージサロン カラフル講師：おおはし かすみ先生をお招きして、絵本の読み聞かせ・親子でできるふれあい遊びのイベントを開催いたします！ \n \n参加無料！みなさまのご参加お待ちしております。
URL:https://kanseinomori.com/calendar/event/%e2%98%86%e6%84%9f%e6%80%a7%e3%81%ae%e6%a3%ae-%e7%b5%b5%e6%9c%ac%e3%81%ae%e8%aa%ad%e3%81%bf%e8%81%9e%e3%81%8b%e3%81%9b%e3%83%bb%e8%a6%aa%e5%ad%90%e3%81%b5%e3%82%8c%e3%81%82%e3%81%84%e9%81%8a-2-3-2/
CATEGORIES:予約不要,無料
END:VEVENT
BEGIN:VEVENT
DTSTART;VALUE=DATE:20231225
DTEND;VALUE=DATE:20231230
DTSTAMP:20260422T035214
CREATED:20231222T010038Z
LAST-MODIFIED:20231222T010539Z
UID:4908-1703462400-1703894399@kanseinomori.com
SUMMARY:12月 アロマクラフト
DESCRIPTION:感性の森ワークショップルームにて、赤ちゃんから使えるクリーム作りを開催いたします。 \n \n開催日時　12月25日(月)・27日(水)・29日(金) 13時00分～15時00分 \nみなさまのご参加お待ちしております。
URL:https://kanseinomori.com/calendar/event/%e2%98%86%e6%84%9f%e6%80%a7%e3%81%ae%e6%a3%ae-%e7%b5%b5%e6%9c%ac%e3%81%ae%e8%aa%ad%e3%81%bf%e8%81%9e%e3%81%8b%e3%81%9b%e3%83%bb%e8%a6%aa%e5%ad%90%e3%81%b5%e3%82%8c%e3%81%82%e3%81%84%e9%81%8a-2-3-2-2/
CATEGORIES:予約不要,有料
END:VEVENT
BEGIN:VEVENT
DTSTART;VALUE=DATE:20200830
DTEND;VALUE=DATE:20200831
DTSTAMP:20260422T035214
CREATED:20200727T074414Z
LAST-MODIFIED:20200727T074414Z
UID:3880-1598745600-1598831999@kanseinomori.com
SUMMARY:お楽しみワークショップ
DESCRIPTION:※入場者対象のワークショップです。 \n参加費の他、別途入場料等が必要ですのでご注意下さい \n※店内の混雑状況により、入場制限となる場合がございます。 \nお待ちいただく場合や場合によってはご参加できない可能性もありますので \n予めご了承下さい。家庭でも作成できる、工作キットも販売しておりますので \nぜひお買い求め下さい。 \n※12時~13時は消毒、換気の為一時閉店となりますのでご注意下さい。 \n  \n  \n  \n 
URL:https://kanseinomori.com/calendar/event/%e3%82%aa%e3%83%aa%e3%82%b8%e3%83%8a%e3%83%ab%e3%83%90%e3%83%83%e3%82%af%e3%82%92%e4%bd%9c%e3%82%8d%e3%81%86%ef%bc%81-7-2-2-2-4-2-2-3-4-2-2-2-2-3-3-3-3-2-2-3-3-3-2-2-3-2-2-3-3-3-3-3-3-3-5-3-3-3-3-20-6/
CATEGORIES:予約不要,有料
END:VEVENT
BEGIN:VEVENT
DTSTART;VALUE=DATE:20200829
DTEND;VALUE=DATE:20200830
DTSTAMP:20260422T035214
CREATED:20200727T074350Z
LAST-MODIFIED:20200727T074350Z
UID:3878-1598659200-1598745599@kanseinomori.com
SUMMARY:お楽しみワークショップ
DESCRIPTION:※入場者対象のワークショップです。 \n参加費の他、別途入場料等が必要ですのでご注意下さい \n※店内の混雑状況により、入場制限となる場合がございます。 \nお待ちいただく場合や場合によってはご参加できない可能性もありますので \n予めご了承下さい。家庭でも作成できる、工作キットも販売しておりますので \nぜひお買い求め下さい。 \n※12時~13時は消毒、換気の為一時閉店となりますのでご注意下さい。 \n  \n  \n  \n 
URL:https://kanseinomori.com/calendar/event/%e3%82%aa%e3%83%aa%e3%82%b8%e3%83%8a%e3%83%ab%e3%83%90%e3%83%83%e3%82%af%e3%82%92%e4%bd%9c%e3%82%8d%e3%81%86%ef%bc%81-7-2-2-2-4-2-2-3-4-2-2-2-2-3-3-3-3-2-2-3-3-3-2-2-3-2-2-3-3-3-3-3-3-3-5-3-3-3-3-20-5/
CATEGORIES:予約不要,有料
END:VEVENT
BEGIN:VEVENT
DTSTART;VALUE=DATE:20200823
DTEND;VALUE=DATE:20200824
DTSTAMP:20260422T035214
CREATED:20200727T074157Z
LAST-MODIFIED:20200727T074157Z
UID:3876-1598140800-1598227199@kanseinomori.com
SUMMARY:お楽しみワークショップ
DESCRIPTION:※入場者対象のワークショップです。 \n参加費の他、別途入場料等が必要ですのでご注意下さい \n※店内の混雑状況により、入場制限となる場合がございます。 \nお待ちいただく場合や場合によってはご参加できない可能性もありますので \n予めご了承下さい。家庭でも作成できる、工作キットも販売しておりますので \nぜひお買い求め下さい。 \n※12時~13時は消毒、換気の為一時閉店となりますのでご注意下さい。 \n  \n  \n  \n 
URL:https://kanseinomori.com/calendar/event/%e3%82%aa%e3%83%aa%e3%82%b8%e3%83%8a%e3%83%ab%e3%83%90%e3%83%83%e3%82%af%e3%82%92%e4%bd%9c%e3%82%8d%e3%81%86%ef%bc%81-7-2-2-2-4-2-2-3-4-2-2-2-2-3-3-3-3-2-2-3-3-3-2-2-3-2-2-3-3-3-3-3-3-3-5-3-3-3-3-20-4/
CATEGORIES:予約不要,有料
END:VEVENT
BEGIN:VEVENT
DTSTART;VALUE=DATE:20200822
DTEND;VALUE=DATE:20200823
DTSTAMP:20260422T035214
CREATED:20200727T074008Z
LAST-MODIFIED:20200727T074008Z
UID:3874-1598054400-1598140799@kanseinomori.com
SUMMARY:お楽しみワークショップ
DESCRIPTION:※入場者対象のワークショップです。 \n参加費の他、別途入場料等が必要ですのでご注意下さい \n※店内の混雑状況により、入場制限となる場合がございます。 \nお待ちいただく場合や場合によってはご参加できない可能性もありますので \n予めご了承下さい。家庭でも作成できる、工作キットも販売しておりますので \nぜひお買い求め下さい。 \n※12時~13時は消毒、換気の為一時閉店となりますのでご注意下さい。 \n  \n  \n  \n 
URL:https://kanseinomori.com/calendar/event/%e3%82%aa%e3%83%aa%e3%82%b8%e3%83%8a%e3%83%ab%e3%83%90%e3%83%83%e3%82%af%e3%82%92%e4%bd%9c%e3%82%8d%e3%81%86%ef%bc%81-7-2-2-2-4-2-2-3-4-2-2-2-2-3-3-3-3-2-2-3-3-3-2-2-3-2-2-3-3-3-3-3-3-3-5-3-3-3-3-20-3/
CATEGORIES:予約不要,有料
END:VEVENT
BEGIN:VEVENT
DTSTART;VALUE=DATE:20200802
DTEND;VALUE=DATE:20200803
DTSTAMP:20260422T035214
CREATED:20200727T073917Z
LAST-MODIFIED:20200727T073917Z
UID:3872-1596326400-1596412799@kanseinomori.com
SUMMARY:お楽しみワークショップ
DESCRIPTION:※入場者対象のワークショップです。 \n参加費の他、別途入場料等が必要ですのでご注意下さい \n※店内の混雑状況により、入場制限となる場合がございます。 \nお待ちいただく場合や場合によってはご参加できない可能性もありますので \n予めご了承下さい。家庭でも作成できる、工作キットも販売しておりますので \nぜひお買い求め下さい。 \n※12時~13時は消毒、換気の為一時閉店となりますのでご注意下さい。 \n  \n  \n  \n 
URL:https://kanseinomori.com/calendar/event/%e3%82%aa%e3%83%aa%e3%82%b8%e3%83%8a%e3%83%ab%e3%83%90%e3%83%83%e3%82%af%e3%82%92%e4%bd%9c%e3%82%8d%e3%81%86%ef%bc%81-7-2-2-2-4-2-2-3-4-2-2-2-2-3-3-3-3-2-2-3-3-3-2-2-3-2-2-3-3-3-3-3-3-3-5-3-3-3-3-20-2/
CATEGORIES:予約不要,有料
END:VEVENT
BEGIN:VEVENT
DTSTART;VALUE=DATE:20200801
DTEND;VALUE=DATE:20200802
DTSTAMP:20260422T035214
CREATED:20200727T073427Z
LAST-MODIFIED:20200727T073427Z
UID:3868-1596240000-1596326399@kanseinomori.com
SUMMARY:お楽しみワークショップ
DESCRIPTION:※入場者対象のワークショップです。 \n参加費の他、別途入場料等が必要ですのでご注意下さい \n※店内の混雑状況により、入場制限となる場合がございます。 \nお待ちいただく場合や場合によってはご参加できない可能性もありますので \n予めご了承下さい。家庭でも作成できる、工作キットも販売しておりますので \nぜひお買い求め下さい。 \n※12時~13時は消毒、換気の為一時閉店となりますのでご注意下さい。 \n  \n  \n  \n 
URL:https://kanseinomori.com/calendar/event/%e3%82%aa%e3%83%aa%e3%82%b8%e3%83%8a%e3%83%ab%e3%83%90%e3%83%83%e3%82%af%e3%82%92%e4%bd%9c%e3%82%8d%e3%81%86%ef%bc%81-7-2-2-2-4-2-2-3-4-2-2-2-2-3-3-3-3-2-2-3-3-3-2-2-3-2-2-3-3-3-3-3-3-3-5-3-3-3-3-201/
CATEGORIES:予約不要,有料
END:VEVENT
BEGIN:VEVENT
DTSTART;VALUE=DATE:20200726
DTEND;VALUE=DATE:20200727
DTSTAMP:20260422T035214
CREATED:20200629T062634Z
LAST-MODIFIED:20200629T062634Z
UID:3847-1595721600-1595807999@kanseinomori.com
SUMMARY:選べるワークショップ
DESCRIPTION:※入場者対象のワークショップです。 \n参加費の他、別途入場料等が必要ですのでご注意下さい \n※店内の混雑状況により、入場制限となる場合がございます。 \nお待ちいただく場合や場合によってはご参加できない可能性もありますので \n予めご了承下さい。家庭でも作成できる、工作キットも販売しておりますので \nぜひお買い求め下さい。 \n※12時~13時は消毒、換気の為一時閉店となりますのでご注意下さい。 \n  \n  \n  \n 
URL:https://kanseinomori.com/calendar/event/%e3%82%aa%e3%83%aa%e3%82%b8%e3%83%8a%e3%83%ab%e3%83%90%e3%83%83%e3%82%af%e3%82%92%e4%bd%9c%e3%82%8d%e3%81%86%ef%bc%81-7-2-2-2-4-2-2-3-4-2-2-2-2-3-3-3-3-2-2-3-3-3-2-2-3-2-2-3-3-3-3-3-3-3-5-3-3-3-3-195/
CATEGORIES:予約不要,有料
END:VEVENT
BEGIN:VEVENT
DTSTART;VALUE=DATE:20200725
DTEND;VALUE=DATE:20200726
DTSTAMP:20260422T035214
CREATED:20200629T062604Z
LAST-MODIFIED:20200629T062604Z
UID:3844-1595635200-1595721599@kanseinomori.com
SUMMARY:選べるワークショップ
DESCRIPTION:※入場者対象のワークショップです。 \n参加費の他、別途入場料等が必要ですのでご注意下さい \n※店内の混雑状況により、入場制限となる場合がございます。 \nお待ちいただく場合や場合によってはご参加できない可能性もありますので \n予めご了承下さい。家庭でも作成できる、工作キットも販売しておりますので \nぜひお買い求め下さい。 \n※12時~13時は消毒、換気の為一時閉店となりますのでご注意下さい。 \n  \n  \n  \n 
URL:https://kanseinomori.com/calendar/event/%e3%82%aa%e3%83%aa%e3%82%b8%e3%83%8a%e3%83%ab%e3%83%90%e3%83%83%e3%82%af%e3%82%92%e4%bd%9c%e3%82%8d%e3%81%86%ef%bc%81-7-2-2-2-4-2-2-3-4-2-2-2-2-3-3-3-3-2-2-3-3-3-2-2-3-2-2-3-3-3-3-3-3-3-5-3-3-3-3-194/
CATEGORIES:予約不要,有料
END:VEVENT
BEGIN:VEVENT
DTSTART;VALUE=DATE:20200724
DTEND;VALUE=DATE:20200725
DTSTAMP:20260422T035214
CREATED:20200629T064444Z
LAST-MODIFIED:20200629T064444Z
UID:3856-1595548800-1595635199@kanseinomori.com
SUMMARY:お楽しみワークショップ
DESCRIPTION:※入場者対象のワークショップです。 \n参加費の他、別途入場料等が必要ですのでご注意下さい \n※店内の混雑状況により、入場制限となる場合がございます。 \nお待ちいただく場合や場合によってはご参加できない可能性もありますので \n予めご了承下さい。家庭でも作成できる、工作キットも販売しておりますので \nぜひお買い求め下さい。 \n※12時~13時は消毒、換気の為一時閉店となりますのでご注意下さい。 \n  \n  \n  \n 
URL:https://kanseinomori.com/calendar/event/%e3%82%aa%e3%83%aa%e3%82%b8%e3%83%8a%e3%83%ab%e3%83%90%e3%83%83%e3%82%af%e3%82%92%e4%bd%9c%e3%82%8d%e3%81%86%ef%bc%81-7-2-2-2-4-2-2-3-4-2-2-2-2-3-3-3-3-2-2-3-3-3-2-2-3-2-2-3-3-3-3-3-3-3-5-3-3-3-3-197/
CATEGORIES:予約不要,有料
END:VEVENT
BEGIN:VEVENT
DTSTART;VALUE=DATE:20200723
DTEND;VALUE=DATE:20200724
DTSTAMP:20260422T035214
CREATED:20200629T064052Z
LAST-MODIFIED:20200629T064052Z
UID:3850-1595462400-1595548799@kanseinomori.com
SUMMARY:お楽しみワークショップ
DESCRIPTION:※入場者対象のワークショップです。 \n参加費の他、別途入場料等が必要ですのでご注意下さい \n※店内の混雑状況により、入場制限となる場合がございます。 \nお待ちいただく場合や場合によってはご参加できない可能性もありますので \n予めご了承下さい。家庭でも作成できる、工作キットも販売しておりますので \nぜひお買い求め下さい。 \n※12時~13時は消毒、換気の為一時閉店となりますのでご注意下さい。 \n  \n  \n  \n 
URL:https://kanseinomori.com/calendar/event/%e3%82%aa%e3%83%aa%e3%82%b8%e3%83%8a%e3%83%ab%e3%83%90%e3%83%83%e3%82%af%e3%82%92%e4%bd%9c%e3%82%8d%e3%81%86%ef%bc%81-7-2-2-2-4-2-2-3-4-2-2-2-2-3-3-3-3-2-2-3-3-3-2-2-3-2-2-3-3-3-3-3-3-3-5-3-3-3-3-196/
CATEGORIES:予約不要,有料
END:VEVENT
BEGIN:VEVENT
DTSTART;VALUE=DATE:20200718
DTEND;VALUE=DATE:20200719
DTSTAMP:20260422T035214
CREATED:20200629T062455Z
LAST-MODIFIED:20200629T062455Z
UID:3839-1595030400-1595116799@kanseinomori.com
SUMMARY:選べるワークショップ
DESCRIPTION:※入場者対象のワークショップです。 \n参加費の他、別途入場料等が必要ですのでご注意下さい \n※店内の混雑状況により、入場制限となる場合がございます。 \nお待ちいただく場合や場合によってはご参加できない可能性もありますので \n予めご了承下さい。家庭でも作成できる、工作キットも販売しておりますので \nぜひお買い求め下さい。 \n※12時~13時は消毒、換気の為一時閉店となりますのでご注意下さい。 \n  \n  \n  \n 
URL:https://kanseinomori.com/calendar/event/%e3%82%aa%e3%83%aa%e3%82%b8%e3%83%8a%e3%83%ab%e3%83%90%e3%83%83%e3%82%af%e3%82%92%e4%bd%9c%e3%82%8d%e3%81%86%ef%bc%81-7-2-2-2-4-2-2-3-4-2-2-2-2-3-3-3-3-2-2-3-3-3-2-2-3-2-2-3-3-3-3-3-3-3-5-3-3-3-3-192/
CATEGORIES:予約不要,有料
END:VEVENT
BEGIN:VEVENT
DTSTART;VALUE=DATE:20200718
DTEND;VALUE=DATE:20200720
DTSTAMP:20260422T035214
CREATED:20200629T062522Z
LAST-MODIFIED:20200629T062522Z
UID:3841-1595030400-1595203199@kanseinomori.com
SUMMARY:選べるワークショップ
DESCRIPTION:※入場者対象のワークショップです。 \n参加費の他、別途入場料等が必要ですのでご注意下さい \n※店内の混雑状況により、入場制限となる場合がございます。 \nお待ちいただく場合や場合によってはご参加できない可能性もありますので \n予めご了承下さい。家庭でも作成できる、工作キットも販売しておりますので \nぜひお買い求め下さい。 \n※12時~13時は消毒、換気の為一時閉店となりますのでご注意下さい。 \n  \n  \n  \n 
URL:https://kanseinomori.com/calendar/event/%e3%82%aa%e3%83%aa%e3%82%b8%e3%83%8a%e3%83%ab%e3%83%90%e3%83%83%e3%82%af%e3%82%92%e4%bd%9c%e3%82%8d%e3%81%86%ef%bc%81-7-2-2-2-4-2-2-3-4-2-2-2-2-3-3-3-3-2-2-3-3-3-2-2-3-2-2-3-3-3-3-3-3-3-5-3-3-3-3-193/
CATEGORIES:予約不要,有料
END:VEVENT
BEGIN:VEVENT
DTSTART;VALUE=DATE:20200712
DTEND;VALUE=DATE:20200713
DTSTAMP:20260422T035214
CREATED:20200629T062414Z
LAST-MODIFIED:20200629T062414Z
UID:3837-1594512000-1594598399@kanseinomori.com
SUMMARY:選べるワークショップ
DESCRIPTION:※入場者対象のワークショップです。 \n参加費の他、別途入場料等が必要ですのでご注意下さい \n※店内の混雑状況により、入場制限となる場合がございます。 \nお待ちいただく場合や場合によってはご参加できない可能性もありますので \n予めご了承下さい。家庭でも作成できる、工作キットも販売しておりますので \nぜひお買い求め下さい。 \n※12時~13時は消毒、換気の為一時閉店となりますのでご注意下さい。 \n  \n  \n  \n 
URL:https://kanseinomori.com/calendar/event/%e3%82%aa%e3%83%aa%e3%82%b8%e3%83%8a%e3%83%ab%e3%83%90%e3%83%83%e3%82%af%e3%82%92%e4%bd%9c%e3%82%8d%e3%81%86%ef%bc%81-7-2-2-2-4-2-2-3-4-2-2-2-2-3-3-3-3-2-2-3-3-3-2-2-3-2-2-3-3-3-3-3-3-3-5-3-3-3-3-19-9/
CATEGORIES:予約不要,有料
END:VEVENT
BEGIN:VEVENT
DTSTART;VALUE=DATE:20200711
DTEND;VALUE=DATE:20200712
DTSTAMP:20260422T035214
CREATED:20200629T062343Z
LAST-MODIFIED:20200629T062343Z
UID:3835-1594425600-1594511999@kanseinomori.com
SUMMARY:選べるワークショップ
DESCRIPTION:※入場者対象のワークショップです。 \n参加費の他、別途入場料等が必要ですのでご注意下さい \n※店内の混雑状況により、入場制限となる場合がございます。 \nお待ちいただく場合や場合によってはご参加できない可能性もありますので \n予めご了承下さい。家庭でも作成できる、工作キットも販売しておりますので \nぜひお買い求め下さい。 \n※12時~13時は消毒、換気の為一時閉店となりますのでご注意下さい。 \n  \n  \n  \n 
URL:https://kanseinomori.com/calendar/event/%e3%82%aa%e3%83%aa%e3%82%b8%e3%83%8a%e3%83%ab%e3%83%90%e3%83%83%e3%82%af%e3%82%92%e4%bd%9c%e3%82%8d%e3%81%86%ef%bc%81-7-2-2-2-4-2-2-3-4-2-2-2-2-3-3-3-3-2-2-3-3-3-2-2-3-2-2-3-3-3-3-3-3-3-5-3-3-3-3-19-8/
CATEGORIES:予約不要,有料
END:VEVENT
BEGIN:VEVENT
DTSTART;VALUE=DATE:20200705
DTEND;VALUE=DATE:20200706
DTSTAMP:20260422T035214
CREATED:20200629T062259Z
LAST-MODIFIED:20200629T062259Z
UID:3833-1593907200-1593993599@kanseinomori.com
SUMMARY:選べるワークショップ
DESCRIPTION:※入場者対象のワークショップです。 \n参加費の他、別途入場料等が必要ですのでご注意下さい \n※店内の混雑状況により、入場制限となる場合がございます。 \nお待ちいただく場合や場合によってはご参加できない可能性もありますので \n予めご了承下さい。家庭でも作成できる、工作キットも販売しておりますので \nぜひお買い求め下さい。 \n※12時~13時は消毒、換気の為一時閉店となりますのでご注意下さい。 \n  \n  \n  \n 
URL:https://kanseinomori.com/calendar/event/%e3%82%aa%e3%83%aa%e3%82%b8%e3%83%8a%e3%83%ab%e3%83%90%e3%83%83%e3%82%af%e3%82%92%e4%bd%9c%e3%82%8d%e3%81%86%ef%bc%81-7-2-2-2-4-2-2-3-4-2-2-2-2-3-3-3-3-2-2-3-3-3-2-2-3-2-2-3-3-3-3-3-3-3-5-3-3-3-3-19-7/
CATEGORIES:予約不要,有料
END:VEVENT
BEGIN:VEVENT
DTSTART;VALUE=DATE:20200704
DTEND;VALUE=DATE:20200705
DTSTAMP:20260422T035214
CREATED:20200629T062222Z
LAST-MODIFIED:20200629T062222Z
UID:3831-1593820800-1593907199@kanseinomori.com
SUMMARY:選べるワークショップ
DESCRIPTION:※入場者対象のワークショップです。 \n参加費の他、別途入場料等が必要ですのでご注意下さい \n※店内の混雑状況により、入場制限となる場合がございます。 \nお待ちいただく場合や場合によってはご参加できない可能性もありますので \n予めご了承下さい。家庭でも作成できる、工作キットも販売しておりますので \nぜひお買い求め下さい。 \n※12時~13時は消毒、換気の為一時閉店となりますのでご注意下さい。 \n  \n  \n  \n 
URL:https://kanseinomori.com/calendar/event/%e3%82%aa%e3%83%aa%e3%82%b8%e3%83%8a%e3%83%ab%e3%83%90%e3%83%83%e3%82%af%e3%82%92%e4%bd%9c%e3%82%8d%e3%81%86%ef%bc%81-7-2-2-2-4-2-2-3-4-2-2-2-2-3-3-3-3-2-2-3-3-3-2-2-3-2-2-3-3-3-3-3-3-3-5-3-3-3-3-19-6/
CATEGORIES:予約不要,有料
END:VEVENT
BEGIN:VEVENT
DTSTART;VALUE=DATE:20200629
DTEND;VALUE=DATE:20200630
DTSTAMP:20260422T035214
CREATED:20200228T035539Z
LAST-MODIFIED:20200610T021839Z
UID:3394-1593388800-1593475199@kanseinomori.com
SUMMARY:森のにこにこコンサート～いろはカルテット～
DESCRIPTION:※入場者の方が対象のイベントです \n※混雑状況により、入場制限となる場合がございますので予めご了承下さい \n※ご参加されるお客様はマスクの着用、手指の消毒のご協力をお願い致します \n※お客様同士、十分な間隔を空けてのご参加をお願い致します
URL:https://kanseinomori.com/calendar/event/827-2-2-2-2-2-2-2-2-2-3-2-2-2-3-2-2-2-2-2-2-2-3-2-2-2-2-2-2-2-2-2-3-2-2-2-2-2-2-3-2-2-2-2-3-2-2-3-2-3-2-2-2-2-2-2-2-2-3-2-2-2-2-3-2-2-2-2-2-2-2/
CATEGORIES:予約不要,無料
END:VEVENT
BEGIN:VEVENT
DTSTART;VALUE=DATE:20200628
DTEND;VALUE=DATE:20200629
DTSTAMP:20260422T035214
CREATED:20200610T023745Z
LAST-MODIFIED:20200610T023745Z
UID:3794-1593302400-1593388799@kanseinomori.com
SUMMARY:選べるワークショップ
DESCRIPTION:※入場者対象のワークショップです。 \n参加費の他、別途入場料等が必要ですのでご注意下さい \n※店内の混雑状況により、入場制限となる場合がございます。 \nお待ちいただく場合や場合によってはご参加できない可能性もありますので \n予めご了承下さい。家庭でも作成できる、工作キットも販売しておりますので \nぜひお買い求め下さい。 \n※12時~13時は消毒、換気の為一時閉店となりますのでご注意下さい。 \n  \n  \n  \n 
URL:https://kanseinomori.com/calendar/event/%e3%82%aa%e3%83%aa%e3%82%b8%e3%83%8a%e3%83%ab%e3%83%90%e3%83%83%e3%82%af%e3%82%92%e4%bd%9c%e3%82%8d%e3%81%86%ef%bc%81-7-2-2-2-4-2-2-3-4-2-2-2-2-3-3-3-3-2-2-3-3-3-2-2-3-2-2-3-3-3-3-3-3-3-5-3-3-3-3-19-3/
CATEGORIES:予約不要,有料
END:VEVENT
BEGIN:VEVENT
DTSTART;VALUE=DATE:20200627
DTEND;VALUE=DATE:20200628
DTSTAMP:20260422T035214
CREATED:20200610T023707Z
LAST-MODIFIED:20200610T023707Z
UID:3792-1593216000-1593302399@kanseinomori.com
SUMMARY:選べるワークショップ
DESCRIPTION:※入場者対象のワークショップです。 \n参加費の他、別途入場料等が必要ですのでご注意下さい \n※店内の混雑状況により、入場制限となる場合がございます。 \nお待ちいただく場合や場合によってはご参加できない可能性もありますので \n予めご了承下さい。家庭でも作成できる、工作キットも販売しておりますので \nぜひお買い求め下さい。 \n※12時~13時は消毒、換気の為一時閉店となりますのでご注意下さい。 \n  \n  \n  \n 
URL:https://kanseinomori.com/calendar/event/%e3%82%aa%e3%83%aa%e3%82%b8%e3%83%8a%e3%83%ab%e3%83%90%e3%83%83%e3%82%af%e3%82%92%e4%bd%9c%e3%82%8d%e3%81%86%ef%bc%81-7-2-2-2-4-2-2-3-4-2-2-2-2-3-3-3-3-2-2-3-3-3-2-2-3-2-2-3-3-3-3-3-3-3-5-3-3-3-3-19-2/
CATEGORIES:予約不要,有料
END:VEVENT
BEGIN:VEVENT
DTSTART;VALUE=DATE:20200621
DTEND;VALUE=DATE:20200622
DTSTAMP:20260422T035214
CREATED:20200610T023624Z
LAST-MODIFIED:20200610T023624Z
UID:3790-1592697600-1592783999@kanseinomori.com
SUMMARY:選べるワークショップ
DESCRIPTION:※入場者対象のワークショップです。 \n参加費の他、別途入場料等が必要ですのでご注意下さい \n※店内の混雑状況により、入場制限となる場合がございます。 \nお待ちいただく場合や場合によってはご参加できない可能性もありますので \n予めご了承下さい。家庭でも作成できる、工作キットも販売しておりますので \nぜひお買い求め下さい。 \n※12時~13時は消毒、換気の為一時閉店となりますのでご注意下さい。 \n  \n  \n  \n 
URL:https://kanseinomori.com/calendar/event/%e3%82%aa%e3%83%aa%e3%82%b8%e3%83%8a%e3%83%ab%e3%83%90%e3%83%83%e3%82%af%e3%82%92%e4%bd%9c%e3%82%8d%e3%81%86%ef%bc%81-7-2-2-2-4-2-2-3-4-2-2-2-2-3-3-3-3-2-2-3-3-3-2-2-3-2-2-3-3-3-3-3-3-3-5-3-3-3-3-190/
CATEGORIES:予約不要,有料
END:VEVENT
BEGIN:VEVENT
DTSTART;VALUE=DATE:20200620
DTEND;VALUE=DATE:20200621
DTSTAMP:20260422T035214
CREATED:20200610T023555Z
LAST-MODIFIED:20200610T023555Z
UID:3788-1592611200-1592697599@kanseinomori.com
SUMMARY:選べるワークショップ
DESCRIPTION:※入場者対象のワークショップです。 \n参加費の他、別途入場料等が必要ですのでご注意下さい \n※店内の混雑状況により、入場制限となる場合がございます。 \nお待ちいただく場合や場合によってはご参加できない可能性もありますので \n予めご了承下さい。家庭でも作成できる、工作キットも販売しておりますので \nぜひお買い求め下さい。 \n※12時~13時は消毒、換気の為一時閉店となりますのでご注意下さい。 \n  \n  \n  \n 
URL:https://kanseinomori.com/calendar/event/%e3%82%aa%e3%83%aa%e3%82%b8%e3%83%8a%e3%83%ab%e3%83%90%e3%83%83%e3%82%af%e3%82%92%e4%bd%9c%e3%82%8d%e3%81%86%ef%bc%81-7-2-2-2-4-2-2-3-4-2-2-2-2-3-3-3-3-2-2-3-3-3-2-2-3-2-2-3-3-3-3-3-3-3-5-3-3-3-3-18-9/
CATEGORIES:予約不要,有料
END:VEVENT
BEGIN:VEVENT
DTSTART;VALUE=DATE:20200614
DTEND;VALUE=DATE:20200615
DTSTAMP:20260422T035214
CREATED:20200610T023523Z
LAST-MODIFIED:20200610T023523Z
UID:3786-1592092800-1592179199@kanseinomori.com
SUMMARY:選べるワークショップ
DESCRIPTION:※入場者対象のワークショップです。 \n参加費の他、別途入場料等が必要ですのでご注意下さい \n※店内の混雑状況により、入場制限となる場合がございます。 \nお待ちいただく場合や場合によってはご参加できない可能性もありますので \n予めご了承下さい。家庭でも作成できる、工作キットも販売しておりますので \nぜひお買い求め下さい。 \n※12時~13時は消毒、換気の為一時閉店となりますのでご注意下さい。 \n  \n  \n  \n 
URL:https://kanseinomori.com/calendar/event/%e3%82%aa%e3%83%aa%e3%82%b8%e3%83%8a%e3%83%ab%e3%83%90%e3%83%83%e3%82%af%e3%82%92%e4%bd%9c%e3%82%8d%e3%81%86%ef%bc%81-7-2-2-2-4-2-2-3-4-2-2-2-2-3-3-3-3-2-2-3-3-3-2-2-3-2-2-3-3-3-3-3-3-3-5-3-3-3-3-18-8/
CATEGORIES:予約不要,有料
END:VEVENT
BEGIN:VEVENT
DTSTART;VALUE=DATE:20200613
DTEND;VALUE=DATE:20200614
DTSTAMP:20260422T035214
CREATED:20200610T022817Z
LAST-MODIFIED:20200610T022817Z
UID:3783-1592006400-1592092799@kanseinomori.com
SUMMARY:選べるワークショップ
DESCRIPTION:※入場者対象のワークショップです。 \n参加費の他、別途入場料等が必要ですのでご注意下さい \n※店内の混雑状況により、入場制限となる場合がございます。 \nお待ちいただく場合や場合によってはご参加できない可能性もありますので \n予めご了承下さい。家庭でも作成できる、工作キットも販売しておりますので \nぜひお買い求め下さい。 \n※12時~13時は消毒、換気の為一時閉店となりますのでご注意下さい。 \n  \n  \n  \n 
URL:https://kanseinomori.com/calendar/event/%e3%82%aa%e3%83%aa%e3%82%b8%e3%83%8a%e3%83%ab%e3%83%90%e3%83%83%e3%82%af%e3%82%92%e4%bd%9c%e3%82%8d%e3%81%86%ef%bc%81-7-2-2-2-4-2-2-3-4-2-2-2-2-3-3-3-3-2-2-3-3-3-2-2-3-2-2-3-3-3-3-3-3-3-5-3-3-3-3-189/
CATEGORIES:予約不要,有料
END:VEVENT
END:VCALENDAR