BEGIN:VCALENDAR
VERSION:2.0
PRODID:-//木の室内創造あそび場「感性の森」 - ECPv6.13.2.1//NONSGML v1.0//EN
CALSCALE:GREGORIAN
METHOD:PUBLISH
X-WR-CALNAME:木の室内創造あそび場「感性の森」
X-ORIGINAL-URL:https://kanseinomori.com/calendar
X-WR-CALDESC:木の室内創造あそび場「感性の森」 のイベント
REFRESH-INTERVAL;VALUE=DURATION:PT1H
X-Robots-Tag:noindex
X-PUBLISHED-TTL:PT1H
BEGIN:VTIMEZONE
TZID:Asia/Tokyo
BEGIN:STANDARD
TZOFFSETFROM:+0900
TZOFFSETTO:+0900
TZNAME:JST
DTSTART:20190101T000000
END:STANDARD
END:VTIMEZONE
BEGIN:VEVENT
DTSTART;TZID=Asia/Tokyo:20191115T110000
DTEND;TZID=Asia/Tokyo:20191115T113000
DTSTAMP:20260422T004448
CREATED:20191027T013105Z
LAST-MODIFIED:20191103T045147Z
UID:2626-1573815600-1573817400@kanseinomori.com
SUMMARY:森のにこにこたいむ
DESCRIPTION:
URL:https://kanseinomori.com/calendar/event/827-2-2-2-2-2-2-2-2-2-3-2-2-2-3-2-2-2-2-2-2-2-3-2-2-2-2-2-2-2-2-2-3-2-2-2-2-2-2-3-2-2-2-2-3-2-2-3-2-3-2-2-2-2-2-2-2-2-3-2-2/
CATEGORIES:予約不要,無料
END:VEVENT
BEGIN:VEVENT
DTSTART;TZID=Asia/Tokyo:20191111T110000
DTEND;TZID=Asia/Tokyo:20191111T113000
DTSTAMP:20260422T004448
CREATED:20191027T013340Z
LAST-MODIFIED:20191027T013340Z
UID:2638-1573470000-1573471800@kanseinomori.com
SUMMARY:森のぴよぴよたいむ
DESCRIPTION:
URL:https://kanseinomori.com/calendar/event/827-2-2-2-2-2-2-2-2-2-3-2-2-2-3-2-2-2-2-2-2-2-3-2-2-2-2-2-2-2-2-2-3-2-2-2-2-2-2-3-2-2-2-2-3-2-2-2-2-2-2-2-2-2-2-2-2-2-2-2-2-2-2-2/
CATEGORIES:予約不要,無料
END:VEVENT
BEGIN:VEVENT
DTSTART;VALUE=DATE:20191111
DTEND;VALUE=DATE:20191112
DTSTAMP:20260422T004448
CREATED:20191106T033312Z
LAST-MODIFIED:20191106T033312Z
UID:2696-1573430400-1573516799@kanseinomori.com
SUMMARY:平日ワークショップイベント
DESCRIPTION:
URL:https://kanseinomori.com/calendar/event/%e3%82%aa%e3%83%aa%e3%82%b8%e3%83%8a%e3%83%ab%e3%83%90%e3%83%83%e3%82%af%e3%82%92%e4%bd%9c%e3%82%8d%e3%81%86%ef%bc%81-7-2-2-2-4-2-2-3-4-2-2-2-2-3-3-3-3-2-2-3-3-3-2-2-3-2-2-3-3-3-3-3-3-3-5-3-3-3-3-1-99/
CATEGORIES:予約不要,有料
END:VEVENT
BEGIN:VEVENT
DTSTART;VALUE=DATE:20191110
DTEND;VALUE=DATE:20191111
DTSTAMP:20260422T004448
CREATED:20191027T012534Z
LAST-MODIFIED:20191108T081011Z
UID:2612-1573344000-1573430399@kanseinomori.com
SUMMARY:オリジナル貯金箱を作ろう
DESCRIPTION:
URL:https://kanseinomori.com/calendar/event/%e3%82%aa%e3%83%aa%e3%82%b8%e3%83%8a%e3%83%ab%e3%83%90%e3%83%83%e3%82%af%e3%82%92%e4%bd%9c%e3%82%8d%e3%81%86%ef%bc%81-7-2-2-2-4-2-2-3-4-2-2-2-2-3-3-3-3-2-2-3-3-3-2-2-3-2-2-3-3-3-3-3-3-3-5-3-3-3-3-1-86/
CATEGORIES:予約不要,有料
END:VEVENT
BEGIN:VEVENT
DTSTART;VALUE=DATE:20191109
DTEND;VALUE=DATE:20191110
DTSTAMP:20260422T004448
CREATED:20191027T012145Z
LAST-MODIFIED:20191027T012145Z
UID:2597-1573257600-1573343999@kanseinomori.com
SUMMARY:オリジナルパズル／森のキーホルダー／オリジナルバック
DESCRIPTION:
URL:https://kanseinomori.com/calendar/event/%e3%82%aa%e3%83%aa%e3%82%b8%e3%83%8a%e3%83%ab%e3%83%90%e3%83%83%e3%82%af%e3%82%92%e4%bd%9c%e3%82%8d%e3%81%86%ef%bc%81-7-2-2-2-4-2-2-3-4-2-2-2-2-3-3-3-3-2-2-3-3-3-2-2-3-2-2-3-3-3-3-3-3-3-5-3-3-3-3-1-81/
CATEGORIES:予約不要,有料
END:VEVENT
BEGIN:VEVENT
DTSTART;TZID=Asia/Tokyo:20191108T110000
DTEND;TZID=Asia/Tokyo:20191108T113000
DTSTAMP:20260422T004448
CREATED:20191027T012836Z
LAST-MODIFIED:20191103T045235Z
UID:2622-1573210800-1573212600@kanseinomori.com
SUMMARY:森のにこにこたいむ
DESCRIPTION:
URL:https://kanseinomori.com/calendar/event/827-2-2-2-2-2-2-2-2-2-3-2-2-2-3-2-2-2-2-2-2-2-3-2-2-2-2-2-2-2-2-2-3-2-2-2-2-2-2-3-2-2-2-2-3-2-2-3-2-3-2-2-2-2-2-2-2-2-3-2/
CATEGORIES:予約不要,無料
END:VEVENT
BEGIN:VEVENT
DTSTART;TZID=Asia/Tokyo:20191105T110000
DTEND;TZID=Asia/Tokyo:20191105T113000
DTSTAMP:20260422T004448
CREATED:20191027T013315Z
LAST-MODIFIED:20191027T013315Z
UID:2634-1572951600-1572953400@kanseinomori.com
SUMMARY:森のぴよぴよたいむ
DESCRIPTION:
URL:https://kanseinomori.com/calendar/event/827-2-2-2-2-2-2-2-2-2-3-2-2-2-3-2-2-2-2-2-2-2-3-2-2-2-2-2-2-2-2-2-3-2-2-2-2-2-2-3-2-2-2-2-3-2-2-2-2-2-2-2-2-2-2-2-2-2-2-2-2-2-2/
CATEGORIES:予約不要,無料
END:VEVENT
BEGIN:VEVENT
DTSTART;VALUE=DATE:20191104
DTEND;VALUE=DATE:20191105
DTSTAMP:20260422T004448
CREATED:20191027T012508Z
LAST-MODIFIED:20191027T012508Z
UID:2608-1572825600-1572911999@kanseinomori.com
SUMMARY:オリジナル貯金箱を作ろう
DESCRIPTION:
URL:https://kanseinomori.com/calendar/event/%e3%82%aa%e3%83%aa%e3%82%b8%e3%83%8a%e3%83%ab%e3%83%90%e3%83%83%e3%82%af%e3%82%92%e4%bd%9c%e3%82%8d%e3%81%86%ef%bc%81-7-2-2-2-4-2-2-3-4-2-2-2-2-3-3-3-3-2-2-3-3-3-2-2-3-2-2-3-3-3-3-3-3-3-5-3-3-3-3-1-85/
CATEGORIES:予約不要,有料
END:VEVENT
BEGIN:VEVENT
DTSTART;VALUE=DATE:20191103
DTEND;VALUE=DATE:20191104
DTSTAMP:20260422T004448
CREATED:20191027T012409Z
LAST-MODIFIED:20191027T012409Z
UID:2603-1572739200-1572825599@kanseinomori.com
SUMMARY:森のメッセージボードを作ろう
DESCRIPTION:
URL:https://kanseinomori.com/calendar/event/%e3%82%aa%e3%83%aa%e3%82%b8%e3%83%8a%e3%83%ab%e3%83%90%e3%83%83%e3%82%af%e3%82%92%e4%bd%9c%e3%82%8d%e3%81%86%ef%bc%81-7-2-2-2-4-2-2-3-4-2-2-2-2-3-3-3-3-2-2-3-3-3-2-2-3-2-2-3-3-3-3-3-3-3-5-3-3-3-3-1-84/
CATEGORIES:予約不要,有料
END:VEVENT
BEGIN:VEVENT
DTSTART;VALUE=DATE:20191102
DTEND;VALUE=DATE:20191103
DTSTAMP:20260422T004448
CREATED:20191027T012120Z
LAST-MODIFIED:20191027T012120Z
UID:2593-1572652800-1572739199@kanseinomori.com
SUMMARY:オリジナルパズル／森のキーホルダー／オリジナルバック
DESCRIPTION:
URL:https://kanseinomori.com/calendar/event/%e3%82%aa%e3%83%aa%e3%82%b8%e3%83%8a%e3%83%ab%e3%83%90%e3%83%83%e3%82%af%e3%82%92%e4%bd%9c%e3%82%8d%e3%81%86%ef%bc%81-7-2-2-2-4-2-2-3-4-2-2-2-2-3-3-3-3-2-2-3-3-3-2-2-3-2-2-3-3-3-3-3-3-3-5-3-3-3-3-1-80/
CATEGORIES:予約不要,有料
END:VEVENT
BEGIN:VEVENT
DTSTART;TZID=Asia/Tokyo:20191101T110000
DTEND;TZID=Asia/Tokyo:20191101T113000
DTSTAMP:20260422T004448
CREATED:20191027T013223Z
LAST-MODIFIED:20191103T045321Z
UID:2632-1572606000-1572607800@kanseinomori.com
SUMMARY:森のにこにこたいむ
DESCRIPTION:
URL:https://kanseinomori.com/calendar/event/827-2-2-2-2-2-2-2-2-2-3-2-2-2-3-2-2-2-2-2-2-2-3-2-2-2-2-2-2-2-2-2-3-2-2-2-2-2-2-3-2-2-2-2-3-2-2-3-2-3-2-2-2-2-2-2-2-2-3-2-2-2-2-2/
CATEGORIES:予約不要,無料
END:VEVENT
BEGIN:VEVENT
DTSTART;TZID=Asia/Tokyo:20191028T110000
DTEND;TZID=Asia/Tokyo:20191028T113000
DTSTAMP:20260422T004448
CREATED:20190927T083825Z
LAST-MODIFIED:20190927T083825Z
UID:2471-1572260400-1572262200@kanseinomori.com
SUMMARY:森のぴよぴよたいむ
DESCRIPTION:
URL:https://kanseinomori.com/calendar/event/827-2-2-2-2-2-2-2-2-2-3-2-2-2-3-2-2-2-2-2-2-2-3-2-2-2-2-2-2-2-2-2-3-2-2-2-2-2-2-3-2-2-2-2-3-2-2-2-2-2-2-2-2-2-2-2-2-2-2-2-2-2/
CATEGORIES:予約不要,無料
END:VEVENT
BEGIN:VEVENT
DTSTART;VALUE=DATE:20191027
DTEND;VALUE=DATE:20191028
DTSTAMP:20260422T004448
CREATED:20190927T093717Z
LAST-MODIFIED:20190927T093717Z
UID:2517-1572134400-1572220799@kanseinomori.com
SUMMARY:オリジナルパズル／森のキーホルダー／オリジナルバック
DESCRIPTION:
URL:https://kanseinomori.com/calendar/event/%e3%82%aa%e3%83%aa%e3%82%b8%e3%83%8a%e3%83%ab%e3%83%90%e3%83%83%e3%82%af%e3%82%92%e4%bd%9c%e3%82%8d%e3%81%86%ef%bc%81-7-2-2-2-4-2-2-3-4-2-2-2-2-3-3-3-3-2-2-3-3-3-2-2-3-2-2-3-3-3-3-3-3-3-5-3-3-3-3-1-74/
CATEGORIES:予約不要,有料
END:VEVENT
BEGIN:VEVENT
DTSTART;VALUE=DATE:20191026
DTEND;VALUE=DATE:20191027
DTSTAMP:20260422T004448
CREATED:20190927T093956Z
LAST-MODIFIED:20190927T093956Z
UID:2527-1572048000-1572134399@kanseinomori.com
SUMMARY:ハロウィンフレームを作ろう
DESCRIPTION:
URL:https://kanseinomori.com/calendar/event/%e3%82%aa%e3%83%aa%e3%82%b8%e3%83%8a%e3%83%ab%e3%83%90%e3%83%83%e3%82%af%e3%82%92%e4%bd%9c%e3%82%8d%e3%81%86%ef%bc%81-7-2-2-2-4-2-2-3-4-2-2-2-2-3-3-3-3-2-2-3-3-3-2-2-3-2-2-3-3-3-3-3-3-3-5-3-3-3-3-1-77/
CATEGORIES:予約不要,有料
END:VEVENT
BEGIN:VEVENT
DTSTART;TZID=Asia/Tokyo:20191025T113000
DTEND;TZID=Asia/Tokyo:20191025T120000
DTSTAMP:20260422T004448
CREATED:20190927T084208Z
LAST-MODIFIED:20190927T084208Z
UID:2481-1572003000-1572004800@kanseinomori.com
SUMMARY:森のにこにこたいむ
DESCRIPTION:
URL:https://kanseinomori.com/calendar/event/827-2-2-2-2-2-2-2-2-2-3-2-2-2-3-2-2-2-2-2-2-2-3-2-2-2-2-2-2-2-2-2-3-2-2-2-2-2-2-3-2-2-2-2-3-2-2-3-2-3-2-2-2-2-2-2-2-2-3/
CATEGORIES:予約不要,無料
END:VEVENT
BEGIN:VEVENT
DTSTART;VALUE=DATE:20191022
DTEND;VALUE=DATE:20191023
DTSTAMP:20260422T004448
CREATED:20190927T094056Z
LAST-MODIFIED:20190927T094056Z
UID:2529-1571702400-1571788799@kanseinomori.com
SUMMARY:キラキラ万華鏡
DESCRIPTION:
URL:https://kanseinomori.com/calendar/event/%e3%82%aa%e3%83%aa%e3%82%b8%e3%83%8a%e3%83%ab%e3%83%90%e3%83%83%e3%82%af%e3%82%92%e4%bd%9c%e3%82%8d%e3%81%86%ef%bc%81-7-2-2-2-4-2-2-3-4-2-2-2-2-3-3-3-3-2-2-3-3-3-2-2-3-2-2-3-3-3-3-3-3-3-5-3-3-3-3-1-78/
CATEGORIES:予約不要,有料
END:VEVENT
BEGIN:VEVENT
DTSTART;TZID=Asia/Tokyo:20191021T110000
DTEND;TZID=Asia/Tokyo:20191021T113000
DTSTAMP:20260422T004448
CREATED:20190927T083714Z
LAST-MODIFIED:20190927T083721Z
UID:2469-1571655600-1571657400@kanseinomori.com
SUMMARY:森のぴよぴよたいむ
DESCRIPTION:
URL:https://kanseinomori.com/calendar/event/827-2-2-2-2-2-2-2-2-2-3-2-2-2-3-2-2-2-2-2-2-2-3-2-2-2-2-2-2-2-2-2-3-2-2-2-2-2-2-3-2-2-2-2-3-2-2-2-2-2-2-2-2-2-2-2-2-2-2-2-2/
CATEGORIES:予約不要,無料
END:VEVENT
BEGIN:VEVENT
DTSTART;VALUE=DATE:20191020
DTEND;VALUE=DATE:20191021
DTSTAMP:20260422T004448
CREATED:20190927T093927Z
LAST-MODIFIED:20190927T093928Z
UID:2523-1571529600-1571615999@kanseinomori.com
SUMMARY:ハロウィンフレームを作ろう
DESCRIPTION:
URL:https://kanseinomori.com/calendar/event/%e3%82%aa%e3%83%aa%e3%82%b8%e3%83%8a%e3%83%ab%e3%83%90%e3%83%83%e3%82%af%e3%82%92%e4%bd%9c%e3%82%8d%e3%81%86%ef%bc%81-7-2-2-2-4-2-2-3-4-2-2-2-2-3-3-3-3-2-2-3-3-3-2-2-3-2-2-3-3-3-3-3-3-3-5-3-3-3-3-1-76/
CATEGORIES:予約不要,有料
END:VEVENT
BEGIN:VEVENT
DTSTART;VALUE=DATE:20191019
DTEND;VALUE=DATE:20191020
DTSTAMP:20260422T004448
CREATED:20190927T093653Z
LAST-MODIFIED:20190927T093653Z
UID:2515-1571443200-1571529599@kanseinomori.com
SUMMARY:オリジナルパズル／森のキーホルダー／オリジナルバック
DESCRIPTION:
URL:https://kanseinomori.com/calendar/event/%e3%82%aa%e3%83%aa%e3%82%b8%e3%83%8a%e3%83%ab%e3%83%90%e3%83%83%e3%82%af%e3%82%92%e4%bd%9c%e3%82%8d%e3%81%86%ef%bc%81-7-2-2-2-4-2-2-3-4-2-2-2-2-3-3-3-3-2-2-3-3-3-2-2-3-2-2-3-3-3-3-3-3-3-5-3-3-3-3-1-73/
CATEGORIES:予約不要,有料
END:VEVENT
BEGIN:VEVENT
DTSTART;TZID=Asia/Tokyo:20191018T113000
DTEND;TZID=Asia/Tokyo:20191018T120000
DTSTAMP:20260422T004448
CREATED:20190927T084013Z
LAST-MODIFIED:20190927T084123Z
UID:2477-1571398200-1571400000@kanseinomori.com
SUMMARY:森のにこにこたいむ
DESCRIPTION:
URL:https://kanseinomori.com/calendar/event/827-2-2-2-2-2-2-2-2-2-3-2-2-2-3-2-2-2-2-2-2-2-3-2-2-2-2-2-2-2-2-2-3-2-2-2-2-2-2-3-2-2-2-2-3-2-2-3-2-3-2-2-2-2-2-2-2-2/
CATEGORIES:予約不要,無料
END:VEVENT
BEGIN:VEVENT
DTSTART;VALUE=DATE:20191014
DTEND;VALUE=DATE:20191015
DTSTAMP:20260422T004448
CREATED:20190927T093833Z
LAST-MODIFIED:20190927T093833Z
UID:2519-1571011200-1571097599@kanseinomori.com
SUMMARY:もみじとかわいい仲間たち
DESCRIPTION:
URL:https://kanseinomori.com/calendar/event/%e3%82%aa%e3%83%aa%e3%82%b8%e3%83%8a%e3%83%ab%e3%83%90%e3%83%83%e3%82%af%e3%82%92%e4%bd%9c%e3%82%8d%e3%81%86%ef%bc%81-7-2-2-2-4-2-2-3-4-2-2-2-2-3-3-3-3-2-2-3-3-3-2-2-3-2-2-3-3-3-3-3-3-3-5-3-3-3-3-1-75/
CATEGORIES:予約不要,有料
END:VEVENT
BEGIN:VEVENT
DTSTART;VALUE=DATE:20191013
DTEND;VALUE=DATE:20191014
DTSTAMP:20260422T004448
CREATED:20190927T093628Z
LAST-MODIFIED:20190927T093628Z
UID:2513-1570924800-1571011199@kanseinomori.com
SUMMARY:オリジナルパズル／森のキーホルダー／オリジナルバック
DESCRIPTION:
URL:https://kanseinomori.com/calendar/event/%e3%82%aa%e3%83%aa%e3%82%b8%e3%83%8a%e3%83%ab%e3%83%90%e3%83%83%e3%82%af%e3%82%92%e4%bd%9c%e3%82%8d%e3%81%86%ef%bc%81-7-2-2-2-4-2-2-3-4-2-2-2-2-3-3-3-3-2-2-3-3-3-2-2-3-2-2-3-3-3-3-3-3-3-5-3-3-3-3-1-72/
CATEGORIES:予約不要,有料
END:VEVENT
BEGIN:VEVENT
DTSTART;VALUE=DATE:20191012
DTEND;VALUE=DATE:20191013
DTSTAMP:20260422T004448
CREATED:20190927T093404Z
LAST-MODIFIED:20191011T082715Z
UID:2507-1570838400-1570924799@kanseinomori.com
SUMMARY:カボチャおばけを作ろう
DESCRIPTION:～ワークショップイベント時間変更のお知らせ～ \n10/12（土）「カボチャおばけを作ろう」の２回目開催時間を変更いたします。 \n①11:00～12:00 \n②13:30～14:30　⇒　12:30～13:30 \n 
URL:https://kanseinomori.com/calendar/event/%e3%82%aa%e3%83%aa%e3%82%b8%e3%83%8a%e3%83%ab%e3%83%90%e3%83%83%e3%82%af%e3%82%92%e4%bd%9c%e3%82%8d%e3%81%86%ef%bc%81-7-2-2-2-4-2-2-3-4-2-2-2-2-3-3-3-3-2-2-3-3-3-2-2-3-2-2-3-3-3-3-3-3-3-5-3-3-3-3-1-70/
CATEGORIES:予約不要,有料
END:VEVENT
BEGIN:VEVENT
DTSTART;TZID=Asia/Tokyo:20191011T113000
DTEND;TZID=Asia/Tokyo:20191011T120000
DTSTAMP:20260422T004448
CREATED:20190927T084147Z
LAST-MODIFIED:20190927T084147Z
UID:2479-1570793400-1570795200@kanseinomori.com
SUMMARY:森のにこにこたいむ
DESCRIPTION:
URL:https://kanseinomori.com/calendar/event/827-2-2-2-2-2-2-2-2-2-3-2-2-2-3-2-2-2-2-2-2-2-3-2-2-2-2-2-2-2-2-2-3-2-2-2-2-2-2-3-2-2-2-2-3-2-2-3-2-3-2-2-2-2-2-2-2-2-2/
CATEGORIES:予約不要,無料
END:VEVENT
BEGIN:VEVENT
DTSTART;TZID=Asia/Tokyo:20191007T110000
DTEND;TZID=Asia/Tokyo:20191007T113000
DTSTAMP:20260422T004448
CREATED:20190927T083646Z
LAST-MODIFIED:20190927T083646Z
UID:2464-1570446000-1570447800@kanseinomori.com
SUMMARY:森のぴよぴよたいむ
DESCRIPTION:
URL:https://kanseinomori.com/calendar/event/827-2-2-2-2-2-2-2-2-2-3-2-2-2-3-2-2-2-2-2-2-2-3-2-2-2-2-2-2-2-2-2-3-2-2-2-2-2-2-3-2-2-2-2-3-2-2-2-2-2-2-2-2-2-2-2-2-2-2-2/
CATEGORIES:予約不要,無料
END:VEVENT
BEGIN:VEVENT
DTSTART;VALUE=DATE:20191006
DTEND;VALUE=DATE:20191007
DTSTAMP:20260422T004448
CREATED:20190927T093334Z
LAST-MODIFIED:20190927T093335Z
UID:2503-1570320000-1570406399@kanseinomori.com
SUMMARY:カボチャおばけを作ろう
DESCRIPTION:
URL:https://kanseinomori.com/calendar/event/%e3%82%aa%e3%83%aa%e3%82%b8%e3%83%8a%e3%83%ab%e3%83%90%e3%83%83%e3%82%af%e3%82%92%e4%bd%9c%e3%82%8d%e3%81%86%ef%bc%81-7-2-2-2-4-2-2-3-4-2-2-2-2-3-3-3-3-2-2-3-3-3-2-2-3-2-2-3-3-3-3-3-3-3-5-3-3-3-3-1-69/
CATEGORIES:予約不要,有料
END:VEVENT
BEGIN:VEVENT
DTSTART;VALUE=DATE:20191005
DTEND;VALUE=DATE:20191006
DTSTAMP:20260422T004448
CREATED:20190927T093559Z
LAST-MODIFIED:20190927T093559Z
UID:2509-1570233600-1570319999@kanseinomori.com
SUMMARY:オリジナルパズル／森のキーホルダー／オリジナルバック
DESCRIPTION:
URL:https://kanseinomori.com/calendar/event/%e3%82%aa%e3%83%aa%e3%82%b8%e3%83%8a%e3%83%ab%e3%83%90%e3%83%83%e3%82%af%e3%82%92%e4%bd%9c%e3%82%8d%e3%81%86%ef%bc%81-7-2-2-2-4-2-2-3-4-2-2-2-2-3-3-3-3-2-2-3-3-3-2-2-3-2-2-3-3-3-3-3-3-3-5-3-3-3-3-1-71/
CATEGORIES:予約不要,有料
END:VEVENT
BEGIN:VEVENT
DTSTART;TZID=Asia/Tokyo:20191004T113000
DTEND;TZID=Asia/Tokyo:20191004T120000
DTSTAMP:20260422T004448
CREATED:20190927T083944Z
LAST-MODIFIED:20190927T083944Z
UID:2475-1570188600-1570190400@kanseinomori.com
SUMMARY:森のにこにこたいむ
DESCRIPTION:
URL:https://kanseinomori.com/calendar/event/827-2-2-2-2-2-2-2-2-2-3-2-2-2-3-2-2-2-2-2-2-2-3-2-2-2-2-2-2-2-2-2-3-2-2-2-2-2-2-3-2-2-2-2-3-2-2-3-2-3-2-2-2-2-2-2-2/
CATEGORIES:予約不要,無料
END:VEVENT
BEGIN:VEVENT
DTSTART;TZID=Asia/Tokyo:20191002T113000
DTEND;TZID=Asia/Tokyo:20191002T120000
DTSTAMP:20260422T004448
CREATED:20190927T083911Z
LAST-MODIFIED:20190927T083911Z
UID:2473-1570015800-1570017600@kanseinomori.com
SUMMARY:森のにこにこたいむ
DESCRIPTION:
URL:https://kanseinomori.com/calendar/event/827-2-2-2-2-2-2-2-2-2-3-2-2-2-3-2-2-2-2-2-2-2-3-2-2-2-2-2-2-2-2-2-3-2-2-2-2-2-2-3-2-2-2-2-3-2-2-3-2-3-2-2-2-2-2-2/
CATEGORIES:予約不要,無料
END:VEVENT
BEGIN:VEVENT
DTSTART;TZID=Asia/Tokyo:20190930T110000
DTEND;TZID=Asia/Tokyo:20190930T113000
DTSTAMP:20260422T004448
CREATED:20190824T014912Z
LAST-MODIFIED:20190824T014912Z
UID:2388-1569841200-1569843000@kanseinomori.com
SUMMARY:森のぴよぴよたいむ
DESCRIPTION:
URL:https://kanseinomori.com/calendar/event/827-2-2-2-2-2-2-2-2-2-3-2-2-2-3-2-2-2-2-2-2-2-3-2-2-2-2-2-2-2-2-2-3-2-2-2-2-2-2-3-2-2-2-2-3-2-2-2-2-2-2-2-2-2-2-2-2-2-2/
CATEGORIES:予約不要,無料
END:VEVENT
END:VCALENDAR